Workbook

Sheet Tháng 01
B1: BÁO CÁO TIẾN ĐỘ MỞ ĐIỂM BÁN HEO SẠCH C.P VIỆT NAM
B2: Ngày : 29/1/2019
B4: Khu Vực | C4: Số cửa hàng đầu tháng | G4: Tổng C.P + CH Khác | H4: Số cửa hàng mở tháng 1 năm 2019 | L4: Tổng Số Cửa Hàng Khác | R4: CH Khác | S4: Tổng C.P + CH Khác | T4: 1 | U4: 2 | V4: 3 | W4: 4 | X4: 5 | Y4: 6 | Z4: 7 | AA4: 8 | AB4: 9 | AC4: 10 | AD4: 11 | AE4: 12 | AF4: 13 | AG4: 14 | AH4: 15 | AI4: 16 | AJ4: 17 | AK4: 18 | AL4: 19 | AM4: 20 | AN4: 21 | AO4: 22 | AP4: 23 | AQ4: 24 | AR4: 25 | AS4: 26 | AT4: 27 | AU4: 28 | AV4: 29 | AW4: 30 | AX4: 31 | AY4: Tong
C5: Tổng Mở CH | D5: Ngưng HĐ | E5: Tổng CH HĐ | F5: CH Khác | G5: Đang hoạt động | H5: ="Ngày "&LEFT(RIGHT(B2,11),6)&"/19" -> Ngày : 29/1/19 | I5: Tích lũy Act. | J5: Tích lũy Budget | K5: % Act/Bud. | L5: Tổng Mở CH | M5: Ngưng HĐ | N5: Tổng CH HĐ | O5: Budget 2019 | P5: Act.2019 | Q5: % Act/Bud. | S5: Đang hoạt động | T5: truyen thong | U5: pork shop | AY5: =SUM(T5:AX5) -> 0
B6: S1 | C6: 68 | E6: =+C6-D6 -> 68 | F6: 10 | G6: =+E6+F6 -> 78 | I6: =AY6 -> 4 | J6: 7 | K6: =IF(I6=0,0,I6/J6) -> 0.57142857 | L6: =+E6+I6 -> 72 | N6: =L6-M6 -> 72 | O6: 84 | P6: =+AY6 -> 4 | Q6: =IF(P6=0,0,P6/O6) -> 0.047619048 | R6: 10 | S6: =+R6+N6 -> 82 | AF6: 1 | AM6: 1 | AR6: 1 | AT6: 1 | AY6: =SUM(T6:AX6) -> 4
B7: S2 | C7: 27 | E7: =+C7-D7 -> 27 | G7: =+E7+F7 -> 27 | I7: 4 | J7: 10 | K7: =IF(I7=0,0,I7/J7) -> 0.4 | L7: =+E7+I7 -> 31 | N7: =L7-M7 -> 31 | O7: 106 | P7: =+AY7 -> 4 | Q7: =IF(P7=0,0,P7/O7) -> 0.037735849 | S7: =+R7+N7 -> 31 | Y7: 1 | AG7: 1 | AI7: 1 | AR7: 1 | AY7: =SUM(T7:AX7) -> 4
B8: S3 | C8: 64 | E8: =+C8-D8 -> 64 | G8: =+E8+F8 -> 64 | I8: =AY8 -> 0 | J8: 9 | K8: =IF(I8=0,0,I8/J8) -> 0 | L8: =+E8+I8 -> 64 | N8: =L8-M8 -> 64 | O8: 102 | P8: =+AY8 -> 0 | Q8: =IF(P8=0,0,P8/O8) -> 0 | S8: =+R8+N8 -> 64 | AY8: =SUM(T8:AX8) -> 0
B9: S4 | C9: 110 | E9: =+C9-D9 -> 110 | F9: 1 | G9: =+E9+F9 -> 111 | H9: 1 | I9: =AY9 -> 2 | J9: 9 | K9: =IF(I9=0,0,I9/J9) -> 0.22222222 | L9: =+E9+I9 -> 112 | N9: =L9-M9 -> 112 | O9: 160 | P9: =+AY9 -> 2 | Q9: =IF(P9=0,0,P9/O9) -> 0.0125 | R9: 1 | S9: =+R9+N9 -> 113 | AA9: 1 | AV9: 1 | AY9: =SUM(T9:AX9) -> 2
B10: C1 | C10: 26 | E10: =+C10-D10 -> 26 | G10: =+E10+F10 -> 26 | I10: =AY10 -> 0 | J10: 2 | K10: =IF(I10=0,0,I10/J10) -> 0 | L10: =+E10+I10 -> 26 | N10: =L10-M10 -> 26 | O10: 71 | P10: =+AY10 -> 0 | Q10: =IF(P10=0,0,P10/O10) -> 0 | S10: =+R10+N10 -> 26 | AY10: =SUM(T10:AX10) -> 0
B11: C2 | C11: 32 | E11: =+C11-D11 -> 32 | G11: =+E11+F11 -> 32 | I11: =AY11 -> 4 | J11: 9 | K11: =IF(I11=0,0,I11/J11) -> 0.44444444 | L11: =+E11+I11 -> 36 | N11: =L11-M11 -> 36 | O11: 60 | P11: =+AY11 -> 4 | Q11: =IF(P11=0,0,P11/O11) -> 0.066666667 | S11: =+R11+N11 -> 36 | Z11: 1 | AG11: 1 | AK11: 2 | AY11: =SUM(T11:AX11) -> 4
B12: C3 | C12: 13 | E12: =+C12-D12 -> 13 | G12: =+E12+F12 -> 13 | I12: =AY12 -> 1 | J12: 3 | K12: =IF(I12=0,0,I12/J12) -> 0.33333333 | L12: =+E12+I12 -> 14 | N12: =L12-M12 -> 14 | O12: 36 | P12: =+AY12 -> 1 | Q12: =IF(P12=0,0,P12/O12) -> 0.027777778 | S12: =+R12+N12 -> 14 | AE12: 1 | AY12: =SUM(T12:AX12) -> 1
B13: N1 | C13: 22 | E13: =+C13-D13 -> 22 | G13: =+E13+F13 -> 22 | I13: =AY13 -> 0 | J13: 3 | K13: =IF(I13=0,0,I13/J13) -> 0 | L13: =+E13+I13 -> 22 | N13: =L13-M13 -> 22 | O13: 31 | P13: =+AY13 -> 0 | Q13: =IF(P13=0,0,P13/O13) -> 0 | S13: =+R13+N13 -> 22 | AY13: =SUM(T13:AX13) -> 0
B14: N2 | C14: 49 | E14: =+C14-D14 -> 49 | G14: =+E14+F14 -> 49 | I14: =AY14 -> 0 | J14: 3 | K14: =IF(I14=0,0,I14/J14) -> 0 | L14: =+E14+I14 -> 49 | N14: =L14-M14 -> 49 | O14: 50 | P14: =+AY14 -> 0 | Q14: =IF(P14=0,0,P14/O14) -> 0 | S14: =+R14+N14 -> 49 | AY14: =SUM(T14:AX14) -> 0
B15: SWINE HÀ NỘI | C15: 76 | E15: =+C15-D15 -> 76 | F15: 10 | G15: =+E15+F15 -> 86 | I15: =AY15 -> 3 | J15: 10 | K15: =IF(I15=0,0,I15/J15) -> 0.3 | L15: =+E15+I15 -> 79 | N15: =L15-M15 -> 79 | O15: 120 | P15: =+AY15 -> 3 | Q15: =IF(P15=0,0,P15/O15) -> 0.025 | R15: 16 | S15: =+R15+N15 -> 95 | V15: 1 | AM15: 1 | AS15: 1 | AY15: =SUM(T15:AX15) -> 3
B16: SWINE HCM 1.2 | C16: 25 | E16: =+C16-D16 -> 25 | G16: =+E16+F16 -> 25 | I16: =AY16 -> 1 | J16: 7 | K16: =IF(I16=0,0,I16/J16) -> 0.14285714 | L16: =+E16+I16 -> 26 | N16: =L16-M16 -> 26 | O16: 90 | P16: =+AY16 -> 1 | Q16: =IF(P16=0,0,P16/O16) -> 0.011111111 | S16: =+R16+N16 -> 26 | X16: 1 | AY16: =SUM(T16:AX16) -> 1
B17: SWINE HCM 3 | C17: 4 | E17: =+C17-D17 -> 4 | G17: =+E17+F17 -> 4 | I17: =AY17 -> 0 | J17: 2 | K17: =IF(I17=0,0,I17/J17) -> 0 | L17: =+E17+I17 -> 4 | N17: =L17-M17 -> 4 | O17: 24 | P17: =+AY17 -> 0 | Q17: =IF(P17=0,0,P17/O17) -> 0 | S17: =+R17+N17 -> 4 | AY17: =SUM(T17:AX17) -> 0
B18: SWINE HCM 4 | C18: 0 | E18: =+C18-D18 -> 0 | G18: =+E18+F18 -> 0 | I18: =AY18 -> 0 | J18: 0 | K18: =IF(I18=0,0,I18/J18) -> 0 | L18: =+E18+I18 -> 0 | N18: =L18-M18 -> 0 | O18: 0 | P18: =+AY18 -> 0 | Q18: =IF(P18=0,0,P18/O18) -> 0 | S18: =+R18+N18 -> 0 | AY18: =SUM(T18:AX18) -> 0
B19: TỔNG | C19: =SUM(C6:C18) -> 516 | D19: =SUM(D6:D18) -> 0 | E19: =+C19-D19 -> 516 | F19: 21 | G19: =SUM(G6:G18) -> 537 | H19: =SUM(H6:H18) -> 1 | I19: =SUM(I6:I18) -> 19 | J19: =SUM(J6:J18) -> 74 | K19: =IF(I19=0,0,I19/J19) -> 0.25675676 | L19: =SUM(L6:L18) -> 535 | M19: =SUM(M6:M18) -> 0 | N19: =SUM(N6:N18) -> 535 | O19: =SUM(O6:O18) -> 934 | P19: =SUM(P6:P18) -> 19 | Q19: =IF(P19=0,0,P19/O19) -> 0.020342612 | R19: =SUM(R6:R18) -> 27 | S19: =SUM(S6:S18) -> 562 | T19: =SUM(T6:T18) -> 0 | U19: =SUM(U6:U18) -> 0 | V19: =SUM(V6:V18) -> 1 | W19: =SUM(W6:W18) -> 0 | X19: =SUM(X6:X18) -> 1 | Y19: =SUM(Y6:Y18) -> 1 | ... AY19: =SUM(AY6:AY18) -> 19
B21: chủ cửa hàng
B22: Khu Vực
B24: S1 | H24: =39-13+26 -> 52
B25: S2 | H25: 25
B26: S3 | H26: =7+25+13 -> 45
B27: S4 | H27: 81
B28: C1 | H28: 20
B29: C2 | H29: 31
B30: C3 | H30: 13
B31: N1 | H31: 49
B32: N2 | H32: 22
B33: SWINE HÀ NỘI | H33: 76
B34: SWINE HCM 1.2 | H34: 23
B35: SWINE HCM 3
B36: SWINE HCM 4
B37: TỔNG | H37: =SUM(H24:H36) -> 437

Sheet Tháng 02
B1: BÁO CÁO TIẾN ĐỘ MỞ ĐIỂM BÁN HEO SẠCH C.P VIỆT NAM
B3: Ngày : 28/2/2019
B4: Khu Vực | C4: Số cửa hàng đầu tháng | G4: Tổng C.P + CH Khác | H4: Số cửa hàng mở tháng 2 năm 2019 | L4: Tổng Số Cửa Hàng Khác | R4: CH Khác | S4: Tổng C.P + CH Khác | T4: 1 | U4: 2 | V4: 3 | W4: 4 | X4: 5 | Y4: 6 | Z4: 7 | AA4: 8 | AB4: 9 | AC4: 10 | AD4: 11 | AE4: 12 | AF4: 13 | AG4: 14 | AH4: 15 | AI4: 16 | AJ4: 17 | AK4: 18 | AL4: 19 | AM4: 20 | AN4: 21 | AO4: 22 | AP4: 23 | AQ4: 24 | AR4: 25 | AS4: 26 | AT4: 27 | AU4: 28 | AV4: 29 | AW4: 30 | AX4: 31 | AY4: Tong
C5: Tổng Mở CH | D5: Ngưng HĐ | E5: Tổng CH HĐ | F5: CH Khác | G5: Đang hoạt động | H5: ="Ngày "&LEFT(RIGHT(B3,11),6)&"/19" -> Ngày : 28/2/19 | I5: Tích lũy Act. | J5: Tích lũy Budget | K5: % Act/Bud. | L5: Tổng Mở CH | M5: Ngưng HĐ | N5: Tổng CH HĐ | O5: Budget 2019 | P5: Act.2019 | Q5: % Act/Bud. | S5: Đang hoạt động | AY5: =SUM(T5:AX5) -> 0
B6: S1 | C6: 72 | D6: 14 | E6: =+C6-D6 -> 58 | F6: 10 | G6: =+E6+F6 -> 68 | H6: 1 | I6: =AY6 -> 1 | J6: 7 | K6: =IF(I6=0,0,I6/J6) -> 0.14285714 | L6: =+E6+I6 -> 59 | N6: =L6-M6 -> 59 | O6: 84 | P6: =+AY6 -> 1 | Q6: =IF(P6=0,0,P6/O6) -> 0.011904762 | R6: 10 | S6: =+R6+N6 -> 69 | AU6: 1 | AY6: =SUM(T6:AX6) -> 1
B7: S2 | C7: 31 | E7: =+C7-D7 -> 31 | G7: =+E7+F7 -> 31 | I7: =AY7 -> 0 | J7: 7 | K7: =IF(I7=0,0,I7/J7) -> 0 | L7: =+E7+I7 -> 31 | N7: =L7-M7 -> 31 | O7: 106 | P7: =+AY7 -> 0 | Q7: =IF(P7=0,0,P7/O7) -> 0 | S7: =+R7+N7 -> 31 | AY7: =SUM(T7:AX7) -> 0
B8: S3 | C8: 64 | E8: =+C8-D8 -> 64 | G8: =+E8+F8 -> 64 | I8: =AY8 -> 0 | J8: 7 | K8: =IF(I8=0,0,I8/J8) -> 0 | L8: =+E8+I8 -> 64 | N8: =L8-M8 -> 64 | O8: 102 | P8: =+AY8 -> 0 | Q8: =IF(P8=0,0,P8/O8) -> 0 | S8: =+R8+N8 -> 64 | AY8: =SUM(T8:AX8) -> 0
B9: S4 | C9: 112 | E9: =+C9-D9 -> 112 | F9: 1 | G9: =+E9+F9 -> 113 | H9: 1 | I9: =AY9 -> 4 | J9: 9 | K9: =IF(I9=0,0,I9/J9) -> 0.44444444 | L9: =+E9+I9 -> 116 | M9: 47 | N9: =L9-M9 -> 69 | O9: 160 | P9: =+AY9 -> 4 | Q9: =IF(P9=0,0,P9/O9) -> 0.025 | R9: 1 | S9: =+R9+N9 -> 70 | AH9: 1 | AK9: 1 | AM9: 1 | AU9: 1 | AY9: =SUM(T9:AX9) -> 4
B10: C1 | C10: 26 | E10: =+C10-D10 -> 26 | G10: =+E10+F10 -> 26 | I10: =AY10 -> 0 | J10: 4 | K10: =IF(I10=0,0,I10/J10) -> 0 | L10: =+E10+I10 -> 26 | N10: =L10-M10 -> 26 | O10: 71 | P10: =+AY10 -> 0 | Q10: =IF(P10=0,0,P10/O10) -> 0 | S10: =+R10+N10 -> 26 | AY10: =SUM(T10:AX10) -> 0
B11: C2 | C11: 36 | E11: =+C11-D11 -> 36 | G11: =+E11+F11 -> 36 | I11: =AY11 -> 1 | J11: 3 | K11: =IF(I11=0,0,I11/J11) -> 0.33333333 | L11: =+E11+I11 -> 37 | N11: =L11-M11 -> 37 | O11: 60 | P11: =+AY11 -> 1 | Q11: =IF(P11=0,0,P11/O11) -> 0.016666667 | S11: =+R11+N11 -> 37 | U11: 1 | AY11: =SUM(T11:AX11) -> 1
B12: C3 | C12: 14 | E12: =+C12-D12 -> 14 | G12: =+E12+F12 -> 14 | I12: =AY12 -> 0 | J12: 1 | K12: =IF(I12=0,0,I12/J12) -> 0 | L12: =+E12+I12 -> 14 | N12: =L12-M12 -> 14 | O12: 36 | P12: =+AY12 -> 0 | Q12: =IF(P12=0,0,P12/O12) -> 0 | S12: =+R12+N12 -> 14 | AY12: =SUM(T12:AX12) -> 0
B13: N1 | C13: 22 | E13: =+C13-D13 -> 22 | G13: =+E13+F13 -> 22 | I13: =AY13 -> 0 | J13: 0 | K13: =IF(I13=0,0,I13/J13) -> 0 | L13: =+E13+I13 -> 22 | N13: =L13-M13 -> 22 | O13: 31 | P13: =+AY13 -> 0 | Q13: =IF(P13=0,0,P13/O13) -> 0 | S13: =+R13+N13 -> 22 | AY13: =SUM(T13:AX13) -> 0
B14: N2 | C14: 49 | E14: =+C14-D14 -> 49 | G14: =+E14+F14 -> 49 | I14: =AY14 -> 0 | J14: 1 | K14: =IF(I14=0,0,I14/J14) -> 0 | L14: =+E14+I14 -> 49 | N14: =L14-M14 -> 49 | O14: 50 | P14: =+AY14 -> 0 | Q14: =IF(P14=0,0,P14/O14) -> 0 | S14: =+R14+N14 -> 49 | AY14: =SUM(T14:AX14) -> 0
B15: SWINE HÀ NỘI | C15: 79 | E15: =+C15-D15 -> 79 | F15: 16 | G15: =+E15+F15 -> 95 | I15: =AY15 -> 1 | J15: 10 | K15: =IF(I15=0,0,I15/J15) -> 0.1 | L15: =+E15+I15 -> 80 | N15: =L15-M15 -> 80 | O15: 120 | P15: =+AY15 -> 1 | Q15: =IF(P15=0,0,P15/O15) -> 0.0083333333 | R15: 16 | S15: =+R15+N15 -> 96 | AQ15: 1 | AY15: =SUM(T15:AX15) -> 1
B16: SWINE HCM 1.2 | C16: 26 | E16: =+C16-D16 -> 26 | G16: =+E16+F16 -> 26 | I16: =AY16 -> 1 | J16: 7 | K16: =IF(I16=0,0,I16/J16) -> 0.14285714 | L16: =+E16+I16 -> 27 | N16: =L16-M16 -> 27 | O16: 90 | P16: =+AY16 -> 1 | Q16: =IF(P16=0,0,P16/O16) -> 0.011111111 | S16: =+R16+N16 -> 27 | AP16: 1 | AY16: =SUM(T16:AX16) -> 1
B17: SWINE HCM 3 | C17: 4 | E17: =+C17-D17 -> 4 | G17: =+E17+F17 -> 4 | I17: =AY17 -> 0 | J17: 2 | K17: =IF(I17=0,0,I17/J17) -> 0 | L17: =+E17+I17 -> 4 | N17: =L17-M17 -> 4 | O17: 24 | P17: =+AY17 -> 0 | Q17: =IF(P17=0,0,P17/O17) -> 0 | S17: =+R17+N17 -> 4 | AY17: =SUM(T17:AX17) -> 0
B18: SWINE HCM 4 | C18: 0 | E18: =+C18-D18 -> 0 | G18: =+E18+F18 -> 0 | I18: =AY18 -> 0 | J18: 0 | K18: =IF(I18=0,0,I18/J18) -> 0 | L18: =+E18+I18 -> 0 | N18: =L18-M18 -> 0 | O18: 0 | P18: =+AY18 -> 0 | Q18: =IF(P18=0,0,P18/O18) -> 0 | S18: =+R18+N18 -> 0 | AY18: =SUM(T18:AX18) -> 0
B19: TỔNG | C19: =SUM(C6:C18) -> 535 | D19: =SUM(D6:D18) -> 14 | E19: =+C19-D19 -> 521 | F19: =SUM(F6:F18) -> 27 | G19: =SUM(G6:G18) -> 548 | H19: =SUM(H6:H18) -> 2 | I19: =SUM(I6:I18) -> 8 | J19: =SUM(J6:J18) -> 58 | K19: =IF(I19=0,0,I19/J19) -> 0.13793103 | L19: =SUM(L6:L18) -> 529 | M19: =SUM(M6:M18) -> 47 | N19: =SUM(N6:N18) -> 482 | O19: =SUM(O6:O18) -> 934 | P19: =SUM(P6:P18) -> 8 | Q19: =IF(P19=0,0,P19/O19) -> 0.0085653105 | R19: =SUM(R6:R18) -> 27 | S19: =SUM(S6:S18) -> 509 | T19: =SUM(T6:T18) -> 0 | U19: =SUM(U6:U18) -> 1 | V19: =SUM(V6:V18) -> 0 | W19: =SUM(W6:W18) -> 0 | X19: =SUM(X6:X18) -> 0 | Y19: =SUM(Y6:Y18) -> 0 | ... AY19: =SUM(AY6:AY18) -> 8
B21: chủ cửa hàng
B22: Khu Vực
B24: S1 | H24: =39-13+26 -> 52
B25: S2 | H25: 25
B26: S3 | H26: =7+25+13 -> 45
B27: S4 | H27: 81
B28: C1 | H28: 20
B29: C2 | H29: 31
B30: C3 | H30: 13
B31: N1 | H31: 49
B32: N2 | H32: 22
B33: SWINE HÀ NỘI | H33: 76
B34: SWINE HCM 1.2 | H34: 23
B35: SWINE HCM 3
B36: SWINE HCM 4
B37: TỔNG | H37: =SUM(H24:H36) -> 437

Sheet HOẠT ĐỘNG
A1: C.P. Vietnam Corporation
A3: Danh Sách Cửa Hàng Bán Heo Mảnh Chi Nhánh Đồng Nai (Lưu ý: Cửa hàng nào không khai trương vẫn cho vào danh sách nhưng không tính là 1 cửa hàng)
B5: Tên Khách hàng | C5: Tên Cửa Hàng | D5: Địa Chỉ | E5: Số điện thoại
A6: 1 | B6: Huỳnh Thị Mỹ Hạnh | C6: Mỹ Hạnh | D6: 128A,Tổ 6,KP3,Phường Long Bình Tân,Biên Hòa,Đồng Nai | E6: 0967649771
A7: 2 | B7: Trần Văn Sơn | C7: Ngọc Anh | D7: 8A, Tổ 7, KP 3, Phường Tân Hiệp, Biên Hòa, Đồng Nai | E7: 0964454940
A8: 3 | B8: Phùng Thị Mến | C8: Thành Mến | D8: Chợ K8, Phường Long Bình, Biên Hòa, Đồng Nai | E8: 0902798929
A9: 4 | B9: Cty TNHH MTV Trường Giang Phát | C9: Thanh Niên Nông Nghiệp | D9: Số 5, Đường Đồng Khởi, KP3, Phường Tân Hiệp, TP Biên Hòa, T Đồng Nai | E9: 0977996199
A10: 5 | B10: Cty TNHH MTV Trường Giang Phát | C10: Điểm Bán Sản Phẩm Bưu Điện và Thực Phẩm An Toàn HaLa | D10: Kiot 4 và 5 số 33, Đường Nguyễn Ái Quốc, Phường Quang Vinh, TP Biên Hòa, Đồng Nai | E10: 0977996199
A11: 6 | B11: Cty TNHH MTV Trường Giang Phát | C11: Cửa Hàng Thực Phẩm LH | D11: 138 Đường Đồng Khởi, Phường Tân Hiệp, TP Biên Hòa, Đồng Nai | E11: 0977996199
A12: 7 | B12: Đỗ Thị Kim Hằng | C12: Tấn Hằng | D12: Tổ 17 - khu Văn Hải - TT Long Thành - Long Thành - Đồng Nai | E12: 0919747609
A13: 8 | B13: Đỗ Thị Quỳnh Phương | C13: Phi Long | D13: TỔ 11, KHU PHỐ 4, P TRẢNG DÀI, TP BIÊN HÒA, ĐN | E13: 0912869207
A14: 9 | B14: Trần Văn Tín | C14: Đại Phát | D14: 04A3, KP 11, P.Tân Phong, TP.Biên Hòa, Đồng Nai | E14: 0937195657
A15: 10 | B15: Nguyễn Trần Tuấn Linh | C15: Cô Hồng | D15: Sạp B139, Chợ Biên Hòa, P Hòa Bình, Biên Hòa, Đồng Nai | E15: 0908227080
A16: 11 | B16: Thái Bá Hùng | C16: Lê Uyển | D16: Ấp Tân Phát, Xã Đồi 61. Trảng bom . Đông Nai | E16: 0358409771
A17: 12 | B17: Lê Trung Hiếu | C17: Hoàng Phố 2 | D17: số 111 đường 2/9 KP5-TT Trảng Bom - Đồng Nai | E17: 0931272599
... A43: 38 | B43: Công ty TNHH Thương Mại Và Dịch Vụ Ngọc An Thá | C43: AN THÁI 1 | D43: Lô số 10, Nguyễn Thị Tồn, KP2, Phường Bửu Hòa, TP Biên Hòa, Đồng Nai | E43: 0917268182
E57: 3
E58: 11
E59: =SUM(E57:E58) -> 14

Sheet ĐN LẤY BD
A1: HỢP ĐỒNG LẤY HEO GIA CÔNG BÌNH DƯƠNG
A2: STT | B2: CODE KH | C2: TÊN KH | D2: SỐ HỢP ĐỒNG | E2: SẾP KÝ
A3: 1 | B3: 2000033290 | C3: Trần Văn Sơn | D3: 002HDHMGCBD2020-CPVN | E3: HỮU TRÍ
A4: 2 | B4: 2000034038 | C4: Phùng Thị Mến | D4: 004HDHMGCBD2020-CPVN | E4: HỮU TRÍ
A5: 3 | B5: 2000032974 | C5: Trần Văn Tín | D5: 006HDHMGCBD2020-CPVN | E5: HỮU TRÍ
A6: 4 | B6: 2000033563 | C6: Nguyễn Trần Tuấn Linh | D6: 007HDHMGCBD2020-CPVN | E6: HỮU TRÍ
A7: 5 | B7: 2000036587 | C7: Thái Bá Hùng | D7: 010HDHMGCBD2020-CPVN | E7: HỮU TRÍ
A8: 6 | B8: 2000037589 | C8: Nguyễn Đức Tám | D8: 012HDHMGCBD2020-CPVN | E8: HỮU TRÍ
A9: 7 | B9: 2000033628 | C9: Phạm Thành Hiếu | D9: 014HDHMGCBD2020-CPVN | E9: HỮU TRÍ
A10: 8 | B10: 2000033769 | C10: Phạm Ngọc Thạch | D10: 016HDHMGCBD2020-CPVN | E10: HỮU TRÍ
A11: 9 | B11: 2000037588 | C11: Hoàng Văn Hào | D11: 017HDHMGCBD2020-CPVN | E11: HỮU TRÍ
A12: 10 | B12: 2000038885 | C12: Vưu Ngọc Dung | D12: 003HDHMGCBD2020-CPVN | E12: HỮU TRÍ
A13: 11 | B13: 2000034392 | C13: Phạm Thị Nhung | D13: 008HDHMGCBD2020-CPVN | E13: HỮU TRÍ
A14: 12 | B14: 2000037954 | C14: Lê Trung Hiếu | D14: 0HD9HM/CPVN | E14: THAMARONG
A15: 13 | B15: 2000032411 | C15: Huỳnh Thị Mỹ Hạnh | D15: 18/HDHMSW/CPVN | E15: THAMARONG
A16: 14 | B16: 2000036484 | C16: Nguyễn Thị Kim Oanh | D16: 03/HDHMSW/CPVN | E16: THAMARONG
... A47: 45 | B47: 2000039958 | C47: Bùi Thị Thúy Nhi | D47: 129HĐMB/SWB | E47: KOMON

Sheet tháng 6
A2: PORKSHOP BY CHANNEL
A3: Area | B3: Total shop open June | C3: Traditional Market | E3: Traditional Shop | G3: CP Pork shop | I3: DC | K3: Total shop
C4: shop | D4: % | E4: shop | F4: % | G4: shop | H4: % | I4: shop | J4: % | K4: Total shop | L4: No shop action | M4: No shop action | Q4: No shop stop | T4: No shop stop
M5: DC | N5: Traditional Market | O5: Traditional Shop | P5: CP Pork shop | Q5: Traditional Market | R5: Traditional Shop | S5: CP Pork shop
A6: Đồng Nai | B6: =+C6+E6+G6+I6 -> 4 | D6: 0 | E6: 1 | F6: 0 | G6: 3 | H6: 0 | J6: 0 | K6: =+L6+T6 -> 58 | L6: =+SUM(M6:P6) -> 41 | M6: 1 | O6: 27 | P6: 13 | R6: 16 | S6: 1 | T6: =+SUM(Q6:S6) -> 17
A7: Bình Dương | B7: =+C7+E7+G7+I7 -> 2 | D7: 0 | E7: 2 | F7: 0 | H7: 0 | J7: 0 | K7: =+L7+T7 -> 50 | L7: =+SUM(M7:P7) -> 26 | N7: 14 | O7: 9 | P7: 3 | Q7: 4 | R7: 19 | S7: 1 | T7: =+SUM(Q7:S7) -> 24
A8: Int - S1 | B8: =+SUM(B6:B7) -> 6 | C8: =+SUM(C6:C7) -> 0 | D8: =+C8/B8 -> 0 | E8: =+SUM(E6:E7) -> 3 | F8: =+E8/B8 -> 0.5 | G8: =+SUM(G6:G7) -> 3 | H8: =+G8/B8 -> 0.5 | I8: =+SUM(I6:I7) -> 0 | J8: =+I8/B8 -> 0 | K8: =+L8+T8 -> 108 | L8: =+SUM(L6:L7) -> 67 | M8: =+SUM(M6:M7) -> 1 | N8: =+SUM(N6:N7) -> 14 | O8: =+SUM(O6:O7) -> 36 | P8: =+SUM(P6:P7) -> 16 | Q8: =+SUM(Q6:Q7) -> 4 | R8: =+SUM(R6:R7) -> 35 | S8: =+SUM(S6:S7) -> 2 | T8: =+SUM(Q8:S8) -> 41
A9: SW - S | B9: =+C9+E9+G9+I9 -> 5 | C9: 4 | D9: =+C9/B9 -> 0.8 | F9: =+E9/B9 -> 0 | G9: 1 | H9: =+G9/B9 -> 0.2 | I9: 0 | J9: =+I9/B9 -> 0 | K9: =+L9+T9 -> 51 | L9: =+SUM(M9:P9) -> 46 | M9: 1 | N9: 17 | O9: 8 | P9: 20 | Q9: 2 | R9: 1 | S9: 2 | T9: =+SUM(Q9:S9) -> 5
A10: SW - S1 | B10: =+SUM(B9:B9) -> 5 | C10: =+SUM(C9:C9) -> 4 | D10: =+C10/B10 -> 0.8 | E10: =+SUM(E9:E9) -> 0 | F10: =+E10/B10 -> 0 | G10: =+SUM(G9:G9) -> 1 | H10: =+G10/B10 -> 0.2 | I10: =+SUM(I9:I9) -> 0 | J10: =+I10/B10 -> 0 | K10: =+L10+T10 -> 51 | L10: =+SUM(L9:L9) -> 46 | M10: =+SUM(M9:M9) -> 1 | N10: =+SUM(N9:N9) -> 17 | O10: =+SUM(O9:O9) -> 8 | P10: =+SUM(P9:P9) -> 20 | Q10: =+SUM(Q9:Q9) -> 2 | R10: =+SUM(R9:R9) -> 1 | S10: =+SUM(S9:S9) -> 2 | T10: =+SUM(Q10:S10) -> 5
A11: Int -SW S1 | B11: =+B10+B8 -> 11 | C11: =+C10+C8 -> 4 | D11: =+C11/B11 -> 0.36363636 | E11: =+E10+E8 -> 3 | F11: =+E11/B11 -> 0.27272727 | G11: =+G10+G8 -> 4 | H11: =+G11/B11 -> 0.36363636 | I11: =+I10+I8 -> 0 | J11: =+I11/B11 -> 0 | K11: =+L11+T11 -> 159 | L11: =+L8+L10 -> 113 | M11: =+M8+M10 -> 2 | N11: =+N8+N10 -> 31 | O11: =+O8+O10 -> 44 | P11: =+P8+P10 -> 36 | Q11: =+Q8+Q10 -> 6 | R11: =+R8+R10 -> 36 | S11: =+S8+S10 -> 4 | T11: =+SUM(Q11:S11) -> 46
Q12: =+Q11/T11 -> 0.13043478 | R12: =+R11/T11 -> 0.7826087 | S12: =+S11/T11 -> 0.086956522

Sheet tháng 7
A2: PORKSHOP BY CHANNEL
A3: Area | B3: Total shop open July | C3: Traditional Market | E3: Traditional Shop | G3: CP Pork shop | I3: DC | K3: Total shop
C4: shop | D4: % | E4: shop | F4: % | G4: shop | H4: % | I4: shop | J4: % | K4: Total shop | L4: No shop action | M4: No shop action | Q4: No shop stop | T4: No shop stop
M5: DC | N5: Traditional Market | O5: Traditional Shop | P5: CP Pork shop | Q5: Traditional Market | R5: Traditional Shop | S5: CP Pork shop
A6: Đồng Nai | B6: =+C6+E6+G6+I6 -> 5 | D6: 0 | E6: 2 | F6: 0 | G6: 3 | H6: 0 | J6: 0 | K6: =+L6+T6 -> 61 | L6: =+SUM(M6:P6) -> 39 | M6: 1 | O6: 22 | P6: 16 | R6: 21 | S6: 1 | T6: =+SUM(Q6:S6) -> 22
A7: Bình Dương | B7: =+C7+E7+G7+I7 -> 2 | D7: 0 | E7: 1 | F7: 0 | G7: 1 | H7: 0 | J7: 0 | K7: =+L7+T7 -> 54 | L7: =+SUM(M7:P7) -> 30 | N7: 14 | O7: 11 | P7: 5 | Q7: 4 | R7: 19 | S7: 1 | T7: =+SUM(Q7:S7) -> 24
A8: Int - S1 | B8: =+SUM(B6:B7) -> 7 | C8: =+SUM(C6:C7) -> 0 | D8: =+C8/B8 -> 0 | E8: =+SUM(E6:E7) -> 3 | F8: =+E8/B8 -> 0.42857143 | G8: =+SUM(G6:G7) -> 4 | H8: =+G8/B8 -> 0.57142857 | I8: =+SUM(I6:I7) -> 0 | J8: =+I8/B8 -> 0 | K8: =+L8+T8 -> 115 | L8: =+SUM(L6:L7) -> 69 | M8: =+SUM(M6:M7) -> 1 | N8: =+SUM(N6:N7) -> 14 | O8: =+SUM(O6:O7) -> 33 | P8: =+SUM(P6:P7) -> 21 | Q8: =+SUM(Q6:Q7) -> 4 | R8: =+SUM(R6:R7) -> 40 | S8: =+SUM(S6:S7) -> 2 | T8: =+SUM(Q8:S8) -> 46
A9: SW - S | B9: =+C9+E9+G9+I9 -> 5 | C9: 2 | D9: =+C9/B9 -> 0.4 | F9: =+E9/B9 -> 0 | G9: 3 | H9: =+G9/B9 -> 0.6 | I9: 0 | J9: =+I9/B9 -> 0 | K9: =+L9+T9 -> 58 | L9: =+SUM(M9:P9) -> 51 | M9: 1 | N9: 19 | O9: 8 | P9: 23 | Q9: 3 | R9: 1 | S9: 3 | T9: =+SUM(Q9:S9) -> 7
A10: SW - S1 | B10: =+SUM(B9:B9) -> 5 | C10: =+SUM(C9:C9) -> 2 | D10: =+C10/B10 -> 0.4 | E10: =+SUM(E9:E9) -> 0 | F10: =+E10/B10 -> 0 | G10: =+SUM(G9:G9) -> 3 | H10: =+G10/B10 -> 0.6 | I10: =+SUM(I9:I9) -> 0 | J10: =+I10/B10 -> 0 | K10: =+L10+T10 -> 58 | L10: =+SUM(L9:L9) -> 51 | M10: =+SUM(M9:M9) -> 1 | N10: =+SUM(N9:N9) -> 19 | O10: =+SUM(O9:O9) -> 8 | P10: =+SUM(P9:P9) -> 23 | Q10: =+SUM(Q9:Q9) -> 3 | R10: =+SUM(R9:R9) -> 1 | S10: =+SUM(S9:S9) -> 3 | T10: =+SUM(Q10:S10) -> 7
A11: Int -SW S1 | B11: =+B10+B8 -> 12 | C11: =+C10+C8 -> 2 | D11: =+C11/B11 -> 0.16666667 | E11: =+E10+E8 -> 3 | F11: =+E11/B11 -> 0.25 | G11: =+G10+G8 -> 7 | H11: =+G11/B11 -> 0.58333333 | I11: =+I10+I8 -> 0 | J11: =+I11/B11 -> 0 | K11: =+L11+T11 -> 173 | L11: =+L8+L10 -> 120 | M11: =+M8+M10 -> 2 | N11: =+N8+N10 -> 33 | O11: =+O8+O10 -> 41 | P11: =+P8+P10 -> 44 | Q11: =+Q8+Q10 -> 7 | R11: =+R8+R10 -> 41 | S11: =+S8+S10 -> 5 | T11: =+SUM(Q11:S11) -> 53
Q12: =+Q11/T11 -> 0.13207547 | R12: =+R11/T11 -> 0.77358491 | S12: =+S11/T11 -> 0.094339623
D15: THÁNG 7 | O15: TỔNG TÍNH ĐẾN HIỆN TAI

Sheet thang 8
A2: PORKSHOP BY CHANNEL
A3: Area | B3: Total shop open July | C3: Traditional Market | E3: Traditional Shop | G3: CP Pork shop | I3: DC | K3: Total shop
C4: shop | D4: % | E4: shop | F4: % | G4: shop | H4: % | I4: shop | J4: % | K4: Total shop | L4: No shop action | M4: No shop action | Q4: No shop stop | T4: No shop stop
M5: DC | N5: Traditional Market | O5: Traditional Shop | P5: CP Pork shop | Q5: Traditional Market | R5: Traditional Shop | S5: CP Pork shop
A6: Đồng Nai | B6: =+C6+E6+G6+I6 -> 4 | D6: 0 | E6: 1 | F6: 0 | G6: 3 | H6: 0 | J6: 0 | K6: =+L6+T6 -> 65 | L6: =+SUM(M6:P6) -> 36 | M6: ='tháng 7'!M6+'thang 8'!I6 -> 1 | N6: ='tháng 7'!N6+'thang 8'!C6 -> 0 | O6: 16 | P6: ='tháng 7'!P6+'thang 8'!G6 -> 19 | R6: 28 | S6: 1 | T6: =+SUM(Q6:S6) -> 29
A7: Bình Dương | B7: =+C7+E7+G7+I7 -> 1 | D7: 0 | E7: 1 | F7: 0 | H7: 0 | J7: 0 | K7: =+L7+T7 -> 56 | L7: =+SUM(M7:P7) -> 32 | M7: ='tháng 7'!M7+'thang 8'!I7 -> 0 | N7: 12 | O7: 16 | P7: 4 | Q7: 3 | R7: 20 | S7: 1 | T7: =+SUM(Q7:S7) -> 24
A8: Int - S1 | B8: =+SUM(B6:B7) -> 5 | C8: =+SUM(C6:C7) -> 0 | D8: =+C8/B8 -> 0 | E8: =+SUM(E6:E7) -> 2 | F8: =+E8/B8 -> 0.4 | G8: =+SUM(G6:G7) -> 3 | H8: =+G8/B8 -> 0.6 | I8: =+SUM(I6:I7) -> 0 | J8: =+I8/B8 -> 0 | K8: =+L8+T8 -> 121 | L8: =+SUM(L6:L7) -> 68 | M8: =+SUM(M6:M7) -> 1 | N8: =+SUM(N6:N7) -> 12 | O8: =+SUM(O6:O7) -> 32 | P8: =+SUM(P6:P7) -> 23 | Q8: =+SUM(Q6:Q7) -> 3 | R8: =+SUM(R6:R7) -> 48 | S8: =+SUM(S6:S7) -> 2 | T8: =+SUM(Q8:S8) -> 53
A9: SW - S | B9: =+C9+E9+G9+I9 -> 2 | D9: =+C9/B9 -> 0 | F9: =+E9/B9 -> 0 | G9: 2 | H9: =+G9/B9 -> 1 | I9: 0 | J9: =+I9/B9 -> 0 | K9: =+L9+T9 -> 74 | L9: =+SUM(M9:P9) -> 59 | M9: ='tháng 7'!M9+'thang 8'!I9 -> 1 | N9: 21 | O9: 9 | P9: 28 | Q9: 0 | R9: 1 | S9: 14 | T9: =+SUM(Q9:S9) -> 15
A10: SW - S1 | B10: =+SUM(B9:B9) -> 2 | C10: =+SUM(C9:C9) -> 0 | D10: =+C10/B10 -> 0 | E10: =+SUM(E9:E9) -> 0 | F10: =+E10/B10 -> 0 | G10: =+SUM(G9:G9) -> 2 | H10: =+G10/B10 -> 1 | I10: =+SUM(I9:I9) -> 0 | J10: =+I10/B10 -> 0 | K10: =+L10+T10 -> 74 | L10: =+SUM(L9:L9) -> 59 | M10: =+SUM(M9:M9) -> 1 | N10: =+SUM(N9:N9) -> 21 | O10: =+SUM(O9:O9) -> 9 | P10: =+SUM(P9:P9) -> 28 | Q10: =+SUM(Q9:Q9) -> 0 | R10: =+SUM(R9:R9) -> 1 | S10: =+SUM(S9:S9) -> 14 | T10: =+SUM(Q10:S10) -> 15
A11: Int -SW S1 | B11: =+B10+B8 -> 7 | C11: =+C10+C8 -> 0 | D11: =+C11/B11 -> 0 | E11: =+E10+E8 -> 2 | F11: =+E11/B11 -> 0.28571429 | G11: =+G10+G8 -> 5 | H11: =+G11/B11 -> 0.71428571 | I11: =+I10+I8 -> 0 | J11: =+I11/B11 -> 0 | K11: =+L11+T11 -> 195 | L11: =+L8+L10 -> 127 | M11: =+M8+M10 -> 2 | N11: =+N8+N10 -> 33 | O11: =+O8+O10 -> 41 | P11: =+P8+P10 -> 51 | Q11: =+Q8+Q10 -> 3 | R11: =+R8+R10 -> 49 | S11: =+S8+S10 -> 16 | T11: =+SUM(Q11:S11) -> 68
Q12: =+Q11/T11 -> 0.044117647 | R12: =+R11/T11 -> 0.72058824 | S12: =+S11/T11 -> 0.23529412

Sheet lí do ngưng hoạt động
A2: PORKSHOP BY CHANNEL
A3: No | B3: Reason | C3: ĐỒNG NAI | F3: BÌNH DƯƠNG | I3: Total | L3: Rate
C4: Traditional Market | D4: Traditional Shop | E4: CP Pork shop | F4: Traditional Market | G4: Traditional Shop | H4: CP Pork shop | I4: Traditional Market | J4: Traditional Shop | K4: CP Pork shop | L4: Traditional Market | M4: Traditional Shop | N4: CP Pork shop
A5: 1 | B5: Sự cạnh tranh không lành mạnh của các sạp trong chợ | I5: =+C5+F5 -> 0 | J5: =+D5+G5 -> 0 | K5: =+E5+H5 -> 0 | L5: =+I5/$I$19 -> #DIV/0! | M5: =+J5/$J$19 -> #DIV/0! | N5: =+K5/$K$19 -> #DIV/0!
A6: 2 | B6: chủ cửa hàng chuyển đổi công việc | I6: =+C6+F6 -> 0 | J6: =+D6+G6 -> 0 | K6: =+E6+H6 -> 0 | L6: =+I6/$I$19 -> #DIV/0! | M6: =+J6/$J$19 -> #DIV/0! | N6: =+K6/$K$19 -> #DIV/0!
A7: 3 | B7: Vị trí kinh doanh không thuận lợi | I7: =+C7+F7 -> 0 | J7: =+D7+G7 -> 0 | K7: =+E7+H7 -> 0 | L7: =+I7/$I$19 -> #DIV/0! | M7: =+J7/$J$19 -> #DIV/0! | N7: =+K7/$K$19 -> #DIV/0!
A8: 4 | B8: Không đủ chi phí | I8: =+C8+F8 -> 0 | J8: =+D8+G8 -> 0 | K8: =+E8+H8 -> 0 | L8: =+I8/$I$19 -> #DIV/0! | M8: =+J8/$J$19 -> #DIV/0! | N8: =+K8/$K$19 -> #DIV/0!
A9: 5 | B9: Khách hàng không kinh doanh mặt hàng thịt heo | I9: =+C9+F9 -> 0 | J9: =+D9+G9 -> 0 | K9: =+E9+H9 -> 0 | L9: =+I9/$I$19 -> #DIV/0! | M9: =+J9/$J$19 -> #DIV/0! | N9: =+K9/$K$19 -> #DIV/0!
A10: 6 | B10: Đối thủ lấy cửa hàng | I10: =+C10+F10 -> 0 | J10: =+D10+G10 -> 0 | K10: =+E10+H10 -> 0 | L10: =+I10/$I$19 -> #DIV/0! | M10: =+J10/$J$19 -> #DIV/0! | N10: =+K10/$K$19 -> #DIV/0!
A11: 7 | B11: Giá cả không cạnh tranh được | I11: =+C11+F11 -> 0 | J11: =+D11+G11 -> 0 | K11: =+E11+H11 -> 0 | L11: =+I11/$I$19 -> #DIV/0! | M11: =+J11/$J$19 -> #DIV/0! | N11: =+K11/$K$19 -> #DIV/0!
A12: 8 | B12: Khách hàng không hài lòng chất lượng sản phẩm | I12: =+C12+F12 -> 0 | J12: =+D12+G12 -> 0 | K12: =+E12+H12 -> 0 | L12: =+I12/$I$19 -> #DIV/0! | M12: =+J12/$J$19 -> #DIV/0! | N12: =+K12/$K$19 -> #DIV/0!
A13: 9 | B13: Cách chăm sóc cửa hàng của nhân viên chưa chuyên nghiệp | I13: =+C13+F13 -> 0 | J13: =+D13+G13 -> 0 | K13: =+E13+H13 -> 0 | L13: =+I13/$I$19 -> #DIV/0! | M13: =+J13/$J$19 -> #DIV/0! | N13: =+K13/$K$19 -> #DIV/0!
A14: 10 | B14: Không có người bán | I14: =+C14+F14 -> 0 | J14: =+D14+G14 -> 0 | K14: =+E14+H14 -> 0 | L14: =+I14/$I$19 -> #DIV/0! | M14: =+J14/$J$19 -> #DIV/0! | N14: =+K14/$K$19 -> #DIV/0!
A15: 11 | B15: Không có người mua | I15: =+C15+F15 -> 0 | J15: =+D15+G15 -> 0 | K15: =+E15+H15 -> 0
A16: 12 | B16: Cửa hàng hoạt động ko hiệu quả | I16: =+C16+F16 -> 0 | J16: =+D16+G16 -> 0 | K16: =+E16+H16 -> 0 | L16: =+I16/$I$19 -> #DIV/0! | M16: =+J16/$J$19 -> #DIV/0! | N16: =+K16/$K$19 -> #DIV/0!
A17: 13 | B17: Số lượng bán ít, không đủ duy trì cửa hàng | I17: =+C17+F17 -> 0 | J17: =+D17+G17 -> 0 | K17: =+E17+H17 -> 0 | L17: =+I17/$I$19 -> #DIV/0! | M17: =+J17/$J$19 -> #DIV/0! | N17: =+K17/$K$19 -> #DIV/0!
I18: =+C18+F18 -> 0 | J18: =+D18+G18 -> 0 | K18: =+E18+H18 -> 0
A19: Total | C19: =+SUM(C5:C17) -> 0 | D19: =+SUM(D5:D17) -> 0 | E19: =+SUM(E5:E17) -> 0 | F19: =+SUM(F5:F17) -> 0 | G19: =+SUM(G5:G17) -> 0 | H19: =+SUM(H5:H17) -> 0 | I19: =+SUM(I5:I17) -> 0 | J19: =+SUM(J5:J17) -> 0 | K19: =+SUM(K5:K17) -> 0 | L19: =+I19/$I$19 -> #DIV/0! | M19: =+J19/$J$19 -> #DIV/0! | N19: =+K19/$K$19 -> #DIV/0!

Sheet tháng 2
A2: PORKSHOP BY CHANNEL
A3: Area | B3: Total shop | C3: Traditional Market | E3: Traditional Shop | G3: CP Pork shop | I3: Dístribution Center
C4: shop | D4: % | E4: shop | F4: % | G4: shop | H4: % | I4: shop | J4: %
A5: Int - S1 | B5: =+C5+E5+G5+I5 -> 4 | C5: 0 | D5: =+C5/B5 -> 0 | E5: 2 | F5: =+E5/B5 -> 0.5 | G5: 2 | H5: =+G5/B5 -> 0.5 | I5: 0 | J5: =+I5/B5 -> 0
A6: Int - S2 | B6: =+C6+E6+G6+I6 -> 0 | C6: 0 | D6: 0 | E6: 0 | F6: 0 | G6: 0 | H6: 0 | I6: 0 | J6: 0
A7: Int - S3 | B7: =+C7+E7+G7+I7 -> 0 | C7: 0 | D7: =+C7/B7 -> #DIV/0! | E7: 0 | F7: =+E7/B7 -> #DIV/0! | G7: 0 | H7: =+G7/B7 -> #DIV/0! | I7: 0 | J7: =+I7/B7 -> #DIV/0!
A8: Int - S4 | B8: =+C8+E8+G8+I8 -> 4 | C8: 0 | D8: =+C8/B8 -> 0 | E8: 4 | F8: =+E8/B8 -> 1 | G8: 0 | H8: =+G8/B8 -> 0 | I8: 0 | J8: =+I8/B8 -> 0
A9: Int - C1 | B9: =+C9+E9+G9+I9 -> 0 | C9: 0 | D9: =+C9/B9 -> #DIV/0! | E9: 0 | F9: =+E9/B9 -> #DIV/0! | G9: 0 | H9: =+G9/B9 -> #DIV/0! | I9: 0 | J9: =+I9/B9 -> #DIV/0!
A10: Int - C2 | B10: =+C10+E10+G10+I10 -> 1 | C10: 0 | D10: =+C10/B10 -> 0 | E10: 1 | F10: =+E10/B10 -> 1 | G10: 0 | H10: =+G10/B10 -> 0 | I10: 0 | J10: =+I10/B10 -> 0
A11: Int - C3 | B11: =+C11+E11+G11+I11 -> 0 | C11: 0 | D11: =+C11/B11 -> #DIV/0! | E11: 0 | F11: =+E11/B11 -> #DIV/0! | G11: 0 | H11: =+G11/B11 -> #DIV/0! | I11: 0 | J11: =+I11/B11 -> #DIV/0!
A12: Int - N1 | B12: =+C12+E12+G12+I12 -> 0 | C12: 0 | D12: =+C12/B12 -> #DIV/0! | E12: 0 | F12: =+E12/B12 -> #DIV/0! | G12: 0 | H12: =+G12/B12 -> #DIV/0! | I12: 0 | J12: =+I12/B12 -> #DIV/0!
A13: Int - N2 | B13: =+C13+E13+G13+I13 -> 0 | C13: 0 | D13: =+C13/B13 -> #DIV/0! | E13: 0 | F13: =+E13/B13 -> #DIV/0! | G13: 0 | H13: =+G13/B13 -> #DIV/0! | I13: 0 | J13: =+I13/B13 -> #DIV/0!
A14: Int - VN | B14: =+C14+E14+G14+I14 -> 0 | D14: =+C14/B14 -> #DIV/0! | F14: =+E14/B14 -> #DIV/0! | H14: =+G14/B14 -> #DIV/0! | J14: =+I14/B14 -> #DIV/0!
A15: SW - S | B15: =+C15+E15+G15+I15 -> 1 | C15: 0 | D15: =+C15/B15 -> 0 | E15: 1 | F15: =+E15/B15 -> 1 | G15: 0 | H15: =+G15/B15 -> 0 | I15: 0 | J15: =+I15/B15 -> 0
A16: SW - N | B16: =+C16+E16+G16+I16 -> 0 | D16: =+C16/B16 -> #DIV/0! | F16: =+E16/B16 -> #DIV/0! | H16: =+G16/B16 -> #DIV/0! | J16: =+I16/B16 -> #DIV/0!
A17: SW - VN | B17: =+B15+B16 -> 1 | D17: =+C17/B17 -> 0 | F17: =+E17/B17 -> 0 | H17: =+G17/B17 -> 0 | J17: =+I17/B17 -> 0
A18: Int - VN | B18: =+B17+B14 -> 1 | D18: =+C18/B18 -> 0 | F18: =+E18/B18 -> 0 | H18: =+G18/B18 -> 0 | J18: =+I18/B18 -> 0
