Workbook
Name GeocodeAddressColumn_AnGiang: #REF!
Name GeocodeAddressColumn_BcGiang: #REF!
Name GeocodeAddressColumn_BcKn: #REF!
Name GeocodeAddressColumn_BcLiu: #REF!
Name GeocodeAddressColumn_BcNinh: #REF!
Name GeocodeAddressColumn_BnhDng: #REF!
Name GeocodeAddressColumn_BnhDngthm: #REF!
Name GeocodeAddressColumn_BnhPhc: #REF!
Name GeocodeAddressColumn_BnTre: #REF!
Name GeocodeAddressColumn_BnTre2: #REF!
Name GeocodeAddressColumn_BRVT: #REF!
Name GeocodeAddressColumn_CnTh: #REF!
Name GeocodeAddressColumn_GiaLai: #REF!
Name GeocodeAddressColumn_HaBnh: #REF!
Name GeocodeAddressColumn_HNam: #REF!
Name GeocodeAddressColumn_HngYn: #REF!
Name GeocodeAddressColumn_HNi: #REF!
Name GeocodeAddressColumn_HTnh: #REF!
Name GeocodeAddressColumn_inBin: #REF!
Name GeocodeAddressColumn_KhnhHa: #REF!
Name GeocodeAddressColumn_kNng: #REF!
Name GeocodeAddressColumn_KonTum: #REF!
Name GeocodeAddressColumn_LaiChu: #REF!
Name GeocodeAddressColumn_Lmng: #REF!
Name GeocodeAddressColumn_LngSn: #REF!
Name GeocodeAddressColumn_LoCai: #REF!
Name GeocodeAddressColumn_ngNai: #REF!
Name GeocodeAddressColumn_ngNaiLi: #REF!
Name GeocodeAddressColumn_NinhBnh: #REF!
Name GeocodeAddressColumn_Nng: #REF!
Name GeocodeAddressColumn_Nngnhp: #REF!
Name GeocodeAddressColumn_PhTh: #REF!
Name GeocodeAddressColumn_QungNam: #REF!
Name GeocodeAddressColumn_QungNgi: #REF!
Name GeocodeAddressColumn_QungNinh: #REF!
Name GeocodeAddressColumn_ScTrng: #REF!
Name GeocodeAddressColumn_SnLa: #REF!
Name GeocodeAddressColumn_ThiBnh: #REF!
Name GeocodeAddressColumn_ThiNguyn: #REF!
Name GeocodeAddressColumn_TinGiang: #REF!
Name GeocodeAddressColumn_TPHChMinh: #REF!
Name GeocodeAddressColumn_Trangtnh65: #REF!
Name GeocodeAddressColumn_Trangtnh74: #REF!
Name GeocodeAddressColumn_TuynQuang: #REF!
Name GeocodeAddressColumn_TyNinh: #REF!
Name GeocodeAddressColumn_VnhLong: #REF!
Name GeocodeAddressColumn_VnhPhc: #REF!
Name GeocodeAddressColumn_YnBi: #REF!

Sheet Sheet
A1: STT | B1: Cơ sở | C1: Địa chỉ | D1: Phường/xã | E1: Quận/Huyện | F1: Tỉnh/Thành phố | G1: Loại hình | H1: Liên hệ | I1: ID Phường | J1: ID QH | K1: ID TP | L1: Địa chỉ lấy lat-long | M1: Latitude | N1: Longitude | O1: Username | P1: Password
A2: 1 | B2: Nhà máy phân vi sinh (Chi nhánh Cty Mía đường La Ngà) | C2: Lô 4H KCN Định Quán | D2: La Ngà | E2: Định Quán | F2: Đồng Nai | G2: Nhà máy | I2: 198176 | J2: 1568 | K2: 32 | L2: Nhà máy phân vi sinh (Chi nhánh Cty Mía đường La Ngà), Lô 4H KCN Định Quán, La Ngà, Định Quán, Đồng Nai | M2: 111565086 | N2: 1072502282 | O2: CSSX320001 | P2: 231457
A3: 2 | B3: Chi nhánh Cty TNHH thương mại dịch vụ xây dựng cơ khí thiết bị nâng Anh Tuấn (trước là Cty CP CK-XD Quốc Vương ) | C3: Lô 5G KCN Định Quán | D3: La Ngà | E3: Định Quán | F3: Đồng Nai | G3: Nhà máy | I3: 198176 | J3: 1568 | K3: 32 | L3: Chi nhánh Cty TNHH thương mại dịch vụ xây dựng cơ khí thiết bị nâng Anh Tuấn (trước là Cty CP CK-XD Quốc Vương ), Lô 5G KCN Định Quán, La Ngà, Định Quán, Đồng Nai | M3: 1115445 | N3: 1072474303 | O3: CSSX320002 | P3: 203101
A4: 3 | B4: Cty CP Sx - TM Phú Lộc Thành (trước là Cty CP sản xuất Thương mại A-H-H ) | C4: Lô 24D KCN Định Quán | D4: La Ngà | E4: Định Quán | F4: Đồng Nai | G4: Nhà máy | I4: 198176 | J4: 1568 | K4: 32 | L4: Cty CP Sx - TM Phú Lộc Thành (trước là Cty CP sản xuất Thương mại A-H-H ), Lô 24D KCN Định Quán, La Ngà, Định Quán, Đồng Nai | M4: 162714658 | N4: 1078840377 | O4: CSSX320003 | P4: 266500
A5: 4 | B5: Cty CP Tôn Hoa Sen | C5: Lô 1A KCN Định Quán | D5: La Ngà | E5: Định Quán | F5: Đồng Nai | G5: Nhà máy | I5: 198176 | J5: 1568 | K5: 32 | L5: Cty CP Tôn Hoa Sen, Lô 1A KCN Định Quán, La Ngà, Định Quán, Đồng Nai | M5: 111574344 | N5: 1072486776 | O5: CSSX320004 | P5: 514300
A6: 5 | B6: Cty Phát triển Hạ tầng KCN Định Quán | C6: Lô 1C KCN Định Quán | D6: La Ngà | E6: Định Quán | F6: Đồng Nai | G6: Nhà máy | I6: 198176 | J6: 1568 | K6: 32 | L6: Cty Phát triển Hạ tầng KCN Định Quán, Lô 1C KCN Định Quán, La Ngà, Định Quán, Đồng Nai | M6: 1115445 | N6: 1072474303 | O6: CSSX320005 | P6: 586385
A7: 6 | B7: Cty TNHH Hoàng Văn | C7: Lô 15G KCN Định Quán | D7: La Ngà | E7: Định Quán | F7: Đồng Nai | G7: Nhà máy | I7: 198176 | J7: 1568 | K7: 32 | L7: Cty TNHH Hoàng Văn, Lô 15G KCN Định Quán, La Ngà, Định Quán, Đồng Nai | M7: 1115445 | N7: 1072474303 | O7: CSSX320006 | P7: 255633
A8: 7 | B8: Dự án Công ty CP Đầu tư Phát triển xây dựng Số Tám - Chi nhánh Đồng Nai | C8: Lô 5G KCN Định Quán | D8: La Ngà | E8: Định Quán | F8: Đồng Nai | G8: Nhà máy | I8: 198176 | J8: 1568 | K8: 32 | L8: Dự án Công ty CP Đầu tư Phát triển xây dựng Số Tám - Chi nhánh Đồng Nai, Lô 5G KCN Định Quán, La Ngà, Định Quán, Đồng Nai | M8: 1115445 | N8: 1072474303 | O8: CSSX320007 | P8: 379832
A9: 8 | B9: Công ty CP SX XD Đất Phát | C9: Lô 12A KCN Định Quán | D9: La Ngà | E9: Định Quán | F9: Đồng Nai | G9: Nhà máy | I9: 198176 | J9: 1568 | K9: 32 | L9: Công ty CP SX XD Đất Phát, Lô 12A KCN Định Quán, La Ngà, Định Quán, Đồng Nai | M9: 1115445 | N9: 1072474303 | O9: CSSX320008 | P9: 008731
A10: 9 | B10: Cty CP SX - XD Đất Phát | C10: Lô 23A KCN Định Quán | D10: La Ngà | E10: Định Quán | F10: Đồng Nai | G10: Nhà máy | I10: 198176 | J10: 1568 | K10: 32 | L10: Cty CP SX - XD Đất Phát, Lô 23A KCN Định Quán, La Ngà, Định Quán, Đồng Nai | M10: 1115445 | N10: 1072474303 | O10: CSSX320009 | P10: 507250
A11: 10 | B11: Cty TNHH Như Hưng | C11: Lô 11C KCN Định Quán | D11: La Ngà | E11: Định Quán | F11: Đồng Nai | G11: Nhà máy | I11: 198176 | J11: 1568 | K11: 32 | L11: Cty TNHH Như Hưng, Lô 11C KCN Định Quán, La Ngà, Định Quán, Đồng Nai | M11: 1115445 | N11: 1072474303 | O11: CSSX320010 | P11: 447980
A12: 11 | B12: Cty TNHH A.P Sài Gòn | C12: Lô 20G KCN Định Quán | D12: La Ngà | E12: Định Quán | F12: Đồng Nai | G12: Nhà máy | I12: 198176 | J12: 1568 | K12: 32 | L12: Cty TNHH A.P Sài Gòn, Lô 20G KCN Định Quán, La Ngà, Định Quán, Đồng Nai | M12: 1115445 | N12: 1072474303 | O12: CSSX320011 | P12: 805395
A13: 12 | B13: HTX chế biến xoài trái xuất khẩu La Ngà | C13: Lô 20D KCN Định Quán | D13: La Ngà | E13: Định Quán | F13: Đồng Nai | G13: Nhà máy | I13: 198176 | J13: 1568 | K13: 32 | L13: HTX chế biến xoài trái xuất khẩu La Ngà, Lô 20D KCN Định Quán, La Ngà, Định Quán, Đồng Nai | M13: 111585531 | N13: 1072690889 | O13: CSSX320012 | P13: 473579
... A16: 15 | B16: Chi nhánh miền Nam - Cty Cp Bach'chambard | C16: Lô 4G KCN Định Quán | D16: La Ngà | E16: Định Quán | F16: Đồng Nai | G16: Nhà máy | I16: 198176 | J16: 1568 | K16: 32 | L16: Chi nhánh miền Nam - Cty Cp Bach'chambard, Lô 4G KCN Định Quán, La Ngà, Định Quán, Đồng Nai | M16: 1115445 | N16: 1072474303 | O16: CSSX320015 | P16: 268068
A17: 16 | B17: Dự án Đầu tư kinh doanh hạ tầng KCN An Phước | C17: Lô 23B KCN An Phước | D17: An Phước | E17: Long Thành | F17: Đồng Nai | G17: Nhà máy | H17: 028-8459375 | I17: 132128 | J17: 1056 | K17: 32 | L17: Dự án Đầu tư kinh doanh hạ tầng KCN An Phước, Lô 23B KCN An Phước, An Phước, Long Thành, Đồng Nai | M17: 10853688 | N17: 1069618341 | O17: CSSX320016 | P17: 104884
A18: 17 | B18: Dự án Chi nhánh Cty TNHH Vĩnh Cường | C18: Lô 17E KCN An Phước | D18: An Phước | E18: Long Thành | F18: Đồng Nai | G18: Nhà máy | I18: 132128 | J18: 1056 | K18: 32 | L18: Dự án Chi nhánh Cty TNHH Vĩnh Cường, Lô 17E KCN An Phước, An Phước, Long Thành, Đồng Nai | M18: 10853688 | N18: 1069618341 | O18: CSSX320017 | P18: 249370
A19: 18 | B19: Dự án Chi nhánh Công ty CP Nguyên Cường | C19: Lô 18H KCN An Phước | D19: An Phước | E19: Long Thành | F19: Đồng Nai | G19: Nhà máy | I19: 132128 | J19: 1056 | K19: 32 | L19: Dự án Chi nhánh Công ty CP Nguyên Cường, Lô 18H KCN An Phước, An Phước, Long Thành, Đồng Nai | M19: 108534427 | N19: 1069617517 | O19: CSSX320018 | P19: 278916
A20: 19 | B20: Cty CP Trung Đông - chi nhánh An Phước | C20: Lô 21D KCN An Phước | D20: An Phước | E20: Long Thành | F20: Đồng Nai | G20: Nhà máy | I20: 132128 | J20: 1056 | K20: 32 | L20: Cty CP Trung Đông - chi nhánh An Phước, Lô 21D KCN An Phước, An Phước, Long Thành, Đồng Nai | M20: 292985278 | N20: 425509603 | O20: CSSX320019 | P20: 016619
A21: 20 | B21: Cty CP đầu tư Nam An Việt | C21: Lô 24G KCN An Phước | D21: An Phước | E21: Long Thành | F21: Đồng Nai | G21: Nhà máy | I21: 132128 | J21: 1056 | K21: 32 | L21: Cty CP đầu tư Nam An Việt, Lô 24G KCN An Phước, An Phước, Long Thành, Đồng Nai | M21: 10853688 | N21: 1069618341 | O21: CSSX320020 | P21: 791831
A22: 21 | B22: Dự án Nhà máy chế biến cà phê Intimex Long Thành | C22: Lô 2C KCN An Phước | D22: An Phước | E22: Long Thành | F22: Đồng Nai | G22: Nhà máy | I22: 132128 | J22: 1056 | K22: 32 | L22: Dự án Nhà máy chế biến cà phê Intimex Long Thành, Lô 2C KCN An Phước, An Phước, Long Thành, Đồng Nai | M22: 108507448 | N22: 1069654044 | O22: CSSX320021 | P22: 698494
A23: 22 | B23: Cty TNHH Cơ khí chính xác Nhật Bảo Nam (thuê nhà xưởng với tổng diện tích 670 m2 của Công ty TNHH Vĩnh Cường trong thời hạn 05 (năm) năm kể từ ngày được cấp Giấy chứng nhận đăng ký đầu tư) | C23: Lô 21C KCN An Phước | D23: An Phước | E23: Long Thành | F23: Đồng Nai | G23: Nhà máy | H23: 0937.202.310/ 0932.718863 (A Tuấn Anh) | I23: 132128 | J23: 1056 | K23: 32 | L23: Cty TNHH Cơ khí chính xác Nhật Bảo Nam (thuê nhà xưởng với tổng diện tích 670 m2 của Công ty TNHH Vĩnh Cường trong thời hạn 05 (năm) năm kể từ ngày được cấp Giấy chứng nhận đăng ký đầu tư), Lô 21C KCN An Phước, An Phước, Long Thành, Đồng Nai | M23: 186795848 | N23: 1056813333 | O23: CSSX320022 | P23: 426454
A24: 23 | B24: CHI NHÁNH LONG THÀNH - CÔNG TY TNHH THẠCH VIỆT | C24: Lô 6A KCN An Phước | D24: An Phước | E24: Long Thành | F24: Đồng Nai | G24: Nhà máy | H24: 0251-3686998/ 0903.365195 | I24: 132128 | J24: 1056 | K24: 32 | L24: CHI NHÁNH LONG THÀNH - CÔNG TY TNHH THẠCH VIỆT, Lô 6A KCN An Phước, An Phước, Long Thành, Đồng Nai | M24: 108715867 | N24: 106946497 | O24: CSSX320023 | P24: 013299
A25: 24 | B25: CÔNG TY TNHH SUẤT ĂN CÔNG NGHIỆP KIM XUÂN | C25: Lô 24F KCN An Phước | D25: An Phước | E25: Long Thành | F25: Đồng Nai | G25: Nhà máy | H25: 906736377 | I25: 132128 | J25: 1056 | K25: 32 | L25: CÔNG TY TNHH SUẤT ĂN CÔNG NGHIỆP KIM XUÂN, Lô 24F KCN An Phước, An Phước, Long Thành, Đồng Nai | M25: 10853688 | N25: 1069618341 | O25: CSSX320024 | P25: 169985
A26: 25 | B26: NHÀ MÁY SẢN XUẤT CỦA CÔNG TY TNHH THƯƠNG MẠI RỒNG PHƯƠNG BẮC | C26: Lô 14B KCN An Phước | D26: An Phước | E26: Long Thành | F26: Đồng Nai | G26: Nhà máy | I26: 132128 | J26: 1056 | K26: 32 | L26: NHÀ MÁY SẢN XUẤT CỦA CÔNG TY TNHH THƯƠNG MẠI RỒNG PHƯƠNG BẮC, Lô 14B KCN An Phước, An Phước, Long Thành, Đồng Nai | M26: 108436928 | N26: 1069536199 | O26: CSSX320025 | P26: 413792
A27: 26 | B27: CÔNG TY TNHH MINH HIỆP ĐỒNG NAI | C27: Lô 19C KCN An Phước | D27: An Phước | E27: Long Thành | F27: Đồng Nai | G27: Nhà máy | H27: 989420415 | I27: 132128 | J27: 1056 | K27: 32 | L27: CÔNG TY TNHH MINH HIỆP ĐỒNG NAI, Lô 19C KCN An Phước, An Phước, Long Thành, Đồng Nai | M27: 108505029 | N27: 1069555092 | O27: CSSX320026 | P27: 421246
A28: 27 | B28: Cty TNHH Seogwang VN | C28: Lô 14A KCN An Phước | D28: An Phước | E28: Long Thành | F28: Đồng Nai | G28: Nhà máy | H28: 0913927113 / 0902952646 (A Huy) | I28: 132128 | J28: 1056 | K28: 32 | L28: Cty TNHH Seogwang VN, Lô 14A KCN An Phước, An Phước, Long Thành, Đồng Nai | M28: 10853688 | N28: 1069618341 | O28: CSSX320027 | P28: 408140
A29: 28 | C29: Lô 16E KCN An Phước | D29: An Phước | E29: Long Thành | F29: Đồng Nai | G29: Nhà máy | H29: 0251-3528109 | I29: 132128 | J29: 1056 | K29: 32 | L29: , Lô 16E KCN An Phước, An Phước, Long Thành, Đồng Nai | M29: 10853688 | N29: 1069618341 | O29: CSSX320028 | P29: 415529
A30: 29 | B30: Cty TNHH Ueno Tekko Việt Nam | C30: Lô 18G KCN An Phước | D30: An Phước | E30: Long Thành | F30: Đồng Nai | G30: Nhà máy | H30: 0128.5093820 (Ms Hạnh) | I30: 132128 | J30: 1056 | K30: 32 | L30: Cty TNHH Ueno Tekko Việt Nam, Lô 18G KCN An Phước, An Phước, Long Thành, Đồng Nai | M30: 108217816 | N30: 1069166589 | O30: CSSX320029 | P30: 806303
A31: 30 | B31: CÔNG TY TNHH NEW CHEMICAL VIỆT NAM | C31: Lô 21A KCN An Phước | D31: An Phước | E31: Long Thành | F31: Đồng Nai | G31: Nhà máy | H31: 0909533914 (Hạnh) | I31: 132128 | J31: 1056 | K31: 32 | L31: CÔNG TY TNHH NEW CHEMICAL VIỆT NAM, Lô 21A KCN An Phước, An Phước, Long Thành, Đồng Nai | M31: 10853688 | N31: 1069618341 | O31: CSSX320030 | P31: 075535
A32: 31 | C32: Lô 25F KCN An Phước | D32: An Phước | E32: Long Thành | F32: Đồng Nai | G32: Nhà máy | H32: 0251-3686659/ 0988562479 (Ms Nhiên) | I32: 132128 | J32: 1056 | K32: 32 | L32: , Lô 25F KCN An Phước, An Phước, Long Thành, Đồng Nai | M32: 10853688 | N32: 1069618341 | O32: CSSX320031 | P32: 945646
A33: 32 | B33: CÔNG TY TNHH VIỆT NAM UMANO | C33: Lô 6D KCN An Phước | D33: An Phước | E33: Long Thành | F33: Đồng Nai | G33: Nhà máy | H33: 0978756599 (Ms Nhi) | I33: 132128 | J33: 1056 | K33: 32 | L33: CÔNG TY TNHH VIỆT NAM UMANO, Lô 6D KCN An Phước, An Phước, Long Thành, Đồng Nai | M33: 108490277 | N33: 1069628263 | O33: CSSX320032 | P33: 438756
A34: 33 | B34: CÔNG TY TNHH CA SYSTEM DONGNAI VIETNAM. | C34: Lô 8C KCN An Phước | D34: An Phước | E34: Long Thành | F34: Đồng Nai | G34: Nhà máy | I34: 132128 | J34: 1056 | K34: 32 | L34: CÔNG TY TNHH CA SYSTEM DONGNAI VIETNAM., Lô 8C KCN An Phước, An Phước, Long Thành, Đồng Nai | M34: 10853688 | N34: 1069618341 | O34: CSSX320033 | P34: 185543
A35: 34 | B35: CÔNG TY TNHH ARTISAN PLANET INTERNATIONAL | C35: Lô 22D KCN An Phước | D35: An Phước | E35: Long Thành | F35: Đồng Nai | G35: Nhà máy | I35: 132128 | J35: 1056 | K35: 32 | L35: CÔNG TY TNHH ARTISAN PLANET INTERNATIONAL, Lô 22D KCN An Phước, An Phước, Long Thành, Đồng Nai | M35: 10853688 | N35: 1069618341 | O35: CSSX320034 | P35: 023935
A36: 35 | B36: Cty CP Sonadezi Long Bình (trước đây là Xí nghiệp Dịch vụ KCN Sonadezi) | C36: Lô 19B KCN Gò Dầu | D36: Phước Bình | E36: Long Thành | F36: Đồng Nai | G36: Nhà máy | H36: 0251-841826 | I36: 721952 | J36: 1056 | K36: 32 | L36: Cty CP Sonadezi Long Bình (trước đây là Xí nghiệp Dịch vụ KCN Sonadezi), Lô 19B KCN Gò Dầu, Phước Bình, Long Thành, Đồng Nai | M36: 109075606 | N36: 1068548804 | O36: CSSX320035 | P36: 222817
A37: 36 | B37: Nhà máy Supe Phosphat Long Thành | C37: Lô 15A KCN Gò Dầu | D37: Phước Bình | E37: Long Thành | F37: Đồng Nai | G37: Nhà máy | H37: 0251-3841188 | I37: 721952 | J37: 1056 | K37: 32 | L37: Nhà máy Supe Phosphat Long Thành, Lô 15A KCN Gò Dầu, Phước Bình, Long Thành, Đồng Nai | M37: 106591977 | N37: 1070364009 | O37: CSSX320036 | P37: 389060
A38: 37 | B38: Cty TNHH Gas Sài Gòn | C38: Lô 15A KCN Gò Dầu | D38: Phước Bình | E38: Long Thành | F38: Đồng Nai | G38: Nhà máy | H38: 0251-542577 | I38: 721952 | J38: 1056 | K38: 32 | L38: Cty TNHH Gas Sài Gòn, Lô 15A KCN Gò Dầu, Phước Bình, Long Thành, Đồng Nai | M38: 106591977 | N38: 1070364009 | O38: CSSX320037 | P38: 394075
A39: 38 | B39: Cty TNHH Gas Công nghiệp | C39: Lô 15H KCN Gò Dầu | D39: Phước Bình | E39: Long Thành | F39: Đồng Nai | G39: Nhà máy | I39: 721952 | J39: 1056 | K39: 32 | L39: Cty TNHH Gas Công nghiệp, Lô 15H KCN Gò Dầu, Phước Bình, Long Thành, Đồng Nai | M39: 106591977 | N39: 1070364009 | O39: CSSX320038 | P39: 826222
A40: 39 | B40: Chi nhánh Cty Cổ phần Thương mại và sản xuất Đại Phát | C40: Lô 12A KCN Gò Dầu | D40: Phước Bình | E40: Long Thành | F40: Đồng Nai | G40: Nhà máy | H40: 090-3817189 | I40: 721952 | J40: 1056 | K40: 32 | L40: Chi nhánh Cty Cổ phần Thương mại và sản xuất Đại Phát, Lô 12A KCN Gò Dầu, Phước Bình, Long Thành, Đồng Nai | M40: 106591977 | N40: 1070364009 | O40: CSSX320039 | P40: 177718
A41: 40 | B41: Cty TNHH Hóa chất & phân bón Việt Tân (1) | C41: Lô 25H KCN Gò Dầu | D41: Phước Bình | E41: Long Thành | F41: Đồng Nai | G41: Nhà máy | H41: 0251-3841463 | I41: 721952 | J41: 1056 | K41: 32 | L41: Cty TNHH Hóa chất & phân bón Việt Tân (1), Lô 25H KCN Gò Dầu, Phước Bình, Long Thành, Đồng Nai | M41: 106591977 | N41: 1070364009 | O41: CSSX320040 | P41: 482911
A42: 41 | B42: Chi nhánh Công ty TNHHGas Phoenix (trước là MTV Khí hóa lỏng Cội Nguồn ) | C42: Lô 7A KCN Gò Dầu | D42: Phước Bình | E42: Long Thành | F42: Đồng Nai | G42: Nhà máy | H42: 0251-3542744/08-62787882 | I42: 721952 | J42: 1056 | K42: 32 | L42: Chi nhánh Công ty TNHHGas Phoenix (trước là MTV Khí hóa lỏng Cội Nguồn ), Lô 7A KCN Gò Dầu, Phước Bình, Long Thành, Đồng Nai | M42: 334483771 | N42: -1120740373 | O42: CSSX320041 | P42: 371767
A43: 42 | B43: Cty CP gạch men V.T.C | C43: Lô 6C KCN Gò Dầu | D43: Phước Bình | E43: Long Thành | F43: Đồng Nai | G43: Nhà máy | H43: 0251-3541890 | I43: 721952 | J43: 1056 | K43: 32 | L43: Cty CP gạch men V.T.C, Lô 6C KCN Gò Dầu, Phước Bình, Long Thành, Đồng Nai | M43: 106515297 | N43: 1070285296 | O43: CSSX320042 | P43: 119854
A44: 43 | B44: CN Cty TNHH Sản xuất cơ khí và dịch vụ Đại Phúc | C44: Lô 19F KCN Gò Dầu | D44: Phước Bình | E44: Long Thành | F44: Đồng Nai | G44: Nhà máy | I44: 721952 | J44: 1056 | K44: 32 | L44: CN Cty TNHH Sản xuất cơ khí và dịch vụ Đại Phúc, Lô 19F KCN Gò Dầu, Phước Bình, Long Thành, Đồng Nai | M44: 108642908 | N44: 1069362274 | O44: CSSX320043 | P44: 728908
A45: 44 | B45: Dự án Công ty TNHH Con Cò Vàng - Chi nhánh Gò Dầu | C45: Lô 8B KCN Gò Dầu | D45: Phước Bình | E45: Long Thành | F45: Đồng Nai | G45: Nhà máy | I45: 721952 | J45: 1056 | K45: 32 | L45: Dự án Công ty TNHH Con Cò Vàng - Chi nhánh Gò Dầu, Lô 8B KCN Gò Dầu, Phước Bình, Long Thành, Đồng Nai | M45: 106591977 | N45: 1070364009 | O45: CSSX320044 | P45: 589468
A46: 45 | B46: Chi nhánh Cty CP thương mại dầu khí Thái Bình Dương | C46: Lô 4C KCN Gò Dầu | D46: Phước Bình | E46: Long Thành | F46: Đồng Nai | G46: Nhà máy | I46: 721952 | J46: 1056 | K46: 32 | L46: Chi nhánh Cty CP thương mại dầu khí Thái Bình Dương, Lô 4C KCN Gò Dầu, Phước Bình, Long Thành, Đồng Nai | M46: 113254024 | N46: 106477017 | O46: CSSX320045 | P46: 370503
A47: 46 | B47: Cty TNHH Nhựa và Hóa chất TPC Vina | C47: Lô 25B KCN Gò Dầu | D47: Phước Bình | E47: Long Thành | F47: Đồng Nai | G47: Nhà máy | H47: 0251-3841461/ 0283-8234730 / 0905.669.884 (Ms Châu) | I47: 721952 | J47: 1056 | K47: 32 | L47: Cty TNHH Nhựa và Hóa chất TPC Vina, Lô 25B KCN Gò Dầu, Phước Bình, Long Thành, Đồng Nai | M47: 106528688 | N47: 1070241898 | O47: CSSX320046 | P47: 789839
A48: 47 | B48: Nhà máy sản xuất của Công ty CP Thiết bị điện tại KCN Long Đức | C48: Lô 6G KCN Long Đức | D48: Long Đức | E48: Long Thành | F48: Đồng Nai | G48: Nhà máy | I48: 590880 | J48: 1056 | K48: 32 | L48: Nhà máy sản xuất của Công ty CP Thiết bị điện tại KCN Long Đức, Lô 6G KCN Long Đức, Long Đức, Long Thành, Đồng Nai | M48: 108421862 | N48: 1069779597 | O48: CSSX320047 | P48: 455428
A49: 48 | B49: CÔNG TY TNHH JAPAN FRP VIỆT NAM | C49: Lô 16F KCN Long Đức | D49: Long Đức | E49: Long Thành | F49: Đồng Nai | G49: Nhà máy | H49: 0251-3681888 | I49: 590880 | J49: 1056 | K49: 32 | L49: CÔNG TY TNHH JAPAN FRP VIỆT NAM, Lô 16F KCN Long Đức, Long Đức, Long Thành, Đồng Nai | M49: 108415159 | N49: 106985742 | O49: CSSX320048 | P49: 763129
A50: 49 | B50: CÔNG TY TNHH HIRATA PRECISION INDUSTRIAL VIỆT NAM | C50: Lô 2A KCN Long Đức | D50: Long Đức | E50: Long Thành | F50: Đồng Nai | G50: Nhà máy | H50: 0251-3681960 | I50: 590880 | J50: 1056 | K50: 32 | L50: CÔNG TY TNHH HIRATA PRECISION INDUSTRIAL VIỆT NAM, Lô 2A KCN Long Đức, Long Đức, Long Thành, Đồng Nai | M50: 108421862 | N50: 1069779597 | O50: CSSX320049 | P50: 890178
A51: 50 | B51: CÔNG TY TNHH SEMYUNG PIC VINA | C51: Lô 4A KCN Long Đức | D51: Long Đức | E51: Long Thành | F51: Đồng Nai | G51: Nhà máy | I51: 590880 | J51: 1056 | K51: 32 | L51: CÔNG TY TNHH SEMYUNG PIC VINA, Lô 4A KCN Long Đức, Long Đức, Long Thành, Đồng Nai | M51: 108421862 | N51: 1069779597 | O51: CSSX320050 | P51: 966703
A52: 51 | B52: CÔNG TY TNHH TOA DENSHI VIỆT NAM | C52: Lô 5D KCN Long Đức | D52: Long Đức | E52: Long Thành | F52: Đồng Nai | G52: Nhà máy | I52: 590880 | J52: 1056 | K52: 32 | L52: CÔNG TY TNHH TOA DENSHI VIỆT NAM, Lô 5D KCN Long Đức, Long Đức, Long Thành, Đồng Nai | M52: 108421862 | N52: 1069779597 | O52: CSSX320051 | P52: 789468
A53: 52 | B53: Cty CP cáp và vật liệu viễn thông Sacom | C53: Lô 2H KCN Long Thành | D53: Tam An | E53: Long Thành | F53: Đồng Nai | G53: Nhà máy | H53: 0251-830937 | I53: 918560 | J53: 1056 | K53: 32 | L53: Cty CP cáp và vật liệu viễn thông Sacom, Lô 2H KCN Long Thành, Tam An, Long Thành, Đồng Nai | M53: 10821249 | N53: 1069311105 | O53: CSSX320052 | P53: 005147
A54: 53 | B54: Cty Cổ phần Sonadezi Long Thành | C54: Lô 4D KCN Long Thành | D54: Tam An | E54: Long Thành | F54: Đồng Nai | G54: Nhà máy | H54: 0251-3514494 | I54: 918560 | J54: 1056 | K54: 32 | L54: Cty Cổ phần Sonadezi Long Thành, Lô 4D KCN Long Thành, Tam An, Long Thành, Đồng Nai | M54: 108255495 | N54: 1069277698 | O54: CSSX320053 | P54: 300151
A55: 54 | B55: Cty TNHH SXTM dịch vụ VPS | C55: Lô 19H KCN Long Thành | D55: Tam An | E55: Long Thành | F55: Đồng Nai | G55: Nhà máy | H55: 08-8889313 | I55: 918560 | J55: 1056 | K55: 32 | L55: Cty TNHH SXTM dịch vụ VPS, Lô 19H KCN Long Thành, Tam An, Long Thành, Đồng Nai | M55: 108220822 | N55: 1069191029 | O55: CSSX320054 | P55: 108021
A56: 55 | B56: Công ty Liên Minh (tên cũ Cty TNHH Dệt nhuộm Thông Phát ) | C56: Lô 15G KCN Long Thành | D56: Tam An | E56: Long Thành | F56: Đồng Nai | G56: Nhà máy | H56: 903-929694 | I56: 918560 | J56: 1056 | K56: 32 | L56: Công ty Liên Minh (tên cũ Cty TNHH Dệt nhuộm Thông Phát ), Lô 15G KCN Long Thành, Tam An, Long Thành, Đồng Nai | M56: 108134103 | N56: 1069139832 | O56: CSSX320055 | P56: 999217
A57: 56 | B57: Nhà máy cà phê Biên Hòa II-Cty CP Vinacafe Biên Hòa | C57: Lô 14C KCN Long Thành | D57: Tam An | E57: Long Thành | F57: Đồng Nai | G57: Nhà máy | H57: 0251-836554 | I57: 918560 | J57: 1056 | K57: 32 | L57: Nhà máy cà phê Biên Hòa II-Cty CP Vinacafe Biên Hòa, Lô 14C KCN Long Thành, Tam An, Long Thành, Đồng Nai | M57: 108257425 | N57: 1069271046 | O57: CSSX320056 | P57: 071489
A58: 57 | B58: Cty CP Cáp Sài Gòn (SCC) | C58: Lô 2A KCN Long Thành | D58: Tam An | E58: Long Thành | F58: Đồng Nai | G58: Nhà máy | H58: 0251-3514125 | I58: 918560 | J58: 1056 | K58: 32 | L58: Cty CP Cáp Sài Gòn (SCC), Lô 2A KCN Long Thành, Tam An, Long Thành, Đồng Nai | M58: 108308243 | N58: 106936309 | O58: CSSX320057 | P58: 740360
A59: 58 | B59: Chi nhánh Cty TNHH TM Lê Ban | C59: Lô 23A KCN Long Thành | D59: Tam An | E59: Long Thành | F59: Đồng Nai | G59: Nhà máy | H59: 08-8368146 | I59: 918560 | J59: 1056 | K59: 32 | L59: Chi nhánh Cty TNHH TM Lê Ban, Lô 23A KCN Long Thành, Tam An, Long Thành, Đồng Nai | M59: 108257425 | N59: 1069271046 | O59: CSSX320058 | P59: 342763
A60: 59 | B60: Cty CP Quốc tế Khang Việt | C60: Lô 18E KCN Long Thành | D60: Tam An | E60: Long Thành | F60: Đồng Nai | G60: Nhà máy | I60: 918560 | J60: 1056 | K60: 32 | L60: Cty CP Quốc tế Khang Việt, Lô 18E KCN Long Thành, Tam An, Long Thành, Đồng Nai | M60: 108257425 | N60: 1069271046 | O60: CSSX320059 | P60: 696751
A61: 60 | B61: Nhà máy Đế giày PU-Cty SXTM Minh Diệu | C61: Lô 21E KCN Long Thành | D61: Tam An | E61: Long Thành | F61: Đồng Nai | G61: Nhà máy | H61: 08-8731299 | I61: 918560 | J61: 1056 | K61: 32 | L61: Nhà máy Đế giày PU-Cty SXTM Minh Diệu, Lô 21E KCN Long Thành, Tam An, Long Thành, Đồng Nai | M61: 108153073 | N61: 1069219537 | O61: CSSX320060 | P61: 683632
A62: 61 | B62: Công ty CP nhựa Sam Phú | C62: Lô 9E KCN Long Thành | D62: Tam An | E62: Long Thành | F62: Đồng Nai | G62: Nhà máy | H62: 0251-3514166/167/168 | I62: 918560 | J62: 1056 | K62: 32 | L62: Công ty CP nhựa Sam Phú, Lô 9E KCN Long Thành, Tam An, Long Thành, Đồng Nai | M62: 108255495 | N62: 1069277698 | O62: CSSX320061 | P62: 814951
A63: 62 | B63: Cty CP Thiên Long Long Thành | C63: Lô 9F KCN Long Thành | D63: Tam An | E63: Long Thành | F63: Đồng Nai | G63: Nhà máy | H63: 0251-3514363 | I63: 918560 | J63: 1056 | K63: 32 | L63: Cty CP Thiên Long Long Thành, Lô 9F KCN Long Thành, Tam An, Long Thành, Đồng Nai | M63: 108153073 | N63: 1069219537 | O63: CSSX320062 | P63: 506312
A64: 63 | B64: Trạm biến áp 110KV KCN Long Thành và nhánh rẽ | C64: Lô 9B KCN Long Thành | D64: Tam An | E64: Long Thành | F64: Đồng Nai | G64: Nhà máy | I64: 918560 | J64: 1056 | K64: 32 | L64: Trạm biến áp 110KV KCN Long Thành và nhánh rẽ, Lô 9B KCN Long Thành, Tam An, Long Thành, Đồng Nai | M64: 108257425 | N64: 1069271046 | O64: CSSX320063 | P64: 135183
A65: 64 | B65: Công ty CP vật liệu điện và viễn thông Sam Cường | C65: Lô 7C KCN Long Thành | D65: Tam An | E65: Long Thành | F65: Đồng Nai | G65: Nhà máy | H65: 0251-3931363 | I65: 918560 | J65: 1056 | K65: 32 | L65: Công ty CP vật liệu điện và viễn thông Sam Cường, Lô 7C KCN Long Thành, Tam An, Long Thành, Đồng Nai | M65: 108255242 | N65: 1069299166 | O65: CSSX320064 | P65: 903040
A66: 65 | B66: Dự án Nhà máy sản xuất của Cty TNHH MTV Dây và cáp Sacom tại KCN Long Thành | C66: Lô 20E KCN Long Thành | D66: Tam An | E66: Long Thành | F66: Đồng Nai | G66: Nhà máy | I66: 918560 | J66: 1056 | K66: 32 | L66: Dự án Nhà máy sản xuất của Cty TNHH MTV Dây và cáp Sacom tại KCN Long Thành, Lô 20E KCN Long Thành, Tam An, Long Thành, Đồng Nai | M66: 10821249 | N66: 1069311105 | O66: CSSX320065 | P66: 441699
A67: 66 | B67: Dự án Đầu tư xây dựng, kinh doanh kho, nhà xưởng cho thuê tại KCN Long Thành | C67: Lô 10C KCN Long Thành | D67: Tam An | E67: Long Thành | F67: Đồng Nai | G67: Nhà máy | I67: 918560 | J67: 1056 | K67: 32 | L67: Dự án Đầu tư xây dựng, kinh doanh kho, nhà xưởng cho thuê tại KCN Long Thành, Lô 10C KCN Long Thành, Tam An, Long Thành, Đồng Nai | M67: 108257425 | N67: 1069271046 | O67: CSSX320066 | P67: 272031
A68: 67 | B68: Dự án Nhà máy sản xuất dây cáp điện, cáp viễn thông Cty TNHH 1 TV Cadivi Đòng Nai | C68: Lô 19H KCN Long Thành | D68: Tam An | E68: Long Thành | F68: Đồng Nai | G68: Nhà máy | I68: 918560 | J68: 1056 | K68: 32 | L68: Dự án Nhà máy sản xuất dây cáp điện, cáp viễn thông Cty TNHH 1 TV Cadivi Đòng Nai, Lô 19H KCN Long Thành, Tam An, Long Thành, Đồng Nai | M68: 108274344 | N68: 1069313976 | O68: CSSX320067 | P68: 704299
A69: 68 | B69: Dự án sản xuất, cung cấp hơi bão hòa tại KCN Long Thành của Công ty TNHH Kim Trường Phúc | C69: Lô 23B KCN Long Thành | D69: Tam An | E69: Long Thành | F69: Đồng Nai | G69: Nhà máy | I69: 918560 | J69: 1056 | K69: 32 | L69: Dự án sản xuất, cung cấp hơi bão hòa tại KCN Long Thành của Công ty TNHH Kim Trường Phúc, Lô 23B KCN Long Thành, Tam An, Long Thành, Đồng Nai | M69: 108257425 | N69: 1069271046 | O69: CSSX320068 | P69: 210897
A70: 69 | B70: Cty TNHH CN Phú Thái - chi nhánh Đồng Nai | C70: Lô 22G KCN Long Thành | D70: Tam An | E70: Long Thành | F70: Đồng Nai | G70: Nhà máy | H70: 0251-3514997/998 | I70: 918560 | J70: 1056 | K70: 32 | L70: Cty TNHH CN Phú Thái - chi nhánh Đồng Nai, Lô 22G KCN Long Thành, Tam An, Long Thành, Đồng Nai | M70: 108220822 | N70: 1069191029 | O70: CSSX320069 | P70: 964660
A71: 70 | B71: Nhà máy sản xuất của Cty TNHH Kỹ nghệ lạnh Âu Châu - Chi nhánh Long Thành | C71: Lô 18F KCN Long Thành | D71: Tam An | E71: Long Thành | F71: Đồng Nai | G71: Nhà máy | I71: 918560 | J71: 1056 | K71: 32 | L71: Nhà máy sản xuất của Cty TNHH Kỹ nghệ lạnh Âu Châu - Chi nhánh Long Thành, Lô 18F KCN Long Thành, Tam An, Long Thành, Đồng Nai | M71: 108137079 | N71: 106923733 | O71: CSSX320070 | P71: 292365
A72: 71 | B72: Nhà máy sản xuất Cty CP Điện cơ Hoàng Hưng tại KCN Long Thành tỉnh Đồng Nai | C72: Lô 7E KCN Long Thành | D72: Tam An | E72: Long Thành | F72: Đồng Nai | G72: Nhà máy | I72: 918560 | J72: 1056 | K72: 32 | L72: Nhà máy sản xuất Cty CP Điện cơ Hoàng Hưng tại KCN Long Thành tỉnh Đồng Nai, Lô 7E KCN Long Thành, Tam An, Long Thành, Đồng Nai | M72: 108140113 | N72: 1069179583 | O72: CSSX320071 | P72: 443606
A73: 72 | B73: CƠ SỞ 2 – NHÀ MÁY CADIVI MIỀN ĐÔNG (trước là CƠ SỞ 1- XÍ NGHIỆP THÀNH MỸ - CHI NHÁNH CÔNG TY CỔ PHẦN DÂY CÁP ĐIỆN VIỆT NAM) | C73: Lô 2F KCN Long Thành | D73: Tam An | E73: Long Thành | F73: Đồng Nai | G73: Nhà máy | I73: 918560 | J73: 1056 | K73: 32 | L73: CƠ SỞ 2 – NHÀ MÁY CADIVI MIỀN ĐÔNG (trước là CƠ SỞ 1- XÍ NGHIỆP THÀNH MỸ - CHI NHÁNH CÔNG TY CỔ PHẦN DÂY CÁP ĐIỆN VIỆT NAM), Lô 2F KCN Long Thành, Tam An, Long Thành, Đồng Nai | M73: 109094923 | N73: 1068514022 | O73: CSSX320072 | P73: 968925
A74: 73 | B74: Dự án Đầu tư dây chuyền sản xuất cà phê rang xay của Cty CP Sản xuất thương mại CDN (thuê nhà xưởng của Cty CP Vina Café Biên Hòa trong 10 năm) | C74: Lô 18B KCN Long Thành | D74: Tam An | E74: Long Thành | F74: Đồng Nai | G74: Nhà máy | I74: 918560 | J74: 1056 | K74: 32 | L74: Dự án Đầu tư dây chuyền sản xuất cà phê rang xay của Cty CP Sản xuất thương mại CDN (thuê nhà xưởng của Cty CP Vina Café Biên Hòa trong 10 năm), Lô 18B KCN Long Thành, Tam An, Long Thành, Đồng Nai | O74: CSSX320073 | P74: 741230
A75: 74 | B75: NHÀ MÁY TMB | C75: Lô 16G KCN Long Thành | D75: Tam An | E75: Long Thành | F75: Đồng Nai | G75: Nhà máy | H75: 028-22435576/ 0909419188 (Ms Thảo) | I75: 918560 | J75: 1056 | K75: 32 | L75: NHÀ MÁY TMB, Lô 16G KCN Long Thành, Tam An, Long Thành, Đồng Nai | M75: 108131843 | N75: 1069241726 | O75: CSSX320074 | P75: 514659
A76: 75 | B76: NHÀ MÁY TẠO HẠT NHỰA – CÔNG TY TNHH MỘT THÀNH VIÊN CADIVI ĐỒNG NAI TẠI LONG THÀNH | C76: Lô 21H KCN Long Thành | D76: Tam An | E76: Long Thành | F76: Đồng Nai | G76: Nhà máy | I76: 918560 | J76: 1056 | K76: 32 | L76: NHÀ MÁY TẠO HẠT NHỰA – CÔNG TY TNHH MỘT THÀNH VIÊN CADIVI ĐỒNG NAI TẠI LONG THÀNH, Lô 21H KCN Long Thành, Tam An, Long Thành, Đồng Nai | M76: 108274344 | N76: 1069313976 | O76: CSSX320075 | P76: 912036
A77: 76 | B77: Chi nhánh Cty cà phê Vĩnh An | C77: Lô 12A KCN Long Thành | D77: Tam An | E77: Long Thành | F77: Đồng Nai | G77: Nhà máy | I77: 918560 | J77: 1056 | K77: 32 | L77: Chi nhánh Cty cà phê Vĩnh An, Lô 12A KCN Long Thành, Tam An, Long Thành, Đồng Nai | M77: 108257425 | N77: 1069271046 | O77: CSSX320076 | P77: 409952
A78: 77 | B78: Cty TNHH Dae Myung Chemical (Việt Nam) (trước là DY Vina Sanitary) | C78: Lô 10B KCN Long Thành | D78: Tam An | E78: Long Thành | F78: Đồng Nai | G78: Nhà máy | H78: 0251-514037/038 | I78: 918560 | J78: 1056 | K78: 32 | L78: Cty TNHH Dae Myung Chemical (Việt Nam) (trước là DY Vina Sanitary), Lô 10B KCN Long Thành, Tam An, Long Thành, Đồng Nai | M78: 10821308 | N78: 1069156137 | O78: CSSX320077 | P78: 464433
A79: 78 | B79: Cty TNHH Quốc tế Kim Bảo Sơn (Việt Nam) | C79: Lô 15H KCN Long Thành | D79: Tam An | E79: Long Thành | F79: Đồng Nai | G79: Nhà máy | H79: 0251-3514022/025/026 / 0127.3926920 (Ms Ánh) | I79: 918560 | J79: 1056 | K79: 32 | L79: Cty TNHH Quốc tế Kim Bảo Sơn (Việt Nam), Lô 15H KCN Long Thành, Tam An, Long Thành, Đồng Nai | M79: 108210121 | N79: 106923033 | O79: CSSX320078 | P79: 298937
A80: 79 | B80: Cty TNHH Dae Duk Band Vietnam | C80: Lô 7A KCN Long Thành | D80: Tam An | E80: Long Thành | F80: Đồng Nai | G80: Nhà máy | H80: 0251-3514046-8 | I80: 918560 | J80: 1056 | K80: 32 | L80: Cty TNHH Dae Duk Band Vietnam, Lô 7A KCN Long Thành, Tam An, Long Thành, Đồng Nai | M80: 108213667 | N80: 1069162446 | O80: CSSX320079 | P80: 461183
A81: 80 | B81: Cty TNHH ILSam Việt Nam | C81: Lô 18A KCN Long Thành | D81: Tam An | E81: Long Thành | F81: Đồng Nai | G81: Nhà máy | H81: 0251-3514313 | I81: 918560 | J81: 1056 | K81: 32 | L81: Cty TNHH ILSam Việt Nam, Lô 18A KCN Long Thành, Tam An, Long Thành, Đồng Nai | M81: 108147095 | N81: 1069140768 | O81: CSSX320080 | P81: 772436
A82: 81 | B82: Cty TNHH Polycom | C82: Lô 12A KCN Long Thành | D82: Tam An | E82: Long Thành | F82: Đồng Nai | G82: Nhà máy | H82: 0251-3514383/384 | I82: 918560 | J82: 1056 | K82: 32 | L82: Cty TNHH Polycom, Lô 12A KCN Long Thành, Tam An, Long Thành, Đồng Nai | M82: 108212984 | N82: 1069186084 | O82: CSSX320081 | P82: 786113
A83: 82 | B83: Cty TNHH Ansell Vina (tên cũ là Cty Midas Vina) | C83: Lô 10H KCN Long Thành | D83: Tam An | E83: Long Thành | F83: Đồng Nai | G83: Nhà máy | H83: 0251-3514346-8 | I83: 918560 | J83: 1056 | K83: 32 | L83: Cty TNHH Ansell Vina (tên cũ là Cty Midas Vina), Lô 10H KCN Long Thành, Tam An, Long Thành, Đồng Nai | M83: 108159387 | N83: 1069223148 | O83: CSSX320082 | P83: 543364
A84: 83 | B84: Cty TNHH Mainetti (Việt Nam) | C84: Lô 21H KCN Long Thành | D84: Tam An | E84: Long Thành | F84: Đồng Nai | G84: Nhà máy | H84: 0251-3514456 | I84: 918560 | J84: 1056 | K84: 32 | L84: Cty TNHH Mainetti (Việt Nam), Lô 21H KCN Long Thành, Tam An, Long Thành, Đồng Nai | M84: 108201139 | N84: 1069269383 | O84: CSSX320083 | P84: 488313
A85: 84 | B85: Cty CP Angel Việt Nam | C85: Lô 1H KCN Long Thành | D85: Tam An | E85: Long Thành | F85: Đồng Nai | G85: Nhà máy | H85: 08-35127317 | I85: 918560 | J85: 1056 | K85: 32 | L85: Cty CP Angel Việt Nam, Lô 1H KCN Long Thành, Tam An, Long Thành, Đồng Nai | M85: 108214873 | N85: 1069308258 | O85: CSSX320084 | P85: 518182
A86: 85 | B86: Cty TNHH MTV Boo Seong Vina | C86: Lô 22C KCN Long Thành | D86: Tam An | E86: Long Thành | F86: Đồng Nai | G86: Nhà máy | H86: 0251-2807006/007- 0906818994 (Ms Chung) | I86: 918560 | J86: 1056 | K86: 32 | L86: Cty TNHH MTV Boo Seong Vina, Lô 22C KCN Long Thành, Tam An, Long Thành, Đồng Nai | M86: 107272847 | N86: 1069065589 | O86: CSSX320085 | P86: 688663
A87: 86 | B87: Cty TNHH Framas Korea Vina | C87: Lô 24E KCN Long Thành | D87: Tam An | E87: Long Thành | F87: Đồng Nai | G87: Nhà máy | H87: 0251-3514400~2 | I87: 918560 | J87: 1056 | K87: 32 | L87: Cty TNHH Framas Korea Vina, Lô 24E KCN Long Thành, Tam An, Long Thành, Đồng Nai | M87: 10824027 | N87: 1069260101 | O87: CSSX320086 | P87: 519424
A88: 87 | B88: Cty TNHH Ponaflex Việt Nam | C88: Lô 1H KCN Long Thành | D88: Tam An | E88: Long Thành | F88: Đồng Nai | G88: Nhà máy | H88: 0251-3514741/ 0708252400 (Ms Bích) | I88: 918560 | J88: 1056 | K88: 32 | L88: Cty TNHH Ponaflex Việt Nam, Lô 1H KCN Long Thành, Tam An, Long Thành, Đồng Nai | M88: 108145731 | N88: 1069111723 | O88: CSSX320087 | P88: 576817
A89: 88 | B89: Cty TNHH Master Batch Việt Nam | C89: Lô 3C KCN Long Thành | D89: Tam An | E89: Long Thành | F89: Đồng Nai | G89: Nhà máy | H89: 0251-3514444 | I89: 918560 | J89: 1056 | K89: 32 | L89: Cty TNHH Master Batch Việt Nam, Lô 3C KCN Long Thành, Tam An, Long Thành, Đồng Nai | M89: 108237761 | N89: 1069224752 | O89: CSSX320088 | P89: 349884
... A91: 90 | B91: Cty TNHH Quốc tế Kim Bảo Sơn (Việt Nam) | C91: Lô 16A KCN Long Thành | D91: Tam An | E91: Long Thành | F91: Đồng Nai | G91: Nhà máy | H91: 0251-3514025 | I91: 918560 | J91: 1056 | K91: 32 | L91: Cty TNHH Quốc tế Kim Bảo Sơn (Việt Nam), Lô 16A KCN Long Thành, Tam An, Long Thành, Đồng Nai | M91: 108210121 | N91: 106923033 | O91: CSSX320090 | P91: 603076
A92: 91 | B92: Dự án đầu tư xây dựng và kinh doanh cơ sở hạ tầng kỹ thuật KCN Bình An - Lộc Sơn | C92: Lô 13D KCN Lộc An - Bình Sơn | D92: Lộc An | E92: Long Thành | F92: Đồng Nai | G92: Nhà máy | I92: 459808 | J92: 1056 | K92: 32 | L92: Dự án đầu tư xây dựng và kinh doanh cơ sở hạ tầng kỹ thuật KCN Bình An - Lộc Sơn, Lô 13D KCN Lộc An - Bình Sơn, Lộc An, Long Thành, Đồng Nai | M92: 107945701 | N92: 1069899796 | O92: CSSX320091 | P92: 829338
A93: 92 | B93: Nhà máy Sản xuất của Cty CP Bột giặt Net tại KCN Lộc An - Bình Sơn | C93: Lô 14F KCN Lộc An - Bình Sơn | D93: Lộc An | E93: Long Thành | F93: Đồng Nai | G93: Nhà máy | H93: 0251-3682102/ Hiến (0903386075) | I93: 459808 | J93: 1056 | K93: 32 | L93: Nhà máy Sản xuất của Cty CP Bột giặt Net tại KCN Lộc An - Bình Sơn, Lô 14F KCN Lộc An - Bình Sơn, Lộc An, Long Thành, Đồng Nai | M93: 10786511 | N93: 106991449 | O93: CSSX320092 | P93: 254245
A94: 93 | B94: Chi nhánh Cty TNHH Sản xuất bao bì Nam Việt tại KCN Lộc An -Bình Sơn | C94: Lô 22F KCN Lộc An - Bình Sơn | D94: Lộc An | E94: Long Thành | F94: Đồng Nai | G94: Nhà máy | I94: 459808 | J94: 1056 | K94: 32 | L94: Chi nhánh Cty TNHH Sản xuất bao bì Nam Việt tại KCN Lộc An -Bình Sơn, Lô 22F KCN Lộc An - Bình Sơn, Lộc An, Long Thành, Đồng Nai | M94: 107945701 | N94: 1069899796 | O94: CSSX320093 | P94: 328986
A95: 94 | B95: Nhà máy Sản xuất nội thất văn phòng TAV | C95: Lô 24D KCN Lộc An - Bình Sơn | D95: Lộc An | E95: Long Thành | F95: Đồng Nai | G95: Nhà máy | I95: 459808 | J95: 1056 | K95: 32 | L95: Nhà máy Sản xuất nội thất văn phòng TAV, Lô 24D KCN Lộc An - Bình Sơn, Lộc An, Long Thành, Đồng Nai | M95: 107945701 | N95: 1069899796 | O95: CSSX320094 | P95: 005711
A96: 95 | B96: Nhà máy sản xuất Bao bì Long Thành | C96: Lô 2F KCN Lộc An - Bình Sơn | D96: Lộc An | E96: Long Thành | F96: Đồng Nai | G96: Nhà máy | I96: 459808 | J96: 1056 | K96: 32 | L96: Nhà máy sản xuất Bao bì Long Thành, Lô 2F KCN Lộc An - Bình Sơn, Lộc An, Long Thành, Đồng Nai | M96: 107945701 | N96: 1069899796 | O96: CSSX320095 | P96: 021076
A97: 96 | B97: NHÀ MÁY SẢN XUẤT CÁP QUANG LONG THÀNH | C97: Lô 15E KCN Lộc An - Bình Sơn | D97: Lộc An | E97: Long Thành | F97: Đồng Nai | G97: Nhà máy | I97: 459808 | J97: 1056 | K97: 32 | L97: NHÀ MÁY SẢN XUẤT CÁP QUANG LONG THÀNH, Lô 15E KCN Lộc An - Bình Sơn, Lộc An, Long Thành, Đồng Nai | M97: 107922532 | N97: 1069832124 | O97: CSSX320096 | P97: 147272
A98: 97 | B98: Nhà máy sản xuất thủy sản miền Đông | C98: Lô 4H KCN Lộc An - Bình Sơn | D98: Lộc An | E98: Long Thành | F98: Đồng Nai | G98: Nhà máy | I98: 459808 | J98: 1056 | K98: 32 | L98: Nhà máy sản xuất thủy sản miền Đông, Lô 4H KCN Lộc An - Bình Sơn, Lộc An, Long Thành, Đồng Nai | M98: 107945701 | N98: 1069899796 | O98: CSSX320097 | P98: 864267
A99: 98 | B99: CÔNG TY CỔ PHẦN XÂY DỰNG VÀ PHÁT TRIỂN THẾ HỆ MỚI CHI NHÁNH ĐỒNG NAI (NHÀ XƯỞNG CHO THUÊ TẠI KCN LỘC AN – BÌNH SƠN ) | C99: Lô 14F KCN Lộc An - Bình Sơn | D99: Lộc An | E99: Long Thành | F99: Đồng Nai | G99: Nhà máy | I99: 459808 | J99: 1056 | K99: 32 | L99: CÔNG TY CỔ PHẦN XÂY DỰNG VÀ PHÁT TRIỂN THẾ HỆ MỚI CHI NHÁNH ĐỒNG NAI (NHÀ XƯỞNG CHO THUÊ TẠI KCN LỘC AN – BÌNH SƠN ), Lô 14F KCN Lộc An - Bình Sơn, Lộc An, Long Thành, Đồng Nai | M99: 107821622 | N99: 1069937433 | O99: CSSX320098 | P99: 808208
A100: 99 | B100: CÔNG TY CỔ PHẦN XUẤT NHẬP KHẨU THỰC PHẨM SÀI GÒN - CHI NHÁNH MIỀN ĐÔNG | C100: Lô 2H KCN Lộc An - Bình Sơn | D100: Lộc An | E100: Long Thành | F100: Đồng Nai | G100: Nhà máy | H100: 913906450 | I100: 459808 | J100: 1056 | K100: 32 | L100: CÔNG TY CỔ PHẦN XUẤT NHẬP KHẨU THỰC PHẨM SÀI GÒN - CHI NHÁNH MIỀN ĐÔNG, Lô 2H KCN Lộc An - Bình Sơn, Lộc An, Long Thành, Đồng Nai | M100: 10804772 | N100: 106708355 | O100: CSSX320099 | P100: 768866
A101: 100 | B101: NHÀ MÁY NEW SUN ĐỒNG NAI | C101: Lô 16A KCN Lộc An - Bình Sơn | D101: Lộc An | E101: Long Thành | F101: Đồng Nai | G101: Nhà máy | I101: 459808 | J101: 1056 | K101: 32 | L101: NHÀ MÁY NEW SUN ĐỒNG NAI, Lô 16A KCN Lộc An - Bình Sơn, Lộc An, Long Thành, Đồng Nai | M101: 107945701 | N101: 1069899796 | O101: CSSX320100 | P101: 926399
A102: 101 | B102: NHÀ MÁY MỸ KHANG ĐỒNG NAI | C102: Lô 13G KCN Lộc An - Bình Sơn | D102: Lộc An | E102: Long Thành | F102: Đồng Nai | G102: Nhà máy | I102: 459808 | J102: 1056 | K102: 32 | L102: NHÀ MÁY MỸ KHANG ĐỒNG NAI, Lô 13G KCN Lộc An - Bình Sơn, Lộc An, Long Thành, Đồng Nai | M102: 107674647 | N102: 1067255241 | O102: CSSX320101 | P102: 177909
A103: 102 | B103: NHÀ MÁY CLEANTECH ĐỒNG NAI | C103: Lô 10B KCN Lộc An - Bình Sơn | D103: Lộc An | E103: Long Thành | F103: Đồng Nai | G103: Nhà máy | I103: 459808 | J103: 1056 | K103: 32 | L103: NHÀ MÁY CLEANTECH ĐỒNG NAI, Lô 10B KCN Lộc An - Bình Sơn, Lộc An, Long Thành, Đồng Nai | M103: 107945701 | N103: 1069899796 | O103: CSSX320102 | P103: 642267
...

Sheet BR-VT (Lỗi)
A1: STT | B1: Tên doanh nghiệp | C1: Số nhà | D1: Xã/Phường | E1: Quận/ | F1: Tỉnh/ | G1: Loại hình | H1: Liên hệ | I1: ID | J1: ID QH | K1: ID TP | L1: ĐIạ chỉ lấy lat-long | M1: Latitude | N1: Longitude
A2: 966 | B2: Bánh mì Ngọc Nga | C2: Khu phố 7 | E2: Côn Đảo | F2: Bà Rịa - Vũng Tàu | G2: CSSX | H2: 907444471 | I2: {=INDEX(DVHC!$E$778:$E$11831,MATCH(1,(D2=DVHC!$C$778:$C$11831)*(J2=DVHC!$H$778:$H$11831),0))} -> #N/A | J2: {=INDEX(DVHC!$E$65:$E$777,MATCH(1,(E2=DVHC!$C$65:$C$777)*(K2=DVHC!$H$65:$H$777),0))} -> 1041 | K2: =VLOOKUP(F2, DVHC!$C:$E, 3, 0) -> 17
A3: 969 | B3: Lò bún Thanh Quý | C3: Khu 8 | E3: Côn Đảo | F3: Bà Rịa - Vũng Tàu | G3: CSSX | I3: {=INDEX(DVHC!$E$778:$E$11831,MATCH(1,(D3=DVHC!$C$778:$C$11831)*(J3=DVHC!$H$778:$H$11831),0))} -> #N/A | J3: {=INDEX(DVHC!$E$65:$E$777,MATCH(1,(E3=DVHC!$C$65:$C$777)*(K3=DVHC!$H$65:$H$777),0))} -> 1041 | K3: =VLOOKUP(F3, DVHC!$C:$E, 3, 0) -> 17
A4: 971 | B4: Cơ sở bánh mỳ Hương Trang | C4: Khu 6 | E4: Côn Đảo | F4: Bà Rịa - Vũng Tàu | G4: CSSX | I4: {=INDEX(DVHC!$E$778:$E$11831,MATCH(1,(D4=DVHC!$C$778:$C$11831)*(J4=DVHC!$H$778:$H$11831),0))} -> #N/A | J4: {=INDEX(DVHC!$E$65:$E$777,MATCH(1,(E4=DVHC!$C$65:$C$777)*(K4=DVHC!$H$65:$H$777),0))} -> 1041 | K4: =VLOOKUP(F4, DVHC!$C:$E, 3, 0) -> 17
A5: 974 | B5: Vựa hải sản Hương Đào | C5: Chợ Côn Đảo | E5: Côn Đảo | F5: Bà Rịa - Vũng Tàu | G5: CSSX | H5: 0643.508.337 0643.508.537 | I5: {=INDEX(DVHC!$E$778:$E$11831,MATCH(1,(D5=DVHC!$C$778:$C$11831)*(J5=DVHC!$H$778:$H$11831),0))} -> #N/A | J5: {=INDEX(DVHC!$E$65:$E$777,MATCH(1,(E5=DVHC!$C$65:$C$777)*(K5=DVHC!$H$65:$H$777),0))} -> 1041 | K5: =VLOOKUP(F5, DVHC!$C:$E, 3, 0) -> 17
A6: 977 | B6: Cơ sở Thu Hồng | C6: Đường Nguyễn Huệ, khu 8 | E6: Côn Đảo | F6: Bà Rịa - Vũng Tàu | G6: CSSX | H6: 901628206 | I6: {=INDEX(DVHC!$E$778:$E$11831,MATCH(1,(D6=DVHC!$C$778:$C$11831)*(J6=DVHC!$H$778:$H$11831),0))} -> #N/A | J6: {=INDEX(DVHC!$E$65:$E$777,MATCH(1,(E6=DVHC!$C$65:$C$777)*(K6=DVHC!$H$65:$H$777),0))} -> 1041 | K6: =VLOOKUP(F6, DVHC!$C:$E, 3, 0) -> 17
A7: 979 | B7: Hộ kinh doanh cửa hàng Phúc Tường | C7: Khu 4 | E7: Côn Đảo | F7: Bà Rịa - Vũng Tàu | G7: CSSX | H7: 908078877 | I7: {=INDEX(DVHC!$E$778:$E$11831,MATCH(1,(D7=DVHC!$C$778:$C$11831)*(J7=DVHC!$H$778:$H$11831),0))} -> #N/A | J7: {=INDEX(DVHC!$E$65:$E$777,MATCH(1,(E7=DVHC!$C$65:$C$777)*(K7=DVHC!$H$65:$H$777),0))} -> 1041 | K7: =VLOOKUP(F7, DVHC!$C:$E, 3, 0) -> 17
A8: 982 | B8: Vựa hải sản, sản phẩm sạch nhất Côn Đảo | C8: 8B Lê Hồng Phong | E8: Côn Đảo | F8: Bà Rịa - Vũng Tàu | G8: CSSX | H8: 643830918 | I8: {=INDEX(DVHC!$E$778:$E$11831,MATCH(1,(D8=DVHC!$C$778:$C$11831)*(J8=DVHC!$H$778:$H$11831),0))} -> #N/A | J8: {=INDEX(DVHC!$E$65:$E$777,MATCH(1,(E8=DVHC!$C$65:$C$777)*(K8=DVHC!$H$65:$H$777),0))} -> 1041 | K8: =VLOOKUP(F8, DVHC!$C:$E, 3, 0) -> 17
A9: 987 | B9: Cơ sở Thủy sản Hai Nga | C9: Số 8, Lê Hồng Phong | E9: Côn Đảo | F9: Bà Rịa - Vũng Tàu | G9: CSSX | H9: 643832060 | I9: {=INDEX(DVHC!$E$778:$E$11831,MATCH(1,(D9=DVHC!$C$778:$C$11831)*(J9=DVHC!$H$778:$H$11831),0))} -> #N/A | J9: {=INDEX(DVHC!$E$65:$E$777,MATCH(1,(E9=DVHC!$C$65:$C$777)*(K9=DVHC!$H$65:$H$777),0))} -> 1041 | K9: =VLOOKUP(F9, DVHC!$C:$E, 3, 0) -> 17
A10: 988 | B10: Cơ sở Hoàng Mai | C10: Đường Phạm Văn Đồng, Khu 7 | E10: Côn Đảo | F10: Bà Rịa - Vũng Tàu | G10: CSSX | H10: 945642234 | I10: {=INDEX(DVHC!$E$778:$E$11831,MATCH(1,(D10=DVHC!$C$778:$C$11831)*(J10=DVHC!$H$778:$H$11831),0))} -> #N/A | J10: {=INDEX(DVHC!$E$65:$E$777,MATCH(1,(E10=DVHC!$C$65:$C$777)*(K10=DVHC!$H$65:$H$777),0))} -> 1041 | K10: =VLOOKUP(F10, DVHC!$C:$E, 3, 0) -> 17

Sheet Bắc Giang(lỗi)
A1: STT | B1: Tên doanh nghiệp | C1: Số nhà | D1: Xã, phường | E1: Quận/ | F1: Tỉnh/ | G1: Loại hình | H1: Liên hệ | I1: ID | J1: ID QH | K1: ID TP | L1: ĐIạ chỉ lấy lat-long
A2: 60 | B2: Công ty TNHH Keo San Vina Electronics | C2: Một phần lô CN5, Cụm công nghiệp Hợp Thịnh | D2: Hợp Thịnh | E2: Việt Yên | F2: Bắc Giang | G2: NM sx, lắp ráp các loại máy, thiết bị điện tử kiểm tra các tính năng của điện thoại | I2: {=INDEX(DVHC!$E$778:$E$11831,MATCH(1,(D2=DVHC!$C$778:$C$11831)*(J2=DVHC!$H$778:$H$11831),0))} -> #N/A | J2: {=INDEX(DVHC!$E$65:$E$777,MATCH(1,(E2=DVHC!$C$65:$C$777)*(K2=DVHC!$H$65:$H$777),0))} -> 2067 | K2: =VLOOKUP(F2, DVHC!$C:$E, 3, 0) -> 19 | L2: =B2&", "&C2&", "&D2&", "&E2&", "&F2 -> Công ty TNHH Keo San Vina Electronics, Một phần lô CN5, Cụm công nghiệp Hợp Thịnh, Hợp Thịnh, Việt Yên, Bắc Giang
A3: 352 | B3: Công ty Hạ quốc | F3: Bắc Giang | G3: Sản xuất gang tay | I3: {=INDEX(DVHC!$E$778:$E$11831,MATCH(1,(D3=DVHC!$C$778:$C$11831)*(J3=DVHC!$H$778:$H$11831),0))} -> #N/A | J3: {=INDEX(DVHC!$E$65:$E$777,MATCH(1,(E3=DVHC!$C$65:$C$777)*(K3=DVHC!$H$65:$H$777),0))} -> #N/A | K3: =VLOOKUP(F3, DVHC!$C:$E, 3, 0) -> 19 | L3: =B3&", "&C3&", "&D3&", "&E3&", "&F3 -> Công ty Hạ quốc, , , , Bắc Giang
A4: 413 | B4: DNTN Nguyễn Văn Hà | F4: Bắc Giang | G4: TM tổng hợp | I4: {=INDEX(DVHC!$E$778:$E$11831,MATCH(1,(D4=DVHC!$C$778:$C$11831)*(J4=DVHC!$H$778:$H$11831),0))} -> #N/A | J4: {=INDEX(DVHC!$E$65:$E$777,MATCH(1,(E4=DVHC!$C$65:$C$777)*(K4=DVHC!$H$65:$H$777),0))} -> #N/A | K4: =VLOOKUP(F4, DVHC!$C:$E, 3, 0) -> 19 | L4: =B4&", "&C4&", "&D4&", "&E4&", "&F4 -> DNTN Nguyễn Văn Hà, , , , Bắc Giang
A5: 413 | B5: DNTN Nguyễn Văn Hà | F5: Bắc Giang | G5: TM tổng hợp | I5: {=INDEX(DVHC!$E$778:$E$11831,MATCH(1,(D5=DVHC!$C$778:$C$11831)*(J5=DVHC!$H$778:$H$11831),0))} -> #N/A | J5: {=INDEX(DVHC!$E$65:$E$777,MATCH(1,(E5=DVHC!$C$65:$C$777)*(K5=DVHC!$H$65:$H$777),0))} -> #N/A | K5: =VLOOKUP(F5, DVHC!$C:$E, 3, 0) -> 19 | L5: =B5&", "&C5&", "&D5&", "&E5&", "&F5 -> DNTN Nguyễn Văn Hà, , , , Bắc Giang
A6: 457 | B6: Công ty CP chăn nuôi và chế biến gia cầm Trường Anh | C6: Liên Cơ | D6: NT Yên Thế | E6: Yên Thế | F6: Bắc Giang | H6: 2403524138 | I6: {=INDEX(DVHC!$E$778:$E$11831,MATCH(1,(D6=DVHC!$C$778:$C$11831)*(J6=DVHC!$H$778:$H$11831),0))} -> #N/A | J6: {=INDEX(DVHC!$E$65:$E$777,MATCH(1,(E6=DVHC!$C$65:$C$777)*(K6=DVHC!$H$65:$H$777),0))} -> 2579 | K6: =VLOOKUP(F6, DVHC!$C:$E, 3, 0) -> 19 | L6: =B6&", "&C6&", "&D6&", "&E6&", "&F6 -> Công ty CP chăn nuôi và chế biến gia cầm Trường Anh, Liên Cơ, NT Yên Thế, Yên Thế, Bắc Giang

Sheet Bắc Kạn (lỗi)
A1: STT | B1: Cơ sở | C1: Địa chỉ | D1: Phường/xã | E1: Quận/Huyện | F1: Tỉnh/Thành phố | G1: Loại hình | H1: Liên hệ | I1: ID Phường | J1: ID QH | K1: ID TP | L1: Địa chỉ lấy lat-long | M1: Latitude | N1: Longitude
A2: 20 | B2: Công ty TNHH Bình Thanh | C2: Pò Chẹt | D2: Sơn Thành | E2: Na Rì | F2: Bắc Kạn | G2: CSSX | H2: 0974.663.206; 0914.767.326 | I2: {=INDEX(DVHC!$E$778:$E$11831,MATCH(1,(D2=DVHC!$C$778:$C$11831)*(J2=DVHC!$H$778:$H$11831),0))} -> #N/A | J2: {=INDEX(DVHC!$E$65:$E$777,MATCH(1,(E2=DVHC!$C$65:$C$777)*(K2=DVHC!$H$65:$H$777),0))} -> 1556 | K2: =VLOOKUP(F2, DVHC!$C:$E, 3, 0) -> 20 | L2: =B2&", "&C2&", "&D2&", "&E2&", "&F2 -> Công ty TNHH Bình Thanh, Pò Chẹt, Sơn Thành, Na Rì, Bắc Kạn | M2: 221938556 | N2: 106156179
A3: 38 | B3: Công ty TNHH Sản xuất và Thương mại Hồng Ngọc | C3: KCN Thanh Bình | D3: Thanh Bình | E3: Chợ Mới | F3: Bắc Kạn | G3: NM | H3: 0912048293 (a.Nam – PGĐ) hoặc 0985975488 (c.Thiềm) | I3: {=INDEX(DVHC!$E$778:$E$11831,MATCH(1,(D3=DVHC!$C$778:$C$11831)*(J3=DVHC!$H$778:$H$11831),0))} -> #N/A | J3: {=INDEX(DVHC!$E$65:$E$777,MATCH(1,(E3=DVHC!$C$65:$C$777)*(K3=DVHC!$H$65:$H$777),0))} -> #N/A | K3: =VLOOKUP(F3, DVHC!$C:$E, 3, 0) -> 20 | L3: =B3&", "&C3&", "&D3&", "&E3&", "&F3 -> Công ty TNHH Sản xuất và Thương mại Hồng Ngọc, KCN Thanh Bình, Thanh Bình, Chợ Mới, Bắc Kạn | M3: 219362229 | N3: 1058042474

Sheet Lâm Đồng(lỗi)
A1: 415 | B1: Công Ty Trách Nhiệm Hữu Hạn Bình Thuận | E1: Di Linh | F1: Lâm Đồng | G1: Sản Xuất Chế Biến Gỗ | H1: 937519699 | I1: {=INDEX(DVHC!$E$778:$E$11831,MATCH(1,(D1=DVHC!$C$778:$C$11831)*(J1=DVHC!$H$778:$H$11831),0))} -> #N/A | J1: {=INDEX(DVHC!$E$65:$E$777,MATCH(1,(E1=DVHC!$C$65:$C$777)*(K1=DVHC!$H$65:$H$777),0))} -> 1326 | K1: =VLOOKUP(F1, DVHC!$C:$E, 3, 0) -> 46
A2: 593 | B2: Công ty CP Thủy điện Đa Dâng 3 | C2: Số 7/1 Thành Thái | D2: 14 | E2: Quận 10 Hồ Chí Minh | F2: Lâm Đồng | G2: Sản Xuất Điện | H2: 908162950 | I2: {=INDEX(DVHC!$E$778:$E$11831,MATCH(1,(D2=DVHC!$C$778:$C$11831)*(J2=DVHC!$H$778:$H$11831),0))} -> #N/A | J2: {=INDEX(DVHC!$E$65:$E$777,MATCH(1,(E2=DVHC!$C$65:$C$777)*(K2=DVHC!$H$65:$H$777),0))} -> #N/A | K2: =VLOOKUP(F2, DVHC!$C:$E, 3, 0) -> 46
A3: 596 | B3: Công ty CP Đầu tư và Phát triển điện Cao Nguyên | C3: 194/9 Lê Văn Quới | D3: Bình Hưng Hòa 3 | E3: Quận Bình Tân, Hồ Chí Minh | F3: Lâm Đồng | G3: Sản Xuất Điện | H3: 903839879 | I3: {=INDEX(DVHC!$E$778:$E$11831,MATCH(1,(D3=DVHC!$C$778:$C$11831)*(J3=DVHC!$H$778:$H$11831),0))} -> #N/A | J3: {=INDEX(DVHC!$E$65:$E$777,MATCH(1,(E3=DVHC!$C$65:$C$777)*(K3=DVHC!$H$65:$H$777),0))} -> #N/A | K3: =VLOOKUP(F3, DVHC!$C:$E, 3, 0) -> 46

Sheet Bạc Liêu(lỗi)
A1: STT | B1: Tên doanh nghiệp | C1: Số nhà | D1: Xã/phường | E1: Quận/ | F1: Tỉnh/Thành phố | G1: Loại hình | H1: Liên hệ | I1: ID | J1: ID QH | K1: ID TP | L1: ĐIạ chỉ lấy lat-long
A2: 17 | B2: Cty CP thuỷ sản Bạc Liêu | C2: Ấp 2 | D2: Giá Rai | E2: Giá Rai | F2: Bạc Liêu | G2: NM | H2: 2913849567 | I2: {=INDEX(DVHC!$E$778:$E$11831,MATCH(1,(D2=DVHC!$C$778:$C$11831)*(J2=DVHC!$H$778:$H$11831),0))} -> #N/A | J2: {=INDEX(DVHC!$E$65:$E$777,MATCH(1,(E2=DVHC!$C$65:$C$777)*(K2=DVHC!$H$65:$H$777),0))} -> 530 | K2: =VLOOKUP(F2, DVHC!$C:$E, 3, 0) -> 18 | L2: =B2&", "&C2&", "&D2&", "&E2&", "&F2 -> Cty CP thuỷ sản Bạc Liêu, Ấp 2, Giá Rai, Giá Rai, Bạc Liêu | M2: 9242902 | N2: 1054793803
A3: 74 | B3: DNTN Ngäc Oanh | C3: 1/214 Êp VÜnh An | D3: X· VÜnh Tr¹ch | E3: Bạc Liêu | F3: Bạc Liêu | G3: NM | H3: 2913980010 | I3: {=INDEX(DVHC!$E$778:$E$11831,MATCH(1,(D3=DVHC!$C$778:$C$11831)*(J3=DVHC!$H$778:$H$11831),0))} -> #N/A | J3: {=INDEX(DVHC!$E$65:$E$777,MATCH(1,(E3=DVHC!$C$65:$C$777)*(K3=DVHC!$H$65:$H$777),0))} -> 274 | K3: =VLOOKUP(F3, DVHC!$C:$E, 3, 0) -> 18 | L3: =B3&", "&C3&", "&D3&", "&E3&", "&F3 -> DNTN Ngäc Oanh, 1/214 Êp VÜnh An, X· VÜnh Tr¹ch, Bạc Liêu, Bạc Liêu | M3: 93090846 | N3: 1057938069
A4: 78 | B4: DNTN Hång S¬n | C4: Sè 96/3, Êp 15 | D4: X· VÜnh Mü B | E4: Hòa Bình | F4: Bạc Liêu | G4: NM | H4: 2913880471 | I4: {=INDEX(DVHC!$E$778:$E$11831,MATCH(1,(D4=DVHC!$C$778:$C$11831)*(J4=DVHC!$H$778:$H$11831),0))} -> #N/A | J4: {=INDEX(DVHC!$E$65:$E$777,MATCH(1,(E4=DVHC!$C$65:$C$777)*(K4=DVHC!$H$65:$H$777),0))} -> 1042 | K4: =VLOOKUP(F4, DVHC!$C:$E, 3, 0) -> 18 | L4: =B4&", "&C4&", "&D4&", "&E4&", "&F4 -> DNTN Hång S¬n, Sè 96/3, Êp 15, X· VÜnh Mü B, Hòa Bình, Bạc Liêu
A5: 79 | B5: DNTN Tấn Phát | C5: Êp C¸i trµm B | D5: Hoµ B×nh | E5: Hòa Bình | F5: Bạc Liêu | G5: NM | H5: 2913880224 | I5: {=INDEX(DVHC!$E$778:$E$11831,MATCH(1,(D5=DVHC!$C$778:$C$11831)*(J5=DVHC!$H$778:$H$11831),0))} -> #N/A | J5: {=INDEX(DVHC!$E$65:$E$777,MATCH(1,(E5=DVHC!$C$65:$C$777)*(K5=DVHC!$H$65:$H$777),0))} -> 1042 | K5: =VLOOKUP(F5, DVHC!$C:$E, 3, 0) -> 18 | L5: =B5&", "&C5&", "&D5&", "&E5&", "&F5 -> DNTN Tấn Phát, Êp C¸i trµm B, Hoµ B×nh, Hòa Bình, Bạc Liêu | M5: 92734758 | N5: 105629523
A6: 80 | B6: DNTN Hoµng Phó | C6: Êp VÜnh L¹c | D6: X· VÜnh ThÞnh | E6: Hòa Bình | F6: Bạc Liêu | G6: NM | H6: 2913892787 | I6: {=INDEX(DVHC!$E$778:$E$11831,MATCH(1,(D6=DVHC!$C$778:$C$11831)*(J6=DVHC!$H$778:$H$11831),0))} -> #N/A | J6: {=INDEX(DVHC!$E$65:$E$777,MATCH(1,(E6=DVHC!$C$65:$C$777)*(K6=DVHC!$H$65:$H$777),0))} -> 1042 | K6: =VLOOKUP(F6, DVHC!$C:$E, 3, 0) -> 18 | L6: =B6&", "&C6&", "&D6&", "&E6&", "&F6 -> DNTN Hoµng Phó, Êp VÜnh L¹c, X· VÜnh ThÞnh, Hòa Bình, Bạc Liêu | M6: 92835317 | N6: 1056300312
A7: 81 | B7: Hång Nga - Chi Nh¸nh DNTN Xu©n Th¾ng | C7: Êp VÜnh L¹c | D7: x· VÜnh ThÞnh | E7: Hòa Bình | F7: Bạc Liêu | G7: NM | H7: 2913892787 | I7: {=INDEX(DVHC!$E$778:$E$11831,MATCH(1,(D7=DVHC!$C$778:$C$11831)*(J7=DVHC!$H$778:$H$11831),0))} -> #N/A | J7: {=INDEX(DVHC!$E$65:$E$777,MATCH(1,(E7=DVHC!$C$65:$C$777)*(K7=DVHC!$H$65:$H$777),0))} -> 1042 | K7: =VLOOKUP(F7, DVHC!$C:$E, 3, 0) -> 18 | L7: =B7&", "&C7&", "&D7&", "&E7&", "&F7 -> Hång Nga - Chi Nh¸nh DNTN Xu©n Th¾ng, Êp VÜnh L¹c, x· VÜnh ThÞnh, Hòa Bình, Bạc Liêu | M7: 92835317 | N7: 1056300312
A8: 83 | B8: DNTN H­ng Ph¸t I | C8: 206 H­¬ng Lé 6 Êp Cï Lao | D8: x· H­ng Héi | E8: Vĩnh Lợi | F8: Bạc Liêu | G8: NM | H8: 2913820710 | I8: {=INDEX(DVHC!$E$778:$E$11831,MATCH(1,(D8=DVHC!$C$778:$C$11831)*(J8=DVHC!$H$778:$H$11831),0))} -> #N/A | J8: {=INDEX(DVHC!$E$65:$E$777,MATCH(1,(E8=DVHC!$C$65:$C$777)*(K8=DVHC!$H$65:$H$777),0))} -> 1810 | K8: =VLOOKUP(F8, DVHC!$C:$E, 3, 0) -> 18 | L8: =B8&", "&C8&", "&D8&", "&E8&", "&F8 -> DNTN H­ng Ph¸t I, 206 H­¬ng Lé 6 Êp Cï Lao, x· H­ng Héi, Vĩnh Lợi, Bạc Liêu | M8: 9.2515555e+15 | N8: 1055136472
A9: 88 | B9: DNTN Hải Hưng | C9: Khu III | D9: Gành Hào | E9: Giá Rai | F9: Bạc Liêu | G9: NM | H9: 2913845123 | I9: {=INDEX(DVHC!$E$778:$E$11831,MATCH(1,(D9=DVHC!$C$778:$C$11831)*(J9=DVHC!$H$778:$H$11831),0))} -> #N/A | J9: {=INDEX(DVHC!$E$65:$E$777,MATCH(1,(E9=DVHC!$C$65:$C$777)*(K9=DVHC!$H$65:$H$777),0))} -> 530 | K9: =VLOOKUP(F9, DVHC!$C:$E, 3, 0) -> 18 | L9: =B9&", "&C9&", "&D9&", "&E9&", "&F9 -> DNTN Hải Hưng, Khu III, Gành Hào, Giá Rai, Bạc Liêu | M9: 92291195 | N9: 1054603922
A10: 89 | B10: DNTN Thµnh Lîi | C10: Êp 1 | D10: Hé Phßng | E10: Giá Rai | F10: Bạc Liêu | G10: NM | H10: 0291.3850018; 0919434256 | I10: {=INDEX(DVHC!$E$778:$E$11831,MATCH(1,(D10=DVHC!$C$778:$C$11831)*(J10=DVHC!$H$778:$H$11831),0))} -> #N/A | J10: {=INDEX(DVHC!$E$65:$E$777,MATCH(1,(E10=DVHC!$C$65:$C$777)*(K10=DVHC!$H$65:$H$777),0))} -> 530 | K10: =VLOOKUP(F10, DVHC!$C:$E, 3, 0) -> 18 | L10: =B10&", "&C10&", "&D10&", "&E10&", "&F10 -> DNTN Thµnh Lîi, Êp 1, Hé Phßng, Giá Rai, Bạc Liêu | M10: 92213584 | N10: 105348246
A11: 90 | B11: DNTN Thµnh H­ng | C11: Êp 1 | D11: X· T©n Phong | E11: Giá Rai | F11: Bạc Liêu | G11: NM | H11: 2913851375 | I11: {=INDEX(DVHC!$E$778:$E$11831,MATCH(1,(D11=DVHC!$C$778:$C$11831)*(J11=DVHC!$H$778:$H$11831),0))} -> #N/A | J11: {=INDEX(DVHC!$E$65:$E$777,MATCH(1,(E11=DVHC!$C$65:$C$777)*(K11=DVHC!$H$65:$H$777),0))} -> 530 | K11: =VLOOKUP(F11, DVHC!$C:$E, 3, 0) -> 18 | L11: =B11&", "&C11&", "&D11&", "&E11&", "&F11 -> DNTN Thµnh H­ng, Êp 1, X· T©n Phong, Giá Rai, Bạc Liêu | M11: 9260136 | N11: 1053753129
A12: 91 | B12: DNTN Hoµng Nam | C12: QL 1A, Êp Xãm Míi | D12: X· T©n Th¹nh | E12: Giá Rai | F12: Bạc Liêu | G12: NM | H12: 2913506001 | I12: {=INDEX(DVHC!$E$778:$E$11831,MATCH(1,(D12=DVHC!$C$778:$C$11831)*(J12=DVHC!$H$778:$H$11831),0))} -> #N/A | J12: {=INDEX(DVHC!$E$65:$E$777,MATCH(1,(E12=DVHC!$C$65:$C$777)*(K12=DVHC!$H$65:$H$777),0))} -> 530 | K12: =VLOOKUP(F12, DVHC!$C:$E, 3, 0) -> 18 | L12: =B12&", "&C12&", "&D12&", "&E12&", "&F12 -> DNTN Hoµng Nam, QL 1A, Êp Xãm Míi, X· T©n Th¹nh, Giá Rai, Bạc Liêu | M12: 9.2517495e+15 | N12: 1055136224
A13: 93 | B13: DNTN TuÊn Thµnh | C13: Êp 5 | D13: Giá Rai | E13: Giá Rai | F13: Bạc Liêu | G13: NM | H13: 2913849426 | I13: {=INDEX(DVHC!$E$778:$E$11831,MATCH(1,(D13=DVHC!$C$778:$C$11831)*(J13=DVHC!$H$778:$H$11831),0))} -> #N/A | J13: {=INDEX(DVHC!$E$65:$E$777,MATCH(1,(E13=DVHC!$C$65:$C$777)*(K13=DVHC!$H$65:$H$777),0))} -> 530 | K13: =VLOOKUP(F13, DVHC!$C:$E, 3, 0) -> 18 | L13: =B13&", "&C13&", "&D13&", "&E13&", "&F13 -> DNTN TuÊn Thµnh, Êp 5, Giá Rai, Giá Rai, Bạc Liêu | M13: 92420549 | N13: 1054691899
A14: 94 | B14: DNTN Kim C­¬ng | C14: L¸ng Trßn | D14: X· Phong Th¹nh §«ng A | E14: Giá Rai | F14: Bạc Liêu | G14: NM | H14: 2913852714 | I14: {=INDEX(DVHC!$E$778:$E$11831,MATCH(1,(D14=DVHC!$C$778:$C$11831)*(J14=DVHC!$H$778:$H$11831),0))} -> #N/A | J14: {=INDEX(DVHC!$E$65:$E$777,MATCH(1,(E14=DVHC!$C$65:$C$777)*(K14=DVHC!$H$65:$H$777),0))} -> 530 | K14: =VLOOKUP(F14, DVHC!$C:$E, 3, 0) -> 18 | L14: =B14&", "&C14&", "&D14&", "&E14&", "&F14 -> DNTN Kim C­¬ng, L¸ng Trßn, X· Phong Th¹nh §«ng A, Giá Rai, Bạc Liêu | M14: 9260136 | N14: 1053753129
A15: 95 | B15: DNTN ViÖt TiÕn (Việt Thảo) | C15: 263 Êp 2 | D15: X· Phong Th¹nh §«ng A | E15: Giá Rai | F15: Bạc Liêu | G15: NM | H15: 2913852639 | I15: {=INDEX(DVHC!$E$778:$E$11831,MATCH(1,(D15=DVHC!$C$778:$C$11831)*(J15=DVHC!$H$778:$H$11831),0))} -> #N/A | J15: {=INDEX(DVHC!$E$65:$E$777,MATCH(1,(E15=DVHC!$C$65:$C$777)*(K15=DVHC!$H$65:$H$777),0))} -> 530 | K15: =VLOOKUP(F15, DVHC!$C:$E, 3, 0) -> 18 | L15: =B15&", "&C15&", "&D15&", "&E15&", "&F15 -> DNTN ViÖt TiÕn (Việt Thảo), 263 Êp 2, X· Phong Th¹nh §«ng A, Giá Rai, Bạc Liêu | M15: 9.317087e+15 | N15: 105494688
A16: 98 | B16: DNTN Chí Thành | C16: Ấp 2 | D16: Giá Rai | E16: Giá Rai | F16: Bạc Liêu | G16: NM | H16: 0291.3850804 | I16: {=INDEX(DVHC!$E$778:$E$11831,MATCH(1,(D16=DVHC!$C$778:$C$11831)*(J16=DVHC!$H$778:$H$11831),0))} -> #N/A | J16: {=INDEX(DVHC!$E$65:$E$777,MATCH(1,(E16=DVHC!$C$65:$C$777)*(K16=DVHC!$H$65:$H$777),0))} -> 530 | K16: =VLOOKUP(F16, DVHC!$C:$E, 3, 0) -> 18 | L16: =B16&", "&C16&", "&D16&", "&E16&", "&F16 -> DNTN Chí Thành, Ấp 2, Giá Rai, Giá Rai, Bạc Liêu | M16: 92383008 | N16: 1054579407
A17: 106 | B17: DNTN Tr­¬ng Thanh | C17: Ấp Hßa 2 | D17: X· Long §iÒn | E17: Đông Hải | F17: Bạc Liêu | G17: NM | H17: 0291.3840569; 0291.2244288 | I17: {=INDEX(DVHC!$E$778:$E$11831,MATCH(1,(D17=DVHC!$C$778:$C$11831)*(J17=DVHC!$H$778:$H$11831),0))} -> #N/A | J17: {=INDEX(DVHC!$E$65:$E$777,MATCH(1,(E17=DVHC!$C$65:$C$777)*(K17=DVHC!$H$65:$H$777),0))} -> 1298 | K17: =VLOOKUP(F17, DVHC!$C:$E, 3, 0) -> 18 | L17: =B17&", "&C17&", "&D17&", "&E17&", "&F17 -> DNTN Tr­¬ng Thanh, Ấp Hßa 2, X· Long §iÒn, Đông Hải, Bạc Liêu | M17: 91487573 | N17: 1055357139
A18: 107 | B18: DNTN T­ TriÖu | C18: Ấp C¸i Keo | D18: An Phóc | E18: Đông Hải | F18: Bạc Liêu | G18: NM | H18: 1237098111 | I18: {=INDEX(DVHC!$E$778:$E$11831,MATCH(1,(D18=DVHC!$C$778:$C$11831)*(J18=DVHC!$H$778:$H$11831),0))} -> #N/A | J18: {=INDEX(DVHC!$E$65:$E$777,MATCH(1,(E18=DVHC!$C$65:$C$777)*(K18=DVHC!$H$65:$H$777),0))} -> 1298 | K18: =VLOOKUP(F18, DVHC!$C:$E, 3, 0) -> 18 | L18: =B18&", "&C18&", "&D18&", "&E18&", "&F18 -> DNTN T­ TriÖu, Ấp C¸i Keo, An Phóc, Đông Hải, Bạc Liêu | M18: 9104407 | N18: 10529897
A19: 108 | B19: DNTN YÕn Ph¸t | C19: Êp Böu 2 | D19: X· Long §iÒn §«ng | E19: Đông Hải | F19: Bạc Liêu | G19: NM | H19: 2913840623 | I19: {=INDEX(DVHC!$E$778:$E$11831,MATCH(1,(D19=DVHC!$C$778:$C$11831)*(J19=DVHC!$H$778:$H$11831),0))} -> #N/A | J19: {=INDEX(DVHC!$E$65:$E$777,MATCH(1,(E19=DVHC!$C$65:$C$777)*(K19=DVHC!$H$65:$H$777),0))} -> 1298 | K19: =VLOOKUP(F19, DVHC!$C:$E, 3, 0) -> 18 | L19: =B19&", "&C19&", "&D19&", "&E19&", "&F19 -> DNTN YÕn Ph¸t, Êp Böu 2, X· Long §iÒn §«ng, Đông Hải, Bạc Liêu | M19: 91487573 | N19: 1055357139
A20: 109 | B20: DNTN ChÝ NguyÖn | C20: Êp Mü §iÒn | D20: X· Long §iÒn §«ng | E20: Đông Hải | F20: Bạc Liêu | G20: NM | H20: 0291.3858034; 0291.3892184 | I20: {=INDEX(DVHC!$E$778:$E$11831,MATCH(1,(D20=DVHC!$C$778:$C$11831)*(J20=DVHC!$H$778:$H$11831),0))} -> #N/A | J20: {=INDEX(DVHC!$E$65:$E$777,MATCH(1,(E20=DVHC!$C$65:$C$777)*(K20=DVHC!$H$65:$H$777),0))} -> 1298 | K20: =VLOOKUP(F20, DVHC!$C:$E, 3, 0) -> 18 | L20: =B20&", "&C20&", "&D20&", "&E20&", "&F20 -> DNTN ChÝ NguyÖn, Êp Mü §iÒn, X· Long §iÒn §«ng, Đông Hải, Bạc Liêu | M20: 91624336 | N20: 1054563904
A21: 110 | B21: DNTN H¶i §¨ng | C21: Khu vùc 4 | D21: Gµnh Hµo | E21: Đông Hải | F21: Bạc Liêu | G21: NM | H21: 2913844036 | I21: {=INDEX(DVHC!$E$778:$E$11831,MATCH(1,(D21=DVHC!$C$778:$C$11831)*(J21=DVHC!$H$778:$H$11831),0))} -> #N/A | J21: {=INDEX(DVHC!$E$65:$E$777,MATCH(1,(E21=DVHC!$C$65:$C$777)*(K21=DVHC!$H$65:$H$777),0))} -> 1298 | K21: =VLOOKUP(F21, DVHC!$C:$E, 3, 0) -> 18 | L21: =B21&", "&C21&", "&D21&", "&E21&", "&F21 -> DNTN H¶i §¨ng, Khu vùc 4, Gµnh Hµo, Đông Hải, Bạc Liêu | M21: 9.1630642e+15 | N21: 1054536718
A22: 111 | B22: DNTN NguyÔn V¨n ThuËn | C22: Khu vùc 4 | D22: Gµnh Hµo | E22: Đông Hải | F22: Bạc Liêu | G22: NM | H22: 0918209711; 0291.2214234 | I22: {=INDEX(DVHC!$E$778:$E$11831,MATCH(1,(D22=DVHC!$C$778:$C$11831)*(J22=DVHC!$H$778:$H$11831),0))} -> #N/A | J22: {=INDEX(DVHC!$E$65:$E$777,MATCH(1,(E22=DVHC!$C$65:$C$777)*(K22=DVHC!$H$65:$H$777),0))} -> 1298 | K22: =VLOOKUP(F22, DVHC!$C:$E, 3, 0) -> 18 | L22: =B22&", "&C22&", "&D22&", "&E22&", "&F22 -> DNTN NguyÔn V¨n ThuËn, Khu vùc 4, Gµnh Hµo, Đông Hải, Bạc Liêu | M22: 9.0390314e+15 | N22: 1054289297
A23: 112 | B23: DNTN Phóc Lîi | C23: Êp Lung S×nh | D23: X· §Þnh Thµnh | E23: Đông Hải | F23: Bạc Liêu | G23: NM | H23: 919345679 | I23: {=INDEX(DVHC!$E$778:$E$11831,MATCH(1,(D23=DVHC!$C$778:$C$11831)*(J23=DVHC!$H$778:$H$11831),0))} -> #N/A | J23: {=INDEX(DVHC!$E$65:$E$777,MATCH(1,(E23=DVHC!$C$65:$C$777)*(K23=DVHC!$H$65:$H$777),0))} -> 1298 | K23: =VLOOKUP(F23, DVHC!$C:$E, 3, 0) -> 18 | L23: =B23&", "&C23&", "&D23&", "&E23&", "&F23 -> DNTN Phóc Lîi, Êp Lung S×nh, X· §Þnh Thµnh, Đông Hải, Bạc Liêu | M23: 91323056 | N23: 1052955575
A24: 122 | B24: DNTN Nh©n Tµi 2 | C24: Sè 14 Êp Ph­íc Thành, | D24: X· Ph­íc Long | E24: phước Long | F24: Bạc Liêu | G24: NM | H24: 2913866676 | I24: {=INDEX(DVHC!$E$778:$E$11831,MATCH(1,(D24=DVHC!$C$778:$C$11831)*(J24=DVHC!$H$778:$H$11831),0))} -> #N/A | J24: {=INDEX(DVHC!$E$65:$E$777,MATCH(1,(E24=DVHC!$C$65:$C$777)*(K24=DVHC!$H$65:$H$777),0))} -> 1554 | K24: =VLOOKUP(F24, DVHC!$C:$E, 3, 0) -> 18 | L24: =B24&", "&C24&", "&D24&", "&E24&", "&F24 -> DNTN Nh©n Tµi 2, Sè 14 Êp Ph­íc Thành,, X· Ph­íc Long, phước Long, Bạc Liêu | M24: 94006715 | N24: 1054302383
A25: 126 | B25: DNTN H­ng Thµnh | C25: Ấp 15 | D25: X· VÜnh Mü B, | E25: Hòa Bình | F25: Bạc Liêu | G25: NM | H25: 291.38816 | I25: {=INDEX(DVHC!$E$778:$E$11831,MATCH(1,(D25=DVHC!$C$778:$C$11831)*(J25=DVHC!$H$778:$H$11831),0))} -> #N/A | J25: {=INDEX(DVHC!$E$65:$E$777,MATCH(1,(E25=DVHC!$C$65:$C$777)*(K25=DVHC!$H$65:$H$777),0))} -> 1042 | K25: =VLOOKUP(F25, DVHC!$C:$E, 3, 0) -> 18 | L25: =B25&", "&C25&", "&D25&", "&E25&", "&F25 -> DNTN H­ng Thµnh, Ấp 15, X· VÜnh Mü B,, Hòa Bình, Bạc Liêu
A26: 127 | B26: DNTN §øc Lîi | C26: Ấp 18 | D26: X· VÜnh Mü B, | E26: Hòa Bình | F26: Bạc Liêu | G26: NM | H26: 2913830316 | I26: {=INDEX(DVHC!$E$778:$E$11831,MATCH(1,(D26=DVHC!$C$778:$C$11831)*(J26=DVHC!$H$778:$H$11831),0))} -> #N/A | J26: {=INDEX(DVHC!$E$65:$E$777,MATCH(1,(E26=DVHC!$C$65:$C$777)*(K26=DVHC!$H$65:$H$777),0))} -> 1042 | K26: =VLOOKUP(F26, DVHC!$C:$E, 3, 0) -> 18 | L26: =B26&", "&C26&", "&D26&", "&E26&", "&F26 -> DNTN §øc Lîi, Ấp 18, X· VÜnh Mü B,, Hòa Bình, Bạc Liêu
A27: 131 | B27: DNTN T©n H­ng | C27: Ấp Trung H­ng 3 | D27: X· VÜnh H­ng | E27: Vĩnh Lợi | F27: Bạc Liêu | G27: NM | H27: 0291.3890510; 0917151224 | I27: {=INDEX(DVHC!$E$778:$E$11831,MATCH(1,(D27=DVHC!$C$778:$C$11831)*(J27=DVHC!$H$778:$H$11831),0))} -> #N/A | J27: {=INDEX(DVHC!$E$65:$E$777,MATCH(1,(E27=DVHC!$C$65:$C$777)*(K27=DVHC!$H$65:$H$777),0))} -> 1810 | K27: =VLOOKUP(F27, DVHC!$C:$E, 3, 0) -> 18 | L27: =B27&", "&C27&", "&D27&", "&E27&", "&F27 -> DNTN T©n H­ng, Ấp Trung H­ng 3, X· VÜnh H­ng, Vĩnh Lợi, Bạc Liêu | M27: 93871631 | N27: 1056119301
A28: 132 | B28: DNTN Tµi Lîi | C28: Ấp XÎo ChÝch | D28: X· Ch©u Thíi | E28: Vĩnh Lợi | F28: Bạc Liêu | G28: NM | H28: 0291.3830318; 0913892318 | I28: {=INDEX(DVHC!$E$778:$E$11831,MATCH(1,(D28=DVHC!$C$778:$C$11831)*(J28=DVHC!$H$778:$H$11831),0))} -> #N/A | J28: {=INDEX(DVHC!$E$65:$E$777,MATCH(1,(E28=DVHC!$C$65:$C$777)*(K28=DVHC!$H$65:$H$777),0))} -> 1810 | K28: =VLOOKUP(F28, DVHC!$C:$E, 3, 0) -> 18 | L28: =B28&", "&C28&", "&D28&", "&E28&", "&F28 -> DNTN Tµi Lîi, Ấp XÎo ChÝch, X· Ch©u Thíi, Vĩnh Lợi, Bạc Liêu | M28: 9358423 | N28: 105652983
A29: 133 | B29: DNTN §øc Lîi | C29: Ấp XÎo ChÝch | D29: X· Ch©u Thíi | E29: Vĩnh Lợi | F29: Bạc Liêu | G29: NM | H29: 0291.3830316; 091714099 | I29: {=INDEX(DVHC!$E$778:$E$11831,MATCH(1,(D29=DVHC!$C$778:$C$11831)*(J29=DVHC!$H$778:$H$11831),0))} -> #N/A | J29: {=INDEX(DVHC!$E$65:$E$777,MATCH(1,(E29=DVHC!$C$65:$C$777)*(K29=DVHC!$H$65:$H$777),0))} -> 1810 | K29: =VLOOKUP(F29, DVHC!$C:$E, 3, 0) -> 18 | L29: =B29&", "&C29&", "&D29&", "&E29&", "&F29 -> DNTN §øc Lîi, Ấp XÎo ChÝch, X· Ch©u Thíi, Vĩnh Lợi, Bạc Liêu | M29: 9358423 | N29: 105652983
A30: 134 | B30: DNTN H­ng Ph¸t | C30: Số 246 ấp cái Dầy | D30: X· Ch©u H­ng | E30: Vĩnh Lợi | F30: Bạc Liêu | G30: NM | H30: 2913830317 | I30: {=INDEX(DVHC!$E$778:$E$11831,MATCH(1,(D30=DVHC!$C$778:$C$11831)*(J30=DVHC!$H$778:$H$11831),0))} -> #N/A | J30: {=INDEX(DVHC!$E$65:$E$777,MATCH(1,(E30=DVHC!$C$65:$C$777)*(K30=DVHC!$H$65:$H$777),0))} -> 1810 | K30: =VLOOKUP(F30, DVHC!$C:$E, 3, 0) -> 18 | L30: =B30&", "&C30&", "&D30&", "&E30&", "&F30 -> DNTN H­ng Ph¸t, Số 246 ấp cái Dầy, X· Ch©u H­ng, Vĩnh Lợi, Bạc Liêu | M30: 93871631 | N30: 1056119301
A31: 135 | B31: DNTN Ích H­ng | C31: Ấp T©n T¹o | D31: X· Ch©u H­ng | E31: Vĩnh Lợi | F31: Bạc Liêu | G31: NM | H31: 0291.3821054; 0913990204 | I31: {=INDEX(DVHC!$E$778:$E$11831,MATCH(1,(D31=DVHC!$C$778:$C$11831)*(J31=DVHC!$H$778:$H$11831),0))} -> #N/A | J31: {=INDEX(DVHC!$E$65:$E$777,MATCH(1,(E31=DVHC!$C$65:$C$777)*(K31=DVHC!$H$65:$H$777),0))} -> 1810 | K31: =VLOOKUP(F31, DVHC!$C:$E, 3, 0) -> 18 | L31: =B31&", "&C31&", "&D31&", "&E31&", "&F31 -> DNTN Ích H­ng, Ấp T©n T¹o, X· Ch©u H­ng, Vĩnh Lợi, Bạc Liêu | M31: 3709024 | N31: -95712891
A32: 136 | B32: DNTN Anh XuyÕn | C32: Ấp XÎo ChÝch | D32: Ch©u Thíi | E32: Vĩnh Lợi | F32: Bạc Liêu | G32: NM | H32: 2913830315 | I32: {=INDEX(DVHC!$E$778:$E$11831,MATCH(1,(D32=DVHC!$C$778:$C$11831)*(J32=DVHC!$H$778:$H$11831),0))} -> #N/A | J32: {=INDEX(DVHC!$E$65:$E$777,MATCH(1,(E32=DVHC!$C$65:$C$777)*(K32=DVHC!$H$65:$H$777),0))} -> 1810 | K32: =VLOOKUP(F32, DVHC!$C:$E, 3, 0) -> 18 | L32: =B32&", "&C32&", "&D32&", "&E32&", "&F32 -> DNTN Anh XuyÕn, Ấp XÎo ChÝch, Ch©u Thíi, Vĩnh Lợi, Bạc Liêu | M32: 9358423 | N32: 105652983
A33: 137 | B33: DNTN Phong H­ng | C33: Sè 227 Êp C¸i Trµm I | D33: X· Ch©u H­ng A | E33: Vĩnh Lợi | F33: Bạc Liêu | G33: NM | H33: 2913830365 | I33: {=INDEX(DVHC!$E$778:$E$11831,MATCH(1,(D33=DVHC!$C$778:$C$11831)*(J33=DVHC!$H$778:$H$11831),0))} -> #N/A | J33: {=INDEX(DVHC!$E$65:$E$777,MATCH(1,(E33=DVHC!$C$65:$C$777)*(K33=DVHC!$H$65:$H$777),0))} -> 1810 | K33: =VLOOKUP(F33, DVHC!$C:$E, 3, 0) -> 18 | L33: =B33&", "&C33&", "&D33&", "&E33&", "&F33 -> DNTN Phong H­ng, Sè 227 Êp C¸i Trµm I, X· Ch©u H­ng A, Vĩnh Lợi, Bạc Liêu | M33: 93995064 | N33: 1055767493
A34: 138 | B34: DNTN Tµi Nguyªn II | C34: Ấp Cï Lao | D34: X· H­ng Héi | E34: Vĩnh Lợi | F34: Bạc Liêu | G34: NM | H34: 0291.3505559; 0918777634 | I34: {=INDEX(DVHC!$E$778:$E$11831,MATCH(1,(D34=DVHC!$C$778:$C$11831)*(J34=DVHC!$H$778:$H$11831),0))} -> #N/A | J34: {=INDEX(DVHC!$E$65:$E$777,MATCH(1,(E34=DVHC!$C$65:$C$777)*(K34=DVHC!$H$65:$H$777),0))} -> 1810 | K34: =VLOOKUP(F34, DVHC!$C:$E, 3, 0) -> 18 | L34: =B34&", "&C34&", "&D34&", "&E34&", "&F34 -> DNTN Tµi Nguyªn II, Ấp Cï Lao, X· H­ng Héi, Vĩnh Lợi, Bạc Liêu | M34: 93372716 | N34: 1057644596
A35: 145 | B35: DNTN Lâm Quèc Th¾ng | C35: Êp Long Thµnh | D35: TT .Ph­íc Long | E35: Phước Long | F35: Bạc Liêu | G35: NM | H35: 2913864105 | I35: {=INDEX(DVHC!$E$778:$E$11831,MATCH(1,(D35=DVHC!$C$778:$C$11831)*(J35=DVHC!$H$778:$H$11831),0))} -> #N/A | J35: {=INDEX(DVHC!$E$65:$E$777,MATCH(1,(E35=DVHC!$C$65:$C$777)*(K35=DVHC!$H$65:$H$777),0))} -> 1554 | K35: =VLOOKUP(F35, DVHC!$C:$E, 3, 0) -> 18 | L35: =B35&", "&C35&", "&D35&", "&E35&", "&F35 -> DNTN Lâm Quèc Th¾ng, Êp Long Thµnh, TT .Ph­íc Long, Phước Long, Bạc Liêu | M35: 94386589 | N35: 1054645171
A36: 146 | B36: DNTN Hßang Nam | C36: Êp VÜnh Mü | D36: x· VÜnh Phó §«ng | E36: Phước Long | F36: Bạc Liêu | G36: NM | H36: 2913864979 | I36: {=INDEX(DVHC!$E$778:$E$11831,MATCH(1,(D36=DVHC!$C$778:$C$11831)*(J36=DVHC!$H$778:$H$11831),0))} -> #N/A | J36: {=INDEX(DVHC!$E$65:$E$777,MATCH(1,(E36=DVHC!$C$65:$C$777)*(K36=DVHC!$H$65:$H$777),0))} -> 1554 | K36: =VLOOKUP(F36, DVHC!$C:$E, 3, 0) -> 18 | L36: =B36&", "&C36&", "&D36&", "&E36&", "&F36 -> DNTN Hßang Nam, Êp VÜnh Mü, x· VÜnh Phó §«ng, Phước Long, Bạc Liêu | M36: 94293187 | N36: 1055122694
A37: 147 | B37: DNTN Ph­¬ng TÝn | C37: Ấp VÜnh Hßa | D37: X· VÜnh Thanh | E37: Phước Long | F37: Bạc Liêu | G37: NM | H37: 2913869212 | I37: {=INDEX(DVHC!$E$778:$E$11831,MATCH(1,(D37=DVHC!$C$778:$C$11831)*(J37=DVHC!$H$778:$H$11831),0))} -> #N/A | J37: {=INDEX(DVHC!$E$65:$E$777,MATCH(1,(E37=DVHC!$C$65:$C$777)*(K37=DVHC!$H$65:$H$777),0))} -> 1554 | K37: =VLOOKUP(F37, DVHC!$C:$E, 3, 0) -> 18 | L37: =B37&", "&C37&", "&D37&", "&E37&", "&F37 -> DNTN Ph­¬ng TÝn, Ấp VÜnh Hßa, X· VÜnh Thanh, Phước Long, Bạc Liêu | M37: 9.3657651e+15 | N37: 105488828
A38: 148 | B38: DNTN C«ng Thµnh | C38: Ấp VÜnh §«ng | D38: X· VÜnh Thanh | E38: Phước Long | F38: Bạc Liêu | G38: NM | H38: 2913869237 | I38: {=INDEX(DVHC!$E$778:$E$11831,MATCH(1,(D38=DVHC!$C$778:$C$11831)*(J38=DVHC!$H$778:$H$11831),0))} -> #N/A | J38: {=INDEX(DVHC!$E$65:$E$777,MATCH(1,(E38=DVHC!$C$65:$C$777)*(K38=DVHC!$H$65:$H$777),0))} -> 1554 | K38: =VLOOKUP(F38, DVHC!$C:$E, 3, 0) -> 18 | L38: =B38&", "&C38&", "&D38&", "&E38&", "&F38 -> DNTN C«ng Thµnh, Ấp VÜnh §«ng, X· VÜnh Thanh, Phước Long, Bạc Liêu | M38: 9.3674588e+15 | N38: 1054809316
A39: 150 | B39: DNTN Toàn Ph¸t | C39: Êp 3 | D39: x· VÜnh Phó §«ng | E39: Phước Long | F39: Bạc Liêu | G39: NM | H39: 2913864581 | I39: {=INDEX(DVHC!$E$778:$E$11831,MATCH(1,(D39=DVHC!$C$778:$C$11831)*(J39=DVHC!$H$778:$H$11831),0))} -> #N/A | J39: {=INDEX(DVHC!$E$65:$E$777,MATCH(1,(E39=DVHC!$C$65:$C$777)*(K39=DVHC!$H$65:$H$777),0))} -> 1554 | K39: =VLOOKUP(F39, DVHC!$C:$E, 3, 0) -> 18 | L39: =B39&", "&C39&", "&D39&", "&E39&", "&F39 -> DNTN Toàn Ph¸t, Êp 3, x· VÜnh Phó §«ng, Phước Long, Bạc Liêu | M39: 94006715 | N39: 1054302383
A40: 151 | B40: DNTN §ång TiÕn | C40: Ấp Long Hậu | D40: Ph­íc Long | E40: Phước Long | F40: Bạc Liêu | G40: NM | H40: 2913864724 | I40: {=INDEX(DVHC!$E$778:$E$11831,MATCH(1,(D40=DVHC!$C$778:$C$11831)*(J40=DVHC!$H$778:$H$11831),0))} -> #N/A | J40: {=INDEX(DVHC!$E$65:$E$777,MATCH(1,(E40=DVHC!$C$65:$C$777)*(K40=DVHC!$H$65:$H$777),0))} -> 1554 | K40: =VLOOKUP(F40, DVHC!$C:$E, 3, 0) -> 18 | L40: =B40&", "&C40&", "&D40&", "&E40&", "&F40 -> DNTN §ång TiÕn, Ấp Long Hậu, Ph­íc Long, Phước Long, Bạc Liêu | M40: 9.4359613e+15 | N40: 1054627382
A41: 155 | B41: DNTN Trần Thiên | C41: Ấp Vĩnh Phú | D41: X· VÜnh Phó §«ng | E41: Phước Long | F41: Bạc Liêu | G41: NM | H41: 0291.3865809; 0918777896 | I41: {=INDEX(DVHC!$E$778:$E$11831,MATCH(1,(D41=DVHC!$C$778:$C$11831)*(J41=DVHC!$H$778:$H$11831),0))} -> #N/A | J41: {=INDEX(DVHC!$E$65:$E$777,MATCH(1,(E41=DVHC!$C$65:$C$777)*(K41=DVHC!$H$65:$H$777),0))} -> 1554 | K41: =VLOOKUP(F41, DVHC!$C:$E, 3, 0) -> 18 | L41: =B41&", "&C41&", "&D41&", "&E41&", "&F41 -> DNTN Trần Thiên, Ấp Vĩnh Phú, X· VÜnh Phó §«ng, Phước Long, Bạc Liêu | M41: 9.4621954e+15 | N41: 1055343675
A42: 156 | B42: DNTN Thuận An | C42: ấp Trường Thắng B | D42: x· VÜnh Thanh | E42: Phước Long | F42: Bạc Liêu | G42: NM | H42: 2913869210 | I42: {=INDEX(DVHC!$E$778:$E$11831,MATCH(1,(D42=DVHC!$C$778:$C$11831)*(J42=DVHC!$H$778:$H$11831),0))} -> #N/A | J42: {=INDEX(DVHC!$E$65:$E$777,MATCH(1,(E42=DVHC!$C$65:$C$777)*(K42=DVHC!$H$65:$H$777),0))} -> 1554 | K42: =VLOOKUP(F42, DVHC!$C:$E, 3, 0) -> 18 | L42: =B42&", "&C42&", "&D42&", "&E42&", "&F42 -> DNTN Thuận An, ấp Trường Thắng B, x· VÜnh Thanh, Phước Long, Bạc Liêu | M42: 10924067 | N42: 1067130309
A43: 62 | B43: DNTN Tân Tấn Lợi | C43: QL1A, Ấp 2 | D43: Giá Rai | E43: Giá Rai | F43: Bạc Liêu | G43: NM | H43: 0291.384824; 0291,3848480 | I43: {=INDEX(DVHC!$E$778:$E$11831,MATCH(1,(D43=DVHC!$C$778:$C$11831)*(J43=DVHC!$H$778:$H$11831),0))} -> #N/A | J43: {=INDEX(DVHC!$E$65:$E$777,MATCH(1,(E43=DVHC!$C$65:$C$777)*(K43=DVHC!$H$65:$H$777),0))} -> 530 | K43: =VLOOKUP(F43, DVHC!$C:$E, 3, 0) -> 18 | L43: =B43&", "&C43&", "&D43&", "&E43&", "&F43 -> DNTN Tân Tấn Lợi, QL1A, Ấp 2, Giá Rai, Giá Rai, Bạc Liêu | M43: 111933027 | N43: 1085930521

Sheet Ninh Bình (lỗi)
A1: STT | B1: Cơ sở | C1: Địa chỉ | D1: Phường/xã | E1: Quận/Huyện | F1: Tỉnh/Thành phố | G1: Loại hình | H1: Liên hệ | I1: ID Phường | J1: ID QH | K1: ID TP | L1: Địa chỉ lấy lat-long | M1: Latitude | N1: Longitude | O1: Username | P1: Password
A2: 91 | B2: Dự án ĐTXD cơ sở sản xuất kinh doanh hàng may mặc | C2: Xóm 2 | D2: Khánh Thuỷ | E2: Yên Khánh | F2: Ninh Bình | G2: Cơ sở | H2: 0913 217849 | I2: {=INDEX(DVHC!$E$778:$E$11831,MATCH(1,(D2=DVHC!$C$778:$C$11831)*(J2=DVHC!$H$778:$H$11831),0))} -> #N/A | J2: {=INDEX(DVHC!$E$65:$E$777,MATCH(1,(E2=DVHC!$C$65:$C$777)*(K2=DVHC!$H$65:$H$777),0))} -> 1844 | K2: =VLOOKUP(F2, DVHC!$C:$E, 3, 0) -> 52 | L2: =B2&", "&C2&", "&D2&", "&E2&", "&F2 -> Dự án ĐTXD cơ sở sản xuất kinh doanh hàng may mặc, Xóm 2, Khánh Thuỷ, Yên Khánh, Ninh Bình | M2: 201565318 | N2: 10612575

Sheet Lào Cai (lỗi)
A1: STT | B1: Tên doanh nghiệp | C1: Số nhà | D1: Xã/phường | E1: Quận/ | F1: Tỉnh/Thành phố | G1: Loại hình | H1: Liên hệ | I1: ID | J1: ID QH | K1: ID TP | L1: ĐIạ chỉ lấy lat-long
A2: 15 | B2: Công CP hóa chất Đức Giang | C2: Khu công nghiệp Tằng Loỏng | E2: Bảo Thắng | F2: Lào Cai | G2: Phốt pho, phân bón | H2: 2143774556 | I2: {=INDEX(DVHC!$E$778:$E$11831,MATCH(1,(D2=DVHC!$C$778:$C$11831)*(J2=DVHC!$H$778:$H$11831),0))} -> #N/A | J2: {=INDEX(DVHC!$E$65:$E$777,MATCH(1,(E2=DVHC!$C$65:$C$777)*(K2=DVHC!$H$65:$H$777),0))} -> 816 | K2: =VLOOKUP(F2, DVHC!$C:$E, 3, 0) -> 48 | L2: =B2&", "&C2&", "&D2&", "&E2&", "&F2 -> Công CP hóa chất Đức Giang, Khu công nghiệp Tằng Loỏng, , Bảo Thắng, Lào Cai | M2: 223330003 | N2: 104124819
A3: 16 | B3: Công ty CP rừng Lào Cai | C3: Số 370 Đường Nguyễn Huệ | D3: Lào Cai | F3: Lào Cai | G3: Gỗ các loại | H3: 989558266 | I3: {=INDEX(DVHC!$E$778:$E$11831,MATCH(1,(D3=DVHC!$C$778:$C$11831)*(J3=DVHC!$H$778:$H$11831),0))} -> #N/A | J3: {=INDEX(DVHC!$E$65:$E$777,MATCH(1,(E3=DVHC!$C$65:$C$777)*(K3=DVHC!$H$65:$H$777),0))} -> #N/A | K3: =VLOOKUP(F3, DVHC!$C:$E, 3, 0) -> 48 | L3: =B3&", "&C3&", "&D3&", "&E3&", "&F3 -> Công ty CP rừng Lào Cai, Số 370 Đường Nguyễn Huệ, Lào Cai, , Lào Cai | M3: 224892389 | N3: 1039791051
A4: 17 | B4: Công ty TNHH MTV Su pe lân APRO MACO Lào Cai | C4: Khu công nghiệp Tằng Loỏng | E4: Bảo Thắng | F4: Lào Cai | G4: Phân bón | H4: 2143867188 | I4: {=INDEX(DVHC!$E$778:$E$11831,MATCH(1,(D4=DVHC!$C$778:$C$11831)*(J4=DVHC!$H$778:$H$11831),0))} -> #N/A | J4: {=INDEX(DVHC!$E$65:$E$777,MATCH(1,(E4=DVHC!$C$65:$C$777)*(K4=DVHC!$H$65:$H$777),0))} -> 816 | K4: =VLOOKUP(F4, DVHC!$C:$E, 3, 0) -> 48 | L4: =B4&", "&C4&", "&D4&", "&E4&", "&F4 -> Công ty TNHH MTV Su pe lân APRO MACO Lào Cai, Khu công nghiệp Tằng Loỏng, , Bảo Thắng, Lào Cai | M4: 22291562 | N4: 1041492541
A5: 21 | B5: Công ty CP hoá chất Đức Giang | C5: Khu công nghiệp Tằng Loỏng | E5: Bảo Thắng | F5: Lào Cai | G5: Phốt pho vàng | H5: 02143.774.556 0974.030.753 | I5: {=INDEX(DVHC!$E$778:$E$11831,MATCH(1,(D5=DVHC!$C$778:$C$11831)*(J5=DVHC!$H$778:$H$11831),0))} -> #N/A | J5: {=INDEX(DVHC!$E$65:$E$777,MATCH(1,(E5=DVHC!$C$65:$C$777)*(K5=DVHC!$H$65:$H$777),0))} -> 816 | K5: =VLOOKUP(F5, DVHC!$C:$E, 3, 0) -> 48 | L5: =B5&", "&C5&", "&D5&", "&E5&", "&F5 -> Công ty CP hoá chất Đức Giang, Khu công nghiệp Tằng Loỏng, , Bảo Thắng, Lào Cai | M5: 223330003 | N5: 104124819
A6: 23 | B6: Công ty Cổ phần Nam Tiến Lào Cai | C6: Khu công nghiệp Tằng Loỏng | E6: Bảo Thắng | F6: Lào Cai | G6: Phốt pho vàng | H6: 21433820967 | I6: {=INDEX(DVHC!$E$778:$E$11831,MATCH(1,(D6=DVHC!$C$778:$C$11831)*(J6=DVHC!$H$778:$H$11831),0))} -> #N/A | J6: {=INDEX(DVHC!$E$65:$E$777,MATCH(1,(E6=DVHC!$C$65:$C$777)*(K6=DVHC!$H$65:$H$777),0))} -> 816 | K6: =VLOOKUP(F6, DVHC!$C:$E, 3, 0) -> 48 | L6: =B6&", "&C6&", "&D6&", "&E6&", "&F6 -> Công ty Cổ phần Nam Tiến Lào Cai, Khu công nghiệp Tằng Loỏng, , Bảo Thắng, Lào Cai | M6: 223330003 | N6: 104124819
A7: 28 | B7: Công ty TNHH VTXăng Dầu Quyết Thắng | C7: Thôn Làng Dạ | D7: Cam Đường | F7: Lào Cai | G7: Sản xuất gạch, thùng phi | H7: 2143752889 | I7: {=INDEX(DVHC!$E$778:$E$11831,MATCH(1,(D7=DVHC!$C$778:$C$11831)*(J7=DVHC!$H$778:$H$11831),0))} -> #N/A | J7: {=INDEX(DVHC!$E$65:$E$777,MATCH(1,(E7=DVHC!$C$65:$C$777)*(K7=DVHC!$H$65:$H$777),0))} -> #N/A | K7: =VLOOKUP(F7, DVHC!$C:$E, 3, 0) -> 48 | L7: =B7&", "&C7&", "&D7&", "&E7&", "&F7 -> Công ty TNHH VTXăng Dầu Quyết Thắng, Thôn Làng Dạ, Cam Đường, , Lào Cai | M7: 224016052 | N7: 1040246484
A8: 52 | B8: Công ty CP Linh Linh | C8: Số 6 - Tôn Đức Thắng - | E8: Đống Đa | F8: Hà Nội | G8: Sản xuất điện | H8: 0243 843 1753 | I8: {=INDEX(DVHC!$E$778:$E$11831,MATCH(1,(D8=DVHC!$C$778:$C$11831)*(J8=DVHC!$H$778:$H$11831),0))} -> #N/A | J8: {=INDEX(DVHC!$E$65:$E$777,MATCH(1,(E8=DVHC!$C$65:$C$777)*(K8=DVHC!$H$65:$H$777),0))} -> 2059 | K8: =VLOOKUP(F8, DVHC!$C:$E, 3, 0) -> 11 | L8: =B8&", "&C8&", "&D8&", "&E8&", "&F8 -> Công ty CP Linh Linh, Số 6 - Tôn Đức Thắng -, , Đống Đa, Hà Nội | M8: 210299697 | N8: 1058355037
A9: 58 | B9: Công ty CP NL Bắc Hà | C9: Tầng 2 - 19 Trúc Khê | E9: Đống Đa | F9: Hà Nội | G9: Sản xuất điện | H9: 0214 6294 668 | I9: {=INDEX(DVHC!$E$778:$E$11831,MATCH(1,(D9=DVHC!$C$778:$C$11831)*(J9=DVHC!$H$778:$H$11831),0))} -> #N/A | J9: {=INDEX(DVHC!$E$65:$E$777,MATCH(1,(E9=DVHC!$C$65:$C$777)*(K9=DVHC!$H$65:$H$777),0))} -> 2059 | K9: =VLOOKUP(F9, DVHC!$C:$E, 3, 0) -> 11 | L9: =B9&", "&C9&", "&D9&", "&E9&", "&F9 -> Công ty CP NL Bắc Hà, Tầng 2 - 19 Trúc Khê, , Đống Đa, Hà Nội | M9: 210157246 | N9: 1058082071
A10: 62 | B10: Công ty CP ĐTXD&PTNL Phúc Khánh | C10: Số 001 đường Nguyễn Huệ | D10: Phố Mới | F10: Lào Cai | G10: Sản xuất điện | H10: 02143 899 666 | I10: {=INDEX(DVHC!$E$778:$E$11831,MATCH(1,(D10=DVHC!$C$778:$C$11831)*(J10=DVHC!$H$778:$H$11831),0))} -> #N/A | J10: {=INDEX(DVHC!$E$65:$E$777,MATCH(1,(E10=DVHC!$C$65:$C$777)*(K10=DVHC!$H$65:$H$777),0))} -> #N/A | K10: =VLOOKUP(F10, DVHC!$C:$E, 3, 0) -> 48 | L10: =B10&", "&C10&", "&D10&", "&E10&", "&F10 -> Công ty CP ĐTXD&PTNL Phúc Khánh, Số 001 đường Nguyễn Huệ, Phố Mới, , Lào Cai | M10: 225001715 | N10: 1039718816
A11: 65 | B11: Công ty CPĐT&PTĐ Miền Bắc II (NEDI-2JSC) | C11: Số 64 B - Phan Đình Phùng | D11: Phố Mới | F11: Lào Cai | G11: Sản xuất điện | H11: 02143 501 540 | I11: {=INDEX(DVHC!$E$778:$E$11831,MATCH(1,(D11=DVHC!$C$778:$C$11831)*(J11=DVHC!$H$778:$H$11831),0))} -> #N/A | J11: {=INDEX(DVHC!$E$65:$E$777,MATCH(1,(E11=DVHC!$C$65:$C$777)*(K11=DVHC!$H$65:$H$777),0))} -> #N/A | K11: =VLOOKUP(F11, DVHC!$C:$E, 3, 0) -> 48 | L11: =B11&", "&C11&", "&D11&", "&E11&", "&F11 -> Công ty CPĐT&PTĐ Miền Bắc II (NEDI-2JSC), Số 64 B - Phan Đình Phùng, Phố Mới, , Lào Cai | M11: 224914692 | N11: 1039768034
A12: 71 | B12: Công ty CP Xây dựng và Thương mại 299 | C12: Thôn Nậm Lang B | D12: Suối Thầu | E12: Sa Pa | F12: Lào Cai | G12: Sản xuất điện | H12: 0243 576 5211 | I12: {=INDEX(DVHC!$E$778:$E$11831,MATCH(1,(D12=DVHC!$C$778:$C$11831)*(J12=DVHC!$H$778:$H$11831),0))} -> #N/A | J12: {=INDEX(DVHC!$E$65:$E$777,MATCH(1,(E12=DVHC!$C$65:$C$777)*(K12=DVHC!$H$65:$H$777),0))} -> 1840 | K12: =VLOOKUP(F12, DVHC!$C:$E, 3, 0) -> 48 | L12: =B12&", "&C12&", "&D12&", "&E12&", "&F12 -> Công ty CP Xây dựng và Thương mại 299, Thôn Nậm Lang B, Suối Thầu, Sa Pa, Lào Cai | M12: 222712667 | N12: 10404787

Sheet Phú Thọ(lỗi)
A1: STT | B1: Tên doanh nghiệp | C1: Số nhà | D1: Xã/phường | E1: Quận/ | F1: Tỉnh/Thành phố | G1: Loại hình | H1: Liên hệ | I1: ID | J1: ID QH | K1: ID TP | L1: ĐIạ chỉ lấy lat-long
A2: 857 | B2: CÔNG TY CỔ PHẦN GỐM XÂY DỰNG BA TRIỆU | C2: Khu 12 | D2: Vạn Xuân | E2: Tam Nông | F2: Phú Thọ | H2: 983144486 | I2: {=INDEX(DVHC!$E$778:$E$11831,MATCH(1,(D2=DVHC!$C$778:$C$11831)*(J2=DVHC!$H$778:$H$11831),0))} -> #N/A | J2: {=INDEX(DVHC!$E$65:$E$777,MATCH(1,(E2=DVHC!$C$65:$C$777)*(K2=DVHC!$H$65:$H$777),0))} -> 2358 | K2: =VLOOKUP(F2, DVHC!$C:$E, 3, 0) -> 54 | L2: =B2&", "&C2&", "&D2&", "&E2&", "&F2 -> CÔNG TY CỔ PHẦN GỐM XÂY DỰNG BA TRIỆU, Khu 12, Vạn Xuân, Tam Nông, Phú Thọ
A3: 857 | B3: CÔNG TY CỔ PHẦN GỐM XÂY DỰNG BA TRIỆU | C3: Khu 12 | D3: Vạn Xuân | E3: Tam Nông | F3: Phú Thọ | H3: 983144486 | I3: {=INDEX(DVHC!$E$778:$E$11831,MATCH(1,(D3=DVHC!$C$778:$C$11831)*(J3=DVHC!$H$778:$H$11831),0))} -> #N/A | J3: {=INDEX(DVHC!$E$65:$E$777,MATCH(1,(E3=DVHC!$C$65:$C$777)*(K3=DVHC!$H$65:$H$777),0))} -> 2358 | K3: =VLOOKUP(F3, DVHC!$C:$E, 3, 0) -> 54 | L3: =B3&", "&C3&", "&D3&", "&E3&", "&F3 -> CÔNG TY CỔ PHẦN GỐM XÂY DỰNG BA TRIỆU, Khu 12, Vạn Xuân, Tam Nông, Phú Thọ

Sheet Quảng Nam (lỗi)
A2: 247 | B2: Công ty TNHH CBTS Hải Thành Công Đại Lộc | C2: Đại An | E2: Đại Lộc | F2: Quảng Nam | G2: Nhà máy | H2: 0937 500 512 | I2: {=INDEX(DVHC!$E$778:$E$11831,MATCH(1,(D2=DVHC!$C$778:$C$11831)*(J2=DVHC!$H$778:$H$11831),0))} -> #N/A | J2: {=INDEX(DVHC!$E$65:$E$777,MATCH(1,(E2=DVHC!$C$65:$C$777)*(K2=DVHC!$H$65:$H$777),0))} -> 1849 | K2: =VLOOKUP(F2, DVHC!$C:$E, 3, 0) -> 57 | L2: =B2&", "&C2&", "&D2&", "&E2&", "&F2 -> Công ty TNHH CBTS Hải Thành Công Đại Lộc, Đại An, , Đại Lộc, Quảng Nam | M2: 159145632 | N2: 1081099558
A3: 292 | B3: Nhà hàng Tam Tam | C3: 110 Nguyễn Thái Học | E3: Hội An | F3: Quảng Nam | G3: CSSX | H3: 2353862212 | I3: {=INDEX(DVHC!$E$778:$E$11831,MATCH(1,(D3=DVHC!$C$778:$C$11831)*(J3=DVHC!$H$778:$H$11831),0))} -> #N/A | J3: {=INDEX(DVHC!$E$65:$E$777,MATCH(1,(E3=DVHC!$C$65:$C$777)*(K3=DVHC!$H$65:$H$777),0))} -> 313 | K3: =VLOOKUP(F3, DVHC!$C:$E, 3, 0) -> 57 | L3: =B3&", "&C3&", "&D3&", "&E3&", "&F3 -> Nhà hàng Tam Tam, 110 Nguyễn Thái Học, , Hội An, Quảng Nam | M3: 158766268 | N3: 1083275647
A4: 293 | B4: Nhà hàng Xưa Và Nay | C4: 15 Lê Lợi, | E4: Hội An | F4: Quảng Nam | G4: CSSX | H4: 0235 3910 599 | I4: {=INDEX(DVHC!$E$778:$E$11831,MATCH(1,(D4=DVHC!$C$778:$C$11831)*(J4=DVHC!$H$778:$H$11831),0))} -> #N/A | J4: {=INDEX(DVHC!$E$65:$E$777,MATCH(1,(E4=DVHC!$C$65:$C$777)*(K4=DVHC!$H$65:$H$777),0))} -> 313 | K4: =VLOOKUP(F4, DVHC!$C:$E, 3, 0) -> 57 | L4: =B4&", "&C4&", "&D4&", "&E4&", "&F4 -> Nhà hàng Xưa Và Nay, 15 Lê Lợi,, , Hội An, Quảng Nam | M4: 158768769 | N4: 1083287354

Sheet Gia Lai (lỗi)
A1: STT | B1: Tên doanh nghiệp | C1: Số nhà | D1: Xã, phường | E1: Quận/ | F1: Tỉnh/ | G1: Loại hình | H1: Liên hệ | I1: ID | J1: ID QH | K1: ID TP | L1: ĐIạ chỉ lấy lat-long | M1: Latitude | N1: Longitude
A2: 1 | B2: Nhà máy nước Đak Lốp | E2: Kbang | F2: Gia Lai | G2: NM | I2: {=INDEX(DVHC!$E$778:$E$11831,MATCH(1,(D2=DVHC!$C$778:$C$11831)*(J2=DVHC!$H$778:$H$11831),0))} -> #N/A | J2: {=INDEX(DVHC!$E$65:$E$777,MATCH(1,(E2=DVHC!$C$65:$C$777)*(K2=DVHC!$H$65:$H$777),0))} -> 2338 | K2: =VLOOKUP(F2, DVHC!$C:$E, 3, 0) -> 34 | L2: =B2&", "&C2&", "&D2&", "&E2&", "&F2 -> Nhà máy nước Đak Lốp, , , Kbang, Gia Lai | M2: 141455385 | N2: 1086024445
A3: 2 | B3: Nhà máy nước KBang | E3: Kbang | F3: Gia Lai | G3: NM | I3: {=INDEX(DVHC!$E$778:$E$11831,MATCH(1,(D3=DVHC!$C$778:$C$11831)*(J3=DVHC!$H$778:$H$11831),0))} -> #N/A | J3: {=INDEX(DVHC!$E$65:$E$777,MATCH(1,(E3=DVHC!$C$65:$C$777)*(K3=DVHC!$H$65:$H$777),0))} -> 2338 | K3: =VLOOKUP(F3, DVHC!$C:$E, 3, 0) -> 34 | L3: =B3&", "&C3&", "&D3&", "&E3&", "&F3 -> Nhà máy nước KBang, , , Kbang, Gia Lai | M3: 141433277 | N3: 1086001324
A4: 3 | B4: Nhà máy cấp nước sinh hoạt Kon Chro | E4: Kông Chro | F4: Gia Lai | G4: NM | I4: {=INDEX(DVHC!$E$778:$E$11831,MATCH(1,(D4=DVHC!$C$778:$C$11831)*(J4=DVHC!$H$778:$H$11831),0))} -> #N/A | J4: {=INDEX(DVHC!$E$65:$E$777,MATCH(1,(E4=DVHC!$C$65:$C$777)*(K4=DVHC!$H$65:$H$777),0))} -> 2594 | K4: =VLOOKUP(F4, DVHC!$C:$E, 3, 0) -> 34 | L4: =B4&", "&C4&", "&D4&", "&E4&", "&F4 -> Nhà máy cấp nước sinh hoạt Kon Chro, , , Kông Chro, Gia Lai | M4: 137751996 | N4: 1085258222
A5: 4 | B5: Nhà máy cấp nước sạch Chư Prông | E5: Chư Prông | F5: Gia Lai | G5: NM | I5: {=INDEX(DVHC!$E$778:$E$11831,MATCH(1,(D5=DVHC!$C$778:$C$11831)*(J5=DVHC!$H$778:$H$11831),0))} -> #N/A | J5: {=INDEX(DVHC!$E$65:$E$777,MATCH(1,(E5=DVHC!$C$65:$C$777)*(K5=DVHC!$H$65:$H$777),0))} -> 1314 | K5: =VLOOKUP(F5, DVHC!$C:$E, 3, 0) -> 34 | L5: =B5&", "&C5&", "&D5&", "&E5&", "&F5 -> Nhà máy cấp nước sạch Chư Prông, , , Chư Prông, Gia Lai | M5: 137567755 | N5: 1078975413
A6: 5 | B6: Nhà máy nước Ayun Pa | C6: 115 Hùng Vương | E6: AYun Pa | F6: Gia Lai | G6: NM | H6: 2693852450 | I6: {=INDEX(DVHC!$E$778:$E$11831,MATCH(1,(D6=DVHC!$C$778:$C$11831)*(J6=DVHC!$H$778:$H$11831),0))} -> #N/A | J6: {=INDEX(DVHC!$E$65:$E$777,MATCH(1,(E6=DVHC!$C$65:$C$777)*(K6=DVHC!$H$65:$H$777),0))} -> 802 | K6: =VLOOKUP(F6, DVHC!$C:$E, 3, 0) -> 34 | L6: =B6&", "&C6&", "&D6&", "&E6&", "&F6 -> Nhà máy nước Ayun Pa, 115 Hùng Vương, , AYun Pa, Gia Lai | M6: 134259656 | N6: 1084242665
A7: 6 | B7: NM Thuỷ điện Ayun Thượng 1A - Công ty CP Điện Gia Lai | E7: Mang Yang | F7: Gia Lai | G7: NM | H7: 2693823604 | I7: {=INDEX(DVHC!$E$778:$E$11831,MATCH(1,(D7=DVHC!$C$778:$C$11831)*(J7=DVHC!$H$778:$H$11831),0))} -> #N/A | J7: {=INDEX(DVHC!$E$65:$E$777,MATCH(1,(E7=DVHC!$C$65:$C$777)*(K7=DVHC!$H$65:$H$777),0))} -> 3106 | K7: =VLOOKUP(F7, DVHC!$C:$E, 3, 0) -> 34 | L7: =B7&", "&C7&", "&D7&", "&E7&", "&F7 -> NM Thuỷ điện Ayun Thượng 1A - Công ty CP Điện Gia Lai, , , Mang Yang, Gia Lai | M7: 138458359 | N7: 1081898896
A8: 7 | B8: NM thuỷ điện Đắk Srông 2A -Công ty TNHH Thủy điện Tây Nguyên | E8: Kông Chro | F8: Gia Lai | G8: NM | H8: 327890273 | I8: {=INDEX(DVHC!$E$778:$E$11831,MATCH(1,(D8=DVHC!$C$778:$C$11831)*(J8=DVHC!$H$778:$H$11831),0))} -> #N/A | J8: {=INDEX(DVHC!$E$65:$E$777,MATCH(1,(E8=DVHC!$C$65:$C$777)*(K8=DVHC!$H$65:$H$777),0))} -> 2594 | K8: =VLOOKUP(F8, DVHC!$C:$E, 3, 0) -> 34 | L8: =B8&", "&C8&", "&D8&", "&E8&", "&F8 -> NM thuỷ điện Đắk Srông 2A -Công ty TNHH Thủy điện Tây Nguyên, , , Kông Chro, Gia Lai | M8: 13776609 | N8: 108525539
A9: 8 | B9: NM thủy điện Sông Ba Hạ - Công ty CP thủy điện Sông Ba Hạ | E9: Krông Pa | F9: Gia Lai | G9: NM | H9: 2573811456 | I9: {=INDEX(DVHC!$E$778:$E$11831,MATCH(1,(D9=DVHC!$C$778:$C$11831)*(J9=DVHC!$H$778:$H$11831),0))} -> #N/A | J9: {=INDEX(DVHC!$E$65:$E$777,MATCH(1,(E9=DVHC!$C$65:$C$777)*(K9=DVHC!$H$65:$H$777),0))} -> 2850 | K9: =VLOOKUP(F9, DVHC!$C:$E, 3, 0) -> 34 | L9: =B9&", "&C9&", "&D9&", "&E9&", "&F9 -> NM thủy điện Sông Ba Hạ - Công ty CP thủy điện Sông Ba Hạ, , , Krông Pa, Gia Lai | M9: 13012761 | N9: 1088878278
A10: 9 | B10: NM thuỷ điện Đắk Srông 3B -Công ty CP thủy điện Hoàng Anh Tô Na | E10: Krông Pa | F10: Gia Lai | G10: NM | H10: 2696330354 | I10: {=INDEX(DVHC!$E$778:$E$11831,MATCH(1,(D10=DVHC!$C$778:$C$11831)*(J10=DVHC!$H$778:$H$11831),0))} -> #N/A | J10: {=INDEX(DVHC!$E$65:$E$777,MATCH(1,(E10=DVHC!$C$65:$C$777)*(K10=DVHC!$H$65:$H$777),0))} -> 2850 | K10: =VLOOKUP(F10, DVHC!$C:$E, 3, 0) -> 34 | L10: =B10&", "&C10&", "&D10&", "&E10&", "&F10 -> NM thuỷ điện Đắk Srông 3B -Công ty CP thủy điện Hoàng Anh Tô Na, , , Krông Pa, Gia Lai | M10: 133404569 | N10: 1085442652
A11: 10 | B11: NM thuỷ điện Đắk Srông 3A - Công ty TNHH Thủy điện Tây Nguyên | E11: Krông Pa | F11: Gia Lai | G11: NM | H11: 0269 3720 098 | I11: {=INDEX(DVHC!$E$778:$E$11831,MATCH(1,(D11=DVHC!$C$778:$C$11831)*(J11=DVHC!$H$778:$H$11831),0))} -> #N/A | J11: {=INDEX(DVHC!$E$65:$E$777,MATCH(1,(E11=DVHC!$C$65:$C$777)*(K11=DVHC!$H$65:$H$777),0))} -> 2850 | K11: =VLOOKUP(F11, DVHC!$C:$E, 3, 0) -> 34 | L11: =B11&", "&C11&", "&D11&", "&E11&", "&F11 -> NM thuỷ điện Đắk Srông 3A - Công ty TNHH Thủy điện Tây Nguyên, , , Krông Pa, Gia Lai | M11: 132160038 | N11: 1086726891
A12: 11 | B12: NM thuỷ điện Đắk Pi Hao 2 - Công ty CP Điện Gia Lai | E12: Kông Chro | F12: Gia Lai | G12: NM | H12: 2693823604 | I12: {=INDEX(DVHC!$E$778:$E$11831,MATCH(1,(D12=DVHC!$C$778:$C$11831)*(J12=DVHC!$H$778:$H$11831),0))} -> #N/A | J12: {=INDEX(DVHC!$E$65:$E$777,MATCH(1,(E12=DVHC!$C$65:$C$777)*(K12=DVHC!$H$65:$H$777),0))} -> 2594 | K12: =VLOOKUP(F12, DVHC!$C:$E, 3, 0) -> 34 | L12: =B12&", "&C12&", "&D12&", "&E12&", "&F12 -> NM thuỷ điện Đắk Pi Hao 2 - Công ty CP Điện Gia Lai, , , Kông Chro, Gia Lai | M12: 137037218 | N12: 1085700636
A13: 12 | B13: Trang Trại phong điện HBRE - Công ty Giải pháp năng lượng gió HBRE | E13: Chư Prông | F13: Gia Lai | G13: NM | I13: {=INDEX(DVHC!$E$778:$E$11831,MATCH(1,(D13=DVHC!$C$778:$C$11831)*(J13=DVHC!$H$778:$H$11831),0))} -> #N/A | J13: {=INDEX(DVHC!$E$65:$E$777,MATCH(1,(E13=DVHC!$C$65:$C$777)*(K13=DVHC!$H$65:$H$777),0))} -> 1314 | K13: =VLOOKUP(F13, DVHC!$C:$E, 3, 0) -> 34 | L13: =B13&", "&C13&", "&D13&", "&E13&", "&F13 -> Trang Trại phong điện HBRE - Công ty Giải pháp năng lượng gió HBRE, , , Chư Prông, Gia Lai | M13: 131650213 | N13: 1082657348
A14: 13 | B14: NM thuỷ điện H'Mun - Công ty CP thuỷ điện Gia Lai | E14: Chư Sê | F14: Gia Lai | G14: NM | I14: {=INDEX(DVHC!$E$778:$E$11831,MATCH(1,(D14=DVHC!$C$778:$C$11831)*(J14=DVHC!$H$778:$H$11831),0))} -> #N/A | J14: {=INDEX(DVHC!$E$65:$E$777,MATCH(1,(E14=DVHC!$C$65:$C$777)*(K14=DVHC!$H$65:$H$777),0))} -> 1570 | K14: =VLOOKUP(F14, DVHC!$C:$E, 3, 0) -> 34 | L14: =B14&", "&C14&", "&D14&", "&E14&", "&F14 -> NM thuỷ điện H'Mun - Công ty CP thuỷ điện Gia Lai, , , Chư Sê, Gia Lai | M14: 138099238 | N14: 1081637937
A15: 14 | B15: NM Thuỷ điện Pleikeo | E15: Chư Sê | F15: Gia Lai | G15: NM | I15: {=INDEX(DVHC!$E$778:$E$11831,MATCH(1,(D15=DVHC!$C$778:$C$11831)*(J15=DVHC!$H$778:$H$11831),0))} -> #N/A | J15: {=INDEX(DVHC!$E$65:$E$777,MATCH(1,(E15=DVHC!$C$65:$C$777)*(K15=DVHC!$H$65:$H$777),0))} -> 1570 | K15: =VLOOKUP(F15, DVHC!$C:$E, 3, 0) -> 34 | L15: =B15&", "&C15&", "&D15&", "&E15&", "&F15 -> NM Thuỷ điện Pleikeo, , , Chư Sê, Gia Lai | M15: 137658486 | N15: 1081714813
A16: 15 | B16: NM Thuỷ điện Đắk Đoa - Công ty CP Thuỷ điện Đắk Đoa | E16: Đắk Đoa | F16: Gia Lai | G16: NM | H16: 2696288688 | I16: {=INDEX(DVHC!$E$778:$E$11831,MATCH(1,(D16=DVHC!$C$778:$C$11831)*(J16=DVHC!$H$778:$H$11831),0))} -> #N/A | J16: {=INDEX(DVHC!$E$65:$E$777,MATCH(1,(E16=DVHC!$C$65:$C$777)*(K16=DVHC!$H$65:$H$777),0))} -> 3362 | K16: =VLOOKUP(F16, DVHC!$C:$E, 3, 0) -> 34 | L16: =B16&", "&C16&", "&D16&", "&E16&", "&F16 -> NM Thuỷ điện Đắk Đoa - Công ty CP Thuỷ điện Đắk Đoa, , , Đắk Đoa, Gia Lai | M16: 141890829 | N16: 1081012168
A17: 16 | B17: NM thuỷ điện Thác Ba - Công ty CP Tân Đồng Phú | E17: Đắk Đoa | F17: Gia Lai | G17: NM | I17: {=INDEX(DVHC!$E$778:$E$11831,MATCH(1,(D17=DVHC!$C$778:$C$11831)*(J17=DVHC!$H$778:$H$11831),0))} -> #N/A | J17: {=INDEX(DVHC!$E$65:$E$777,MATCH(1,(E17=DVHC!$C$65:$C$777)*(K17=DVHC!$H$65:$H$777),0))} -> 3362 | K17: =VLOOKUP(F17, DVHC!$C:$E, 3, 0) -> 34 | L17: =B17&", "&C17&", "&D17&", "&E17&", "&F17 -> NM thuỷ điện Thác Ba - Công ty CP Tân Đồng Phú, , , Đắk Đoa, Gia Lai | M17: 141890829 | N17: 1081012168
A18: 17 | B18: NM thuỷ điện Ia Đrăng 1 - Cty Đầu tư PT điện Tây Nguyên | E18: Chư Prông | F18: Gia Lai | G18: NM | H18: 0376776446 | I18: {=INDEX(DVHC!$E$778:$E$11831,MATCH(1,(D18=DVHC!$C$778:$C$11831)*(J18=DVHC!$H$778:$H$11831),0))} -> #N/A | J18: {=INDEX(DVHC!$E$65:$E$777,MATCH(1,(E18=DVHC!$C$65:$C$777)*(K18=DVHC!$H$65:$H$777),0))} -> 1314 | K18: =VLOOKUP(F18, DVHC!$C:$E, 3, 0) -> 34 | L18: =B18&", "&C18&", "&D18&", "&E18&", "&F18 -> NM thuỷ điện Ia Đrăng 1 - Cty Đầu tư PT điện Tây Nguyên, , , Chư Prông, Gia Lai | M18: 137439275 | N18: 107893932
A19: 18 | B19: NM thuỷ điện Ia Đrăng 2 - Công ty CP Điện Gia Lai | E19: Chư Prông | F19: Gia Lai | G19: NM | H19: 0376776446 | I19: {=INDEX(DVHC!$E$778:$E$11831,MATCH(1,(D19=DVHC!$C$778:$C$11831)*(J19=DVHC!$H$778:$H$11831),0))} -> #N/A | J19: {=INDEX(DVHC!$E$65:$E$777,MATCH(1,(E19=DVHC!$C$65:$C$777)*(K19=DVHC!$H$65:$H$777),0))} -> 1314 | K19: =VLOOKUP(F19, DVHC!$C:$E, 3, 0) -> 34 | L19: =B19&", "&C19&", "&D19&", "&E19&", "&F19 -> NM thuỷ điện Ia Đrăng 2 - Công ty CP Điện Gia Lai, , , Chư Prông, Gia Lai | M19: 137439275 | N19: 107893932
A20: 19 | B20: NM thuỷ điện Ia Đrăng 3 - Công ty CP Điện Gia Lai | E20: Chư Prông | F20: Gia Lai | G20: NM | H20: 0376776446 | I20: {=INDEX(DVHC!$E$778:$E$11831,MATCH(1,(D20=DVHC!$C$778:$C$11831)*(J20=DVHC!$H$778:$H$11831),0))} -> #N/A | J20: {=INDEX(DVHC!$E$65:$E$777,MATCH(1,(E20=DVHC!$C$65:$C$777)*(K20=DVHC!$H$65:$H$777),0))} -> 1314 | K20: =VLOOKUP(F20, DVHC!$C:$E, 3, 0) -> 34 | L20: =B20&", "&C20&", "&D20&", "&E20&", "&F20 -> NM thuỷ điện Ia Đrăng 3 - Công ty CP Điện Gia Lai, , , Chư Prông, Gia Lai | M20: 137439275 | N20: 107893932
A21: 20 | B21: NM thuỷ điện Ia Meur 3 - Công ty CP Điện Gia Lai | E21: Chư Prông | F21: Gia Lai | G21: NM | H21: 0376776446 | I21: {=INDEX(DVHC!$E$778:$E$11831,MATCH(1,(D21=DVHC!$C$778:$C$11831)*(J21=DVHC!$H$778:$H$11831),0))} -> #N/A | J21: {=INDEX(DVHC!$E$65:$E$777,MATCH(1,(E21=DVHC!$C$65:$C$777)*(K21=DVHC!$H$65:$H$777),0))} -> 1314 | K21: =VLOOKUP(F21, DVHC!$C:$E, 3, 0) -> 34 | L21: =B21&", "&C21&", "&D21&", "&E21&", "&F21 -> NM thuỷ điện Ia Meur 3 - Công ty CP Điện Gia Lai, , , Chư Prông, Gia Lai | M21: 137439275 | N21: 107893932
A22: 21 | B22: NM thuỷ điện Ia Púch 3 - Công ty CP Điện Gia Lai | E22: Chư Prông | F22: Gia Lai | G22: NM | H22: 0376776446 | I22: {=INDEX(DVHC!$E$778:$E$11831,MATCH(1,(D22=DVHC!$C$778:$C$11831)*(J22=DVHC!$H$778:$H$11831),0))} -> #N/A | J22: {=INDEX(DVHC!$E$65:$E$777,MATCH(1,(E22=DVHC!$C$65:$C$777)*(K22=DVHC!$H$65:$H$777),0))} -> 1314 | K22: =VLOOKUP(F22, DVHC!$C:$E, 3, 0) -> 34 | L22: =B22&", "&C22&", "&D22&", "&E22&", "&F22 -> NM thuỷ điện Ia Púch 3 - Công ty CP Điện Gia Lai, , , Chư Prông, Gia Lai | M22: 137439275 | N22: 107893932
A23: 22 | B23: NM thuỷ điện Ia Lốp - Công ty CP Điện Gia Lai | E23: Chư Prông | F23: Gia Lai | G23: NM | H23: 2693823604 | I23: {=INDEX(DVHC!$E$778:$E$11831,MATCH(1,(D23=DVHC!$C$778:$C$11831)*(J23=DVHC!$H$778:$H$11831),0))} -> #N/A | J23: {=INDEX(DVHC!$E$65:$E$777,MATCH(1,(E23=DVHC!$C$65:$C$777)*(K23=DVHC!$H$65:$H$777),0))} -> 1314 | K23: =VLOOKUP(F23, DVHC!$C:$E, 3, 0) -> 34 | L23: =B23&", "&C23&", "&D23&", "&E23&", "&F23 -> NM thuỷ điện Ia Lốp - Công ty CP Điện Gia Lai, , , Chư Prông, Gia Lai | M23: 137697485 | N23: 1078465394
A24: 23 | B24: NM Thuỷ điện Chư Prông - Công ty CP đầu tư xây dựng điện Phan Vũ | E24: Chư Prông | F24: Gia Lai | G24: NM | I24: {=INDEX(DVHC!$E$778:$E$11831,MATCH(1,(D24=DVHC!$C$778:$C$11831)*(J24=DVHC!$H$778:$H$11831),0))} -> #N/A | J24: {=INDEX(DVHC!$E$65:$E$777,MATCH(1,(E24=DVHC!$C$65:$C$777)*(K24=DVHC!$H$65:$H$777),0))} -> 1314 | K24: =VLOOKUP(F24, DVHC!$C:$E, 3, 0) -> 34 | L24: =B24&", "&C24&", "&D24&", "&E24&", "&F24 -> NM Thuỷ điện Chư Prông - Công ty CP đầu tư xây dựng điện Phan Vũ, , , Chư Prông, Gia Lai | M24: 137566336 | N24: 1078863252
A25: 24 | B25: NM thuỷ điện Ry Ninh - Công ty LĐ cao thế miền Trung | E25: Chư Păh | F25: Gia Lai | G25: NM | H25: 2363551251 | I25: {=INDEX(DVHC!$E$778:$E$11831,MATCH(1,(D25=DVHC!$C$778:$C$11831)*(J25=DVHC!$H$778:$H$11831),0))} -> #N/A | J25: {=INDEX(DVHC!$E$65:$E$777,MATCH(1,(E25=DVHC!$C$65:$C$777)*(K25=DVHC!$H$65:$H$777),0))} -> 1058 | K25: =VLOOKUP(F25, DVHC!$C:$E, 3, 0) -> 34 | L25: =B25&", "&C25&", "&D25&", "&E25&", "&F25 -> NM thuỷ điện Ry Ninh - Công ty LĐ cao thế miền Trung, , , Chư Păh, Gia Lai | M25: 142163869 | N25: 1078464309
A26: 25 | B26: Cà phê bột cao cấp Ánh Nguyên | E26: Pleiku | F26: Gia Lai | G26: CSSX | I26: {=INDEX(DVHC!$E$778:$E$11831,MATCH(1,(D26=DVHC!$C$778:$C$11831)*(J26=DVHC!$H$778:$H$11831),0))} -> #N/A | J26: {=INDEX(DVHC!$E$65:$E$777,MATCH(1,(E26=DVHC!$C$65:$C$777)*(K26=DVHC!$H$65:$H$777),0))} -> 290 | K26: =VLOOKUP(F26, DVHC!$C:$E, 3, 0) -> 34 | L26: =B26&", "&C26&", "&D26&", "&E26&", "&F26 -> Cà phê bột cao cấp Ánh Nguyên, , , Pleiku, Gia Lai | M26: 140208239 | N26: 1079858503
A27: 26 | B27: NM sx Viên nén năng lượng An Khê - Cty TNHH Hào Hưng Phú Yên | E27: An Khê | F27: Gia Lai | G27: CSSX | H27: 919275566 | I27: {=INDEX(DVHC!$E$778:$E$11831,MATCH(1,(D27=DVHC!$C$778:$C$11831)*(J27=DVHC!$H$778:$H$11831),0))} -> #N/A | J27: {=INDEX(DVHC!$E$65:$E$777,MATCH(1,(E27=DVHC!$C$65:$C$777)*(K27=DVHC!$H$65:$H$777),0))} -> 546 | K27: =VLOOKUP(F27, DVHC!$C:$E, 3, 0) -> 34 | L27: =B27&", "&C27&", "&D27&", "&E27&", "&F27 -> NM sx Viên nén năng lượng An Khê - Cty TNHH Hào Hưng Phú Yên, , , An Khê, Gia Lai | M27: 139549758 | N27: 1086616087
A28: 27 | B28: NM sơ chế tiêu Song Hỷ - Công ty TNHH Quốc Tế Song Hỷ | E28: Chư Prông | F28: Gia Lai | G28: NM | I28: {=INDEX(DVHC!$E$778:$E$11831,MATCH(1,(D28=DVHC!$C$778:$C$11831)*(J28=DVHC!$H$778:$H$11831),0))} -> #N/A | J28: {=INDEX(DVHC!$E$65:$E$777,MATCH(1,(E28=DVHC!$C$65:$C$777)*(K28=DVHC!$H$65:$H$777),0))} -> 1314 | K28: =VLOOKUP(F28, DVHC!$C:$E, 3, 0) -> 34 | L28: =B28&", "&C28&", "&D28&", "&E28&", "&F28 -> NM sơ chế tiêu Song Hỷ - Công ty TNHH Quốc Tế Song Hỷ, , , Chư Prông, Gia Lai | M28: 139683089 | N28: 1080046425
A29: 28 | B29: Công ty 710 - Binh đoàn 15 | E29: Chư Prông | F29: Gia Lai | G29: NM | I29: {=INDEX(DVHC!$E$778:$E$11831,MATCH(1,(D29=DVHC!$C$778:$C$11831)*(J29=DVHC!$H$778:$H$11831),0))} -> #N/A | J29: {=INDEX(DVHC!$E$65:$E$777,MATCH(1,(E29=DVHC!$C$65:$C$777)*(K29=DVHC!$H$65:$H$777),0))} -> 1314 | K29: =VLOOKUP(F29, DVHC!$C:$E, 3, 0) -> 34 | L29: =B29&", "&C29&", "&D29&", "&E29&", "&F29 -> Công ty 710 - Binh đoàn 15, , , Chư Prông, Gia Lai | M29: 137439275 | N29: 107893932
A30: 29 | B30: Công ty 710 - Binh đoàn 15 | E30: Chư Prông | F30: Gia Lai | G30: NM | I30: {=INDEX(DVHC!$E$778:$E$11831,MATCH(1,(D30=DVHC!$C$778:$C$11831)*(J30=DVHC!$H$778:$H$11831),0))} -> #N/A | J30: {=INDEX(DVHC!$E$65:$E$777,MATCH(1,(E30=DVHC!$C$65:$C$777)*(K30=DVHC!$H$65:$H$777),0))} -> 1314 | K30: =VLOOKUP(F30, DVHC!$C:$E, 3, 0) -> 34 | L30: =B30&", "&C30&", "&D30&", "&E30&", "&F30 -> Công ty 710 - Binh đoàn 15, , , Chư Prông, Gia Lai | M30: 137439275 | N30: 107893932
A31: 30 | B31: NM sx Viên nén nhiên liệu Chư Prông - Cty TNHH Phúc Khoa | E31: Chư Prông | F31: Gia Lai | G31: NM | I31: {=INDEX(DVHC!$E$778:$E$11831,MATCH(1,(D31=DVHC!$C$778:$C$11831)*(J31=DVHC!$H$778:$H$11831),0))} -> #N/A | J31: {=INDEX(DVHC!$E$65:$E$777,MATCH(1,(E31=DVHC!$C$65:$C$777)*(K31=DVHC!$H$65:$H$777),0))} -> 1314 | K31: =VLOOKUP(F31, DVHC!$C:$E, 3, 0) -> 34 | L31: =B31&", "&C31&", "&D31&", "&E31&", "&F31 -> NM sx Viên nén nhiên liệu Chư Prông - Cty TNHH Phúc Khoa, , , Chư Prông, Gia Lai | M31: 138080758 | N31: 108001442
A32: 31 | B32: NM chế biến tiêu Chư Sê - Công ty CP Dịch vụ Phú Nhuận | E32: Chư Sê | F32: Gia Lai | G32: NM | I32: {=INDEX(DVHC!$E$778:$E$11831,MATCH(1,(D32=DVHC!$C$778:$C$11831)*(J32=DVHC!$H$778:$H$11831),0))} -> #N/A | J32: {=INDEX(DVHC!$E$65:$E$777,MATCH(1,(E32=DVHC!$C$65:$C$777)*(K32=DVHC!$H$65:$H$777),0))} -> 1570 | K32: =VLOOKUP(F32, DVHC!$C:$E, 3, 0) -> 34 | L32: =B32&", "&C32&", "&D32&", "&E32&", "&F32 -> NM chế biến tiêu Chư Sê - Công ty CP Dịch vụ Phú Nhuận, , , Chư Sê, Gia Lai | M32: 136578244 | N32: 1080765342
A33: 32 | B33: Nhà máy đá Granite Phúc Tín - DNTN Phúc Tín | E33: Chư Sê | F33: Gia Lai | G33: NM | I33: {=INDEX(DVHC!$E$778:$E$11831,MATCH(1,(D33=DVHC!$C$778:$C$11831)*(J33=DVHC!$H$778:$H$11831),0))} -> #N/A | J33: {=INDEX(DVHC!$E$65:$E$777,MATCH(1,(E33=DVHC!$C$65:$C$777)*(K33=DVHC!$H$65:$H$777),0))} -> 1570 | K33: =VLOOKUP(F33, DVHC!$C:$E, 3, 0) -> 34 | L33: =B33&", "&C33&", "&D33&", "&E33&", "&F33 -> Nhà máy đá Granite Phúc Tín - DNTN Phúc Tín, , , Chư Sê, Gia Lai | M33: 139644658 | N33: 1080170287
A34: 33 | B34: Nhà máy chế biến cao su - Công ty 75 - Binh đoàn 15 | E34: Đức Cơ | F34: Gia Lai | G34: NM | I34: {=INDEX(DVHC!$E$778:$E$11831,MATCH(1,(D34=DVHC!$C$778:$C$11831)*(J34=DVHC!$H$778:$H$11831),0))} -> #N/A | J34: {=INDEX(DVHC!$E$65:$E$777,MATCH(1,(E34=DVHC!$C$65:$C$777)*(K34=DVHC!$H$65:$H$777),0))} -> 3874 | K34: =VLOOKUP(F34, DVHC!$C:$E, 3, 0) -> 34 | L34: =B34&", "&C34&", "&D34&", "&E34&", "&F34 -> Nhà máy chế biến cao su - Công ty 75 - Binh đoàn 15, , , Đức Cơ, Gia Lai | M34: 13835389 | N34: 107675809

Sheet Quảng Ngãi(lỗi)
A1: STT | B1: Tên doanh nghiệp | C1: Số nhà | D1: Xã/phường | E1: Quận/ | F1: Tỉnh/Thành phố | G1: Loại hình | H1: Liên hệ | I1: ID | J1: ID QH | K1: ID TP | L1: ĐIạ chỉ lấy lat-long
A2: 70 | B2: Công ty Cổ phần VCTT, Nhà máy SX Phân bón Điền Trang | C2: CCN Đồng Dinh | D2: Đồng Dinh | E2: Nghĩa Hành | F2: Quảng Ngãi | G2: NM | H2: 0913498810 / 02553961365 | I2: {=INDEX(DVHC!$E$778:$E$11831,MATCH(1,(D2=DVHC!$C$778:$C$11831)*(J2=DVHC!$H$778:$H$11831),0))} -> #N/A | J2: {=INDEX(DVHC!$E$65:$E$777,MATCH(1,(E2=DVHC!$C$65:$C$777)*(K2=DVHC!$H$65:$H$777),0))} -> 1850 | K2: =VLOOKUP(F2, DVHC!$C:$E, 3, 0) -> 58 | L2: =B2&", "&C2&", "&D2&", "&E2&", "&F2 -> Công ty Cổ phần VCTT, Nhà máy SX Phân bón Điền Trang, CCN Đồng Dinh, Đồng Dinh, Nghĩa Hành, Quảng Ngãi
A3: 71 | B3: Công ty TNHH Thanh Hùng | C3: Km1074+500, QL1A CCN Quán Lát | D3: Quan Lát | E3: Mộ Đức | F3: Quảng Ngãi | G3: CSSX | H3: 0255 3814 817 | I3: {=INDEX(DVHC!$E$778:$E$11831,MATCH(1,(D3=DVHC!$C$778:$C$11831)*(J3=DVHC!$H$778:$H$11831),0))} -> #N/A | J3: {=INDEX(DVHC!$E$65:$E$777,MATCH(1,(E3=DVHC!$C$65:$C$777)*(K3=DVHC!$H$65:$H$777),0))} -> 1338 | K3: =VLOOKUP(F3, DVHC!$C:$E, 3, 0) -> 58 | L3: =B3&", "&C3&", "&D3&", "&E3&", "&F3 -> Công ty TNHH Thanh Hùng, Km1074+500, QL1A CCN Quán Lát, Quan Lát, Mộ Đức, Quảng Ngãi
A4: 72 | B4: Công ty TNHH MTV Việt Đức, Nm SX Phân NPK và phân hữu cơ vi sinh | C4: Lô G6, CCN Quán Lát | D4: Quán lát | E4: Mộ Đức | F4: Quảng Ngãi | G4: NM | H4: 986499757 | I4: {=INDEX(DVHC!$E$778:$E$11831,MATCH(1,(D4=DVHC!$C$778:$C$11831)*(J4=DVHC!$H$778:$H$11831),0))} -> #N/A | J4: {=INDEX(DVHC!$E$65:$E$777,MATCH(1,(E4=DVHC!$C$65:$C$777)*(K4=DVHC!$H$65:$H$777),0))} -> 1338 | K4: =VLOOKUP(F4, DVHC!$C:$E, 3, 0) -> 58 | L4: =B4&", "&C4&", "&D4&", "&E4&", "&F4 -> Công ty TNHH MTV Việt Đức, Nm SX Phân NPK và phân hữu cơ vi sinh, Lô G6, CCN Quán Lát, Quán lát, Mộ Đức, Quảng Ngãi
A5: 146 | B5: Công ty TNHH Xây dựng và thương mại Quốc Tiến | C5: CCN Quán Lát | D5: Quán Lát | E5: Mộ Đức | F5: Quảng Ngãi | G5: NM | H5: 2553939055 | I5: {=INDEX(DVHC!$E$778:$E$11831,MATCH(1,(D5=DVHC!$C$778:$C$11831)*(J5=DVHC!$H$778:$H$11831),0))} -> #N/A | J5: {=INDEX(DVHC!$E$65:$E$777,MATCH(1,(E5=DVHC!$C$65:$C$777)*(K5=DVHC!$H$65:$H$777),0))} -> 1338 | K5: =VLOOKUP(F5, DVHC!$C:$E, 3, 0) -> 58 | L5: =B5&", "&C5&", "&D5&", "&E5&", "&F5 -> Công ty TNHH Xây dựng và thương mại Quốc Tiến, CCN Quán Lát, Quán Lát, Mộ Đức, Quảng Ngãi
A6: 147 | B6: Cửa hàng Vật liệu xây dựng thương mại dịch vụ Hoàng Hà | C6: CCN Quán Lát | D6: Quán Lát | E6: Mộ Đức | F6: Quảng Ngãi | G6: NM | H6: 2553939055 | I6: {=INDEX(DVHC!$E$778:$E$11831,MATCH(1,(D6=DVHC!$C$778:$C$11831)*(J6=DVHC!$H$778:$H$11831),0))} -> #N/A | J6: {=INDEX(DVHC!$E$65:$E$777,MATCH(1,(E6=DVHC!$C$65:$C$777)*(K6=DVHC!$H$65:$H$777),0))} -> 1338 | K6: =VLOOKUP(F6, DVHC!$C:$E, 3, 0) -> 58 | L6: =B6&", "&C6&", "&D6&", "&E6&", "&F6 -> Cửa hàng Vật liệu xây dựng thương mại dịch vụ Hoàng Hà, CCN Quán Lát, Quán Lát, Mộ Đức, Quảng Ngãi
A7: 148 | B7: Công ty TNHH | C7: CCN Quán Lát | D7: Quán Lát | E7: Mộ Đức | F7: Quảng Ngãi | G7: NM | H7: 905493937 | I7: {=INDEX(DVHC!$E$778:$E$11831,MATCH(1,(D7=DVHC!$C$778:$C$11831)*(J7=DVHC!$H$778:$H$11831),0))} -> #N/A | J7: {=INDEX(DVHC!$E$65:$E$777,MATCH(1,(E7=DVHC!$C$65:$C$777)*(K7=DVHC!$H$65:$H$777),0))} -> 1338 | K7: =VLOOKUP(F7, DVHC!$C:$E, 3, 0) -> 58 | L7: =B7&", "&C7&", "&D7&", "&E7&", "&F7 -> Công ty TNHH, CCN Quán Lát, Quán Lát, Mộ Đức, Quảng Ngãi
A9: 149 | B9: Công ty THHH Tân Bé | C9: CCN Quán Lát | D9: Quán Lát | E9: Mộ Đức | F9: Quảng Ngãi | G9: NM | H9: 917660789 | I9: {=INDEX(DVHC!$E$778:$E$11831,MATCH(1,(D9=DVHC!$C$778:$C$11831)*(J9=DVHC!$H$778:$H$11831),0))} -> #N/A | J9: {=INDEX(DVHC!$E$65:$E$777,MATCH(1,(E9=DVHC!$C$65:$C$777)*(K9=DVHC!$H$65:$H$777),0))} -> 1338 | K9: =VLOOKUP(F9, DVHC!$C:$E, 3, 0) -> 58 | L9: =B9&", "&C9&", "&D9&", "&E9&", "&F9 -> Công ty THHH Tân Bé, CCN Quán Lát, Quán Lát, Mộ Đức, Quảng Ngãi
A10: 150 | B10: Công ty sản xuất ngói màu AKURA VINA | C10: CCN Quán Lát | D10: Quán Lát | E10: Mộ Đức | F10: Quảng Ngãi | G10: NM | H10: 982237348 | I10: {=INDEX(DVHC!$E$778:$E$11831,MATCH(1,(D10=DVHC!$C$778:$C$11831)*(J10=DVHC!$H$778:$H$11831),0))} -> #N/A | J10: {=INDEX(DVHC!$E$65:$E$777,MATCH(1,(E10=DVHC!$C$65:$C$777)*(K10=DVHC!$H$65:$H$777),0))} -> 1338 | K10: =VLOOKUP(F10, DVHC!$C:$E, 3, 0) -> 58 | L10: =B10&", "&C10&", "&D10&", "&E10&", "&F10 -> Công ty sản xuất ngói màu AKURA VINA, CCN Quán Lát, Quán Lát, Mộ Đức, Quảng Ngãi
A11: 151 | B11: Công ty TNHH MTV Phước Uyên | C11: CCN Quán Lát | D11: Quán Lát | E11: Mộ Đức | F11: Quảng Ngãi | G11: NM | H11: 0255 3938 060 | I11: {=INDEX(DVHC!$E$778:$E$11831,MATCH(1,(D11=DVHC!$C$778:$C$11831)*(J11=DVHC!$H$778:$H$11831),0))} -> #N/A | J11: {=INDEX(DVHC!$E$65:$E$777,MATCH(1,(E11=DVHC!$C$65:$C$777)*(K11=DVHC!$H$65:$H$777),0))} -> 1338 | K11: =VLOOKUP(F11, DVHC!$C:$E, 3, 0) -> 58 | L11: =B11&", "&C11&", "&D11&", "&E11&", "&F11 -> Công ty TNHH MTV Phước Uyên, CCN Quán Lát, Quán Lát, Mộ Đức, Quảng Ngãi
A12: 152 | B12: Công ty TNHH Hiệp Hương | C12: CCN Thạch Trụ | D12: Thạch Trụ | E12: Mộ Đức | F12: Quảng Ngãi | G12: NM | H12: 919798877 | I12: {=INDEX(DVHC!$E$778:$E$11831,MATCH(1,(D12=DVHC!$C$778:$C$11831)*(J12=DVHC!$H$778:$H$11831),0))} -> #N/A | J12: {=INDEX(DVHC!$E$65:$E$777,MATCH(1,(E12=DVHC!$C$65:$C$777)*(K12=DVHC!$H$65:$H$777),0))} -> 1338 | K12: =VLOOKUP(F12, DVHC!$C:$E, 3, 0) -> 58 | L12: =B12&", "&C12&", "&D12&", "&E12&", "&F12 -> Công ty TNHH Hiệp Hương, CCN Thạch Trụ, Thạch Trụ, Mộ Đức, Quảng Ngãi
A13: 153 | B13: Cty TNHH Anh Kiệt | C13: CCN Thạch Trụ | D13: Thạch Trụ | E13: Mộ Đức | F13: Quảng Ngãi | G13: NM | H13: 914121255 | I13: {=INDEX(DVHC!$E$778:$E$11831,MATCH(1,(D13=DVHC!$C$778:$C$11831)*(J13=DVHC!$H$778:$H$11831),0))} -> #N/A | J13: {=INDEX(DVHC!$E$65:$E$777,MATCH(1,(E13=DVHC!$C$65:$C$777)*(K13=DVHC!$H$65:$H$777),0))} -> 1338 | K13: =VLOOKUP(F13, DVHC!$C:$E, 3, 0) -> 58 | L13: =B13&", "&C13&", "&D13&", "&E13&", "&F13 -> Cty TNHH Anh Kiệt, CCN Thạch Trụ, Thạch Trụ, Mộ Đức, Quảng Ngãi
A14: 154 | B14: Công ty TNHH MTV | C14: CCN Thạch Trụ | D14: Thạch Trụ | E14: Mộ Đức | F14: Quảng Ngãi | G14: NM | H14: 976447475 | I14: {=INDEX(DVHC!$E$778:$E$11831,MATCH(1,(D14=DVHC!$C$778:$C$11831)*(J14=DVHC!$H$778:$H$11831),0))} -> #N/A | J14: {=INDEX(DVHC!$E$65:$E$777,MATCH(1,(E14=DVHC!$C$65:$C$777)*(K14=DVHC!$H$65:$H$777),0))} -> 1338 | K14: =VLOOKUP(F14, DVHC!$C:$E, 3, 0) -> 58 | L14: =B14&", "&C14&", "&D14&", "&E14&", "&F14 -> Công ty TNHH MTV, CCN Thạch Trụ, Thạch Trụ, Mộ Đức, Quảng Ngãi
A15: 155 | B15: Công ty TNHH SXTM XNK Trường Thịnh | C15: CCN Thạch Trụ | D15: Thạch Trụ | E15: Mộ Đức | F15: Quảng Ngãi | G15: NM | H15: 908345788 | I15: {=INDEX(DVHC!$E$778:$E$11831,MATCH(1,(D15=DVHC!$C$778:$C$11831)*(J15=DVHC!$H$778:$H$11831),0))} -> #N/A | J15: {=INDEX(DVHC!$E$65:$E$777,MATCH(1,(E15=DVHC!$C$65:$C$777)*(K15=DVHC!$H$65:$H$777),0))} -> 1338 | K15: =VLOOKUP(F15, DVHC!$C:$E, 3, 0) -> 58 | L15: =B15&", "&C15&", "&D15&", "&E15&", "&F15 -> Công ty TNHH SXTM XNK Trường Thịnh, CCN Thạch Trụ, Thạch Trụ, Mộ Đức, Quảng Ngãi
A16: 156 | B16: Công ty cổ phần bê tông Viet Sin | C16: CCN Thạch Trụ | D16: Thạch Trụ | E16: Mộ Đức | F16: Quảng Ngãi | G16: NM | H16: 983767410 | I16: {=INDEX(DVHC!$E$778:$E$11831,MATCH(1,(D16=DVHC!$C$778:$C$11831)*(J16=DVHC!$H$778:$H$11831),0))} -> #N/A | J16: {=INDEX(DVHC!$E$65:$E$777,MATCH(1,(E16=DVHC!$C$65:$C$777)*(K16=DVHC!$H$65:$H$777),0))} -> 1338 | K16: =VLOOKUP(F16, DVHC!$C:$E, 3, 0) -> 58 | L16: =B16&", "&C16&", "&D16&", "&E16&", "&F16 -> Công ty cổ phần bê tông Viet Sin, CCN Thạch Trụ, Thạch Trụ, Mộ Đức, Quảng Ngãi
A17: 157 | B17: Công ty TNHH chế biến gỗ Gia Huy | C17: CCN Thạch Trụ | D17: Thạch Trụ | E17: Mộ Đức | F17: Quảng Ngãi | G17: NM | H17: 865652579 | I17: {=INDEX(DVHC!$E$778:$E$11831,MATCH(1,(D17=DVHC!$C$778:$C$11831)*(J17=DVHC!$H$778:$H$11831),0))} -> #N/A | J17: {=INDEX(DVHC!$E$65:$E$777,MATCH(1,(E17=DVHC!$C$65:$C$777)*(K17=DVHC!$H$65:$H$777),0))} -> 1338 | K17: =VLOOKUP(F17, DVHC!$C:$E, 3, 0) -> 58 | L17: =B17&", "&C17&", "&D17&", "&E17&", "&F17 -> Công ty TNHH chế biến gỗ Gia Huy, CCN Thạch Trụ, Thạch Trụ, Mộ Đức, Quảng Ngãi

Sheet Hà Tình (lỗi)
A1: STT | B1: Cơ sở | C1: Địa chỉ | D1: Phường/xã | E1: Quận/Huyện | F1: Tỉnh/Thành phố | G1: Loại hình | H1: Liên hệ | I1: ID Phường | J1: ID QH | K1: ID TP | L1: Địa chỉ lấy lat-long | M1: Latitude | N1: Longitude | O1: Username | P1: Password
A2: 1 | B2: Công ty CP Hồng Sơn | C2: Xóm 6B, Kỳ Văn, Kỳ Anh, Hà Tĩnh | D2: Kỳ Văn | E2: Kỳ Anh | F2: Hà Tĩnh | G2: NM | H2: 983822728 | I2: {=INDEX(DVHC!$E$778:$E$11831,MATCH(1,(D2=DVHC!$C$778:$C$11831)*(J2=DVHC!$H$778:$H$11831),0))} -> #N/A | J2: {=INDEX(DVHC!$E$65:$E$777,MATCH(1,(E2=DVHC!$C$65:$C$777)*(K2=DVHC!$H$65:$H$777),0))} -> 805 | K2: =VLOOKUP(F2, DVHC!$C:$E, 3, 0) -> 37 | L2: =B2&", "&C2&", "&D2&", "&E2&", "&F2 -> Công ty CP Hồng Sơn, Xóm 6B, Kỳ Văn, Kỳ Anh, Hà Tĩnh, Kỳ Văn, Kỳ Anh, Hà Tĩnh | M2: 180682069 | N2: 1062983909
A3: 2 | B3: Công ty CPĐT - XD Hưng Thành Đạt | C3: Quốc lộ 1A, Cẩm Hưng, Cẩm Xuyên, Hà Tĩnh | D3: Kỳ Tân | E3: Kỳ Anh | F3: Hà Tĩnh | G3: NM | I3: {=INDEX(DVHC!$E$778:$E$11831,MATCH(1,(D3=DVHC!$C$778:$C$11831)*(J3=DVHC!$H$778:$H$11831),0))} -> #N/A | J3: {=INDEX(DVHC!$E$65:$E$777,MATCH(1,(E3=DVHC!$C$65:$C$777)*(K3=DVHC!$H$65:$H$777),0))} -> 805 | K3: =VLOOKUP(F3, DVHC!$C:$E, 3, 0) -> 37 | L3: =B3&", "&C3&", "&D3&", "&E3&", "&F3 -> Công ty CPĐT - XD Hưng Thành Đạt, Quốc lộ 1A, Cẩm Hưng, Cẩm Xuyên, Hà Tĩnh, Kỳ Tân, Kỳ Anh, Hà Tĩnh | M3: 184395674 | N3: 1057869106
A4: 3 | B4: Công ty CPSXKD VLXD Hà Tĩnh | C4: Thôn Tân Thắng, Kỳ Tân, Kỳ Anh, Hà Tĩnh | D4: Kỳ Tân | E4: Kỳ Anh | F4: Hà Tĩnh | G4: NM | H4: 985717403 | I4: {=INDEX(DVHC!$E$778:$E$11831,MATCH(1,(D4=DVHC!$C$778:$C$11831)*(J4=DVHC!$H$778:$H$11831),0))} -> #N/A | J4: {=INDEX(DVHC!$E$65:$E$777,MATCH(1,(E4=DVHC!$C$65:$C$777)*(K4=DVHC!$H$65:$H$777),0))} -> 805 | K4: =VLOOKUP(F4, DVHC!$C:$E, 3, 0) -> 37 | L4: =B4&", "&C4&", "&D4&", "&E4&", "&F4 -> Công ty CPSXKD VLXD Hà Tĩnh, Thôn Tân Thắng, Kỳ Tân, Kỳ Anh, Hà Tĩnh, Kỳ Tân, Kỳ Anh, Hà Tĩnh | M4: 180682069 | N4: 1062983909
A5: 4 | B5: Công ty CPXD và DVTM 666 | C5: Xóm 11-Cẩm Quang, Cẩm Xuyên, Hà Tĩnh | D5: Kỳ Phong | E5: Kỳ Anh | F5: Hà Tĩnh | G5: NM | H5: 913294777 | I5: {=INDEX(DVHC!$E$778:$E$11831,MATCH(1,(D5=DVHC!$C$778:$C$11831)*(J5=DVHC!$H$778:$H$11831),0))} -> #N/A | J5: {=INDEX(DVHC!$E$65:$E$777,MATCH(1,(E5=DVHC!$C$65:$C$777)*(K5=DVHC!$H$65:$H$777),0))} -> 805 | K5: =VLOOKUP(F5, DVHC!$C:$E, 3, 0) -> 37 | L5: =B5&", "&C5&", "&D5&", "&E5&", "&F5 -> Công ty CPXD và DVTM 666, Xóm 11-Cẩm Quang, Cẩm Xuyên, Hà Tĩnh, Kỳ Phong, Kỳ Anh, Hà Tĩnh | M5: 182819434 | N5: 1059788011
A6: 5 | B6: Công ty TNHH Thương mại An Thuận Phát | C6: thôn tân thắng, xa Kỳ Tân, huyên Kỳ Anh, tỉnh Hà Tĩnh | D6: Kỳ Tân | E6: Kỳ Anh | F6: Hà Tĩnh | G6: NM | H6: 946201789 | I6: {=INDEX(DVHC!$E$778:$E$11831,MATCH(1,(D6=DVHC!$C$778:$C$11831)*(J6=DVHC!$H$778:$H$11831),0))} -> #N/A | J6: {=INDEX(DVHC!$E$65:$E$777,MATCH(1,(E6=DVHC!$C$65:$C$777)*(K6=DVHC!$H$65:$H$777),0))} -> 805 | K6: =VLOOKUP(F6, DVHC!$C:$E, 3, 0) -> 37 | L6: =B6&", "&C6&", "&D6&", "&E6&", "&F6 -> Công ty TNHH Thương mại An Thuận Phát, thôn tân thắng, xa Kỳ Tân, huyên Kỳ Anh, tỉnh Hà Tĩnh, Kỳ Tân, Kỳ Anh, Hà Tĩnh | M6: 1811386 | N6: 1063262294
A7: 6 | B7: Công ty TNHH TM – DV Hoàng Anh | C7: thôn Nam Xuân, Kỳ Tân, Kỳ Anh, tỉnh Hà Tĩnh | D7: Kỳ Tân | E7: Kỳ Anh | F7: Hà Tĩnh | G7: NM | I7: {=INDEX(DVHC!$E$778:$E$11831,MATCH(1,(D7=DVHC!$C$778:$C$11831)*(J7=DVHC!$H$778:$H$11831),0))} -> #N/A | J7: {=INDEX(DVHC!$E$65:$E$777,MATCH(1,(E7=DVHC!$C$65:$C$777)*(K7=DVHC!$H$65:$H$777),0))} -> 805 | K7: =VLOOKUP(F7, DVHC!$C:$E, 3, 0) -> 37 | L7: =B7&", "&C7&", "&D7&", "&E7&", "&F7 -> Công ty TNHH TM – DV Hoàng Anh, thôn Nam Xuân, Kỳ Tân, Kỳ Anh, tỉnh Hà Tĩnh, Kỳ Tân, Kỳ Anh, Hà Tĩnh | M7: 180642707 | N7: 1062884331
A8: 7 | B8: HTX Đức Quang | D8: Kỳ Xuân | E8: Kỳ Anh | F8: Hà Tĩnh | G8: NM | I8: {=INDEX(DVHC!$E$778:$E$11831,MATCH(1,(D8=DVHC!$C$778:$C$11831)*(J8=DVHC!$H$778:$H$11831),0))} -> #N/A | J8: {=INDEX(DVHC!$E$65:$E$777,MATCH(1,(E8=DVHC!$C$65:$C$777)*(K8=DVHC!$H$65:$H$777),0))} -> 805 | K8: =VLOOKUP(F8, DVHC!$C:$E, 3, 0) -> 37 | L8: =B8&", "&C8&", "&D8&", "&E8&", "&F8 -> HTX Đức Quang, , Kỳ Xuân, Kỳ Anh, Hà Tĩnh | M8: 182463703 | N8: 1061911773
A9: 8 | B9: Tổng Công ty Hợp tác kinh tế | C9: số 187, đường Nguyễn Du, TP Vinh, tỉnh Nghệ An | D9: Kỳ Xuân | E9: Kỳ Anh | F9: Hà Tĩnh | G9: NM | H9: 947097682 | I9: {=INDEX(DVHC!$E$778:$E$11831,MATCH(1,(D9=DVHC!$C$778:$C$11831)*(J9=DVHC!$H$778:$H$11831),0))} -> #N/A | J9: {=INDEX(DVHC!$E$65:$E$777,MATCH(1,(E9=DVHC!$C$65:$C$777)*(K9=DVHC!$H$65:$H$777),0))} -> 805 | K9: =VLOOKUP(F9, DVHC!$C:$E, 3, 0) -> 37 | L9: =B9&", "&C9&", "&D9&", "&E9&", "&F9 -> Tổng Công ty Hợp tác kinh tế, số 187, đường Nguyễn Du, TP Vinh, tỉnh Nghệ An, Kỳ Xuân, Kỳ Anh, Hà Tĩnh | M9: 186580041 | N9: 1056955104
A10: 9 | B10: Công ty CP Xây dựng và Thương mại Kỳ Anh | D10: Kỳ Xuân | E10: Kỳ Anh | F10: Hà Tĩnh | G10: NM | I10: {=INDEX(DVHC!$E$778:$E$11831,MATCH(1,(D10=DVHC!$C$778:$C$11831)*(J10=DVHC!$H$778:$H$11831),0))} -> #N/A | J10: {=INDEX(DVHC!$E$65:$E$777,MATCH(1,(E10=DVHC!$C$65:$C$777)*(K10=DVHC!$H$65:$H$777),0))} -> 805 | K10: =VLOOKUP(F10, DVHC!$C:$E, 3, 0) -> 37 | L10: =B10&", "&C10&", "&D10&", "&E10&", "&F10 -> Công ty CP Xây dựng và Thương mại Kỳ Anh, , Kỳ Xuân, Kỳ Anh, Hà Tĩnh | M10: 180654539 | N10: 1062984217
A11: 10 | B11: Tổng Công ty Khoáng sản và Thương mại Hà Tĩnh | C11: số 02, đường Vũ Quang, Trần Phú, TP Hà Tĩnh | D11: Kỳ Khang | E11: Kỳ Anh | F11: Hà Tĩnh | G11: NM | I11: {=INDEX(DVHC!$E$778:$E$11831,MATCH(1,(D11=DVHC!$C$778:$C$11831)*(J11=DVHC!$H$778:$H$11831),0))} -> #N/A | J11: {=INDEX(DVHC!$E$65:$E$777,MATCH(1,(E11=DVHC!$C$65:$C$777)*(K11=DVHC!$H$65:$H$777),0))} -> 805 | K11: =VLOOKUP(F11, DVHC!$C:$E, 3, 0) -> 37 | L11: =B11&", "&C11&", "&D11&", "&E11&", "&F11 -> Tổng Công ty Khoáng sản và Thương mại Hà Tĩnh, số 02, đường Vũ Quang, Trần Phú, TP Hà Tĩnh, Kỳ Khang, Kỳ Anh, Hà Tĩnh | M11: 183416703 | N11: 1058918559
A12: 11 | B12: Công ty TNHH Nam Thăng Long | C12: Số 147 đường Hà Huy Tập, TP Hà Tĩnh (Trạm nạp: Phù Việt, Thạch Hà) | D12: Phù Việt | E12: Thạch Hà | F12: Hà Tĩnh | G12: NM | I12: {=INDEX(DVHC!$E$778:$E$11831,MATCH(1,(D12=DVHC!$C$778:$C$11831)*(J12=DVHC!$H$778:$H$11831),0))} -> #N/A | J12: {=INDEX(DVHC!$E$65:$E$777,MATCH(1,(E12=DVHC!$C$65:$C$777)*(K12=DVHC!$H$65:$H$777),0))} -> 2853 | K12: =VLOOKUP(F12, DVHC!$C:$E, 3, 0) -> 37 | L12: =B12&", "&C12&", "&D12&", "&E12&", "&F12 -> Công ty TNHH Nam Thăng Long, Số 147 đường Hà Huy Tập, TP Hà Tĩnh (Trạm nạp: Phù Việt, Thạch Hà), Phù Việt, Thạch Hà, Hà Tĩnh | M12: 210277644 | N12: 1058341598
A13: 12 | B13: Công ty TNHH MTV Chế biến chất thải Công nghiệp | C13: Thôn Nam Xuân Sơn, Kỳ Tân, Kỳ Anh | D13: Kỳ Tân | E13: Kỳ Anh | F13: Hà Tĩnh | G13: NM | H13: 912029068 | I13: {=INDEX(DVHC!$E$778:$E$11831,MATCH(1,(D13=DVHC!$C$778:$C$11831)*(J13=DVHC!$H$778:$H$11831),0))} -> #N/A | J13: {=INDEX(DVHC!$E$65:$E$777,MATCH(1,(E13=DVHC!$C$65:$C$777)*(K13=DVHC!$H$65:$H$777),0))} -> 805 | K13: =VLOOKUP(F13, DVHC!$C:$E, 3, 0) -> 37 | L13: =B13&", "&C13&", "&D13&", "&E13&", "&F13 -> Công ty TNHH MTV Chế biến chất thải Công nghiệp, Thôn Nam Xuân Sơn, Kỳ Tân, Kỳ Anh, Kỳ Tân, Kỳ Anh, Hà Tĩnh | M13: 180562031 | N13: 1062992054
A14: 13 | B14: Công ty TNHH TM-DV Thành Mỹ Phát, Nhà máy chế biến tinh bột sắn Hà Tĩnh | C14: Thôn Mỹ Tân-Mỹ Lạc, Kỳ Sơn, Kỳ Anh | D14: Kỳ Sơn | E14: Kỳ Anh | F14: Hà Tĩnh | G14: NM | H14: 909592586 | I14: {=INDEX(DVHC!$E$778:$E$11831,MATCH(1,(D14=DVHC!$C$778:$C$11831)*(J14=DVHC!$H$778:$H$11831),0))} -> #N/A | J14: {=INDEX(DVHC!$E$65:$E$777,MATCH(1,(E14=DVHC!$C$65:$C$777)*(K14=DVHC!$H$65:$H$777),0))} -> 805 | K14: =VLOOKUP(F14, DVHC!$C:$E, 3, 0) -> 37 | L14: =B14&", "&C14&", "&D14&", "&E14&", "&F14 -> Công ty TNHH TM-DV Thành Mỹ Phát, Nhà máy chế biến tinh bột sắn Hà Tĩnh, Thôn Mỹ Tân-Mỹ Lạc, Kỳ Sơn, Kỳ Anh, Kỳ Sơn, Kỳ Anh, Hà Tĩnh | M14: 106295619 | N14: 1063287199
A15: 14 | B15: Công ty TNHH MTV Bia Sài Gòn - Hà Tĩnh | C15: Km 12 đường tránh TP, Thạch Tân, Thạch Hà | D15: Thạch Tân | E15: Thạch Hà | F15: Hà Tĩnh | G15: NM | H15: 939368226 | I15: {=INDEX(DVHC!$E$778:$E$11831,MATCH(1,(D15=DVHC!$C$778:$C$11831)*(J15=DVHC!$H$778:$H$11831),0))} -> #N/A | J15: {=INDEX(DVHC!$E$65:$E$777,MATCH(1,(E15=DVHC!$C$65:$C$777)*(K15=DVHC!$H$65:$H$777),0))} -> 2853 | K15: =VLOOKUP(F15, DVHC!$C:$E, 3, 0) -> 37 | L15: =B15&", "&C15&", "&D15&", "&E15&", "&F15 -> Công ty TNHH MTV Bia Sài Gòn - Hà Tĩnh, Km 12 đường tránh TP, Thạch Tân, Thạch Hà, Thạch Tân, Thạch Hà, Hà Tĩnh | M15: 182964007 | N15: 1058960647
A16: 15 | B16: Công ty TNHH MTV chế biến rác thải sinh hoạt Hoành Sơn | C16: Thôn Nam Xuân Sơn, Kỳ Tân, Kỳ Anh | D16: Kỳ Tân | E16: Kỳ Anh | F16: Hà Tĩnh | G16: NM | H16: 912029068 | I16: {=INDEX(DVHC!$E$778:$E$11831,MATCH(1,(D16=DVHC!$C$778:$C$11831)*(J16=DVHC!$H$778:$H$11831),0))} -> #N/A | J16: {=INDEX(DVHC!$E$65:$E$777,MATCH(1,(E16=DVHC!$C$65:$C$777)*(K16=DVHC!$H$65:$H$777),0))} -> 805 | K16: =VLOOKUP(F16, DVHC!$C:$E, 3, 0) -> 37 | L16: =B16&", "&C16&", "&D16&", "&E16&", "&F16 -> Công ty TNHH MTV chế biến rác thải sinh hoạt Hoành Sơn, Thôn Nam Xuân Sơn, Kỳ Tân, Kỳ Anh, Kỳ Tân, Kỳ Anh, Hà Tĩnh | M16: 180562031 | N16: 1062992054

Sheet Thái Bình(lỗi)
A1: STT | B1: Tên doanh nghiệp | C1: Số nhà | D1: Phường/Xã | E1: Quận/ | F1: Tỉnh/ | G1: Loại hình | H1: Liên hệ | I1: ID | J1: ID QH | K1: ID TP | L1: ĐIạ chỉ lấy lat-long | M1: Latitude | N1: Longitude
A3: 15 | B3: XÍ NGHIỆP CHẾ BIẾN THUỶ SẢN TAM LẠC - CHI NHÁNH CÔNG TY CỔ PHẦN HẢI SẢN THÁI BÌNH | C3: Kiến Xương | E3: Kiến Xương | F3: Thái Bình | G3: NM | H3: 2.3E+09 | I3: {=INDEX(DVHC!$E$778:$E$11831,MATCH(1,(D3=DVHC!$C$778:$C$11831)*(J3=DVHC!$H$778:$H$11831),0))} -> #N/A | J3: {=INDEX(DVHC!$E$65:$E$777,MATCH(1,(E3=DVHC!$C$65:$C$777)*(K3=DVHC!$H$65:$H$777),0))} -> 832 | K3: =VLOOKUP(F3, DVHC!$C:$E, 3, 0) -> 64 | L3: =B3&", "&C3&", "&D3&", "&E3&", "&F3 -> XÍ NGHIỆP CHẾ BIẾN THUỶ SẢN TAM LẠC - CHI NHÁNH CÔNG TY CỔ PHẦN HẢI SẢN THÁI BÌNH, Kiến Xương, , Kiến Xương, Thái Bình

Sheet Tây Ninh (lỗi)
A1: STT | B1: Tên doanh nghiệp | C1: Số nhà | D1: Phường/Xã | E1: Quận/ | F1: Tỉnh/ | G1: Loại hình | H1: Liên hệ
A2: 162 | B2: Công ty TNHH MTV May Mặc Phụng Hoàng | C2: 211/1B, Nguyễn Văn Rốp | E2: Trảng Bàng | F2: Tây Ninh | G2: NM | H2: 975870082
A3: 163 | B3: Công ty TNHH May Mặc Power Việt Nam | C3: Lô A1-1 Cụm công nghiệp Tân Hội | E3: Tân Châu | F3: Tây Ninh | G3: NM
A4: 5 | B4: Công ty TNHH MTV Thương mại Sản xuất Lê Trang Phát | C4: Số 1A, tổ 27, Đường | E4: Hòa Thành | F4: Tây Ninh | G4: NM | H4: 0276.3842834 - 0908141393
A5: 275 | B5: Cửa hàng FPT – VINAMILK – Chi nhánh Tây Ninh – Công ty Cổ phần bán lẻ kỹ thuật số FPT | E5: Hòa Thành | F5: Tây Ninh | H5: 913600396
A6: 276 | B6: Công ty TNHH một thành viên SX-TM thực phẩm Vĩnh Tâm | E6: Hòa Thành | F6: Tây Ninh | H6: 919191157
A7: 277 | B7: Công ty TNHH MTV SX - TM thực phẩm Lê Trọng Cường | E7: Hòa Thành | F7: Tây Ninh | H7: 2763835181
A8: 279 | B8: Chi nhánh Liên hiệp Hợp tác Thương mại TP. Hồ Chí Minh - Co.opMart Gò Dầu | F8: Tây Ninh | H8: 2763522568
A9: 280 | B9: Chi nhánh Công ty Cổ phần Thương mại Bách Hóa Xanh Tây Ninh - Cửa hàng Bách Hóa Xanh Tây Ninh số 04, 28, 34 | F9: Tây Ninh | H9: 2838125960
A10: 281 | B10: Chi nhánh Công ty Cổ phần Thương mại Bách Hóa Xanh Tây Ninh - Cửa hàng Bách Hóa Xanh Tây Ninh số 02, 05, 10, 39 | F10: Tây Ninh | H10: 2838125960
A11: 282 | B11: Chi nhánh Công ty Cổ phần Thương mại Bách Hóa Xanh Tây Ninh - Cửa hàng Bách Hóa Xanh Tây Ninh số 19, 25 | F11: Tây Ninh | H11: 2838125960
A12: 288 | B12: Chi nhánh Công ty Cổ phần Thương mại Bách Hóa Xanh Tây Ninh - Cửa hàng Bách Hóa Xanh Tây Ninh số 07, 30 | E12: Tân Châu | F12: Tây Ninh | H12: 2838125960
A13: 289 | B13: Chi nhánh Công ty Cổ phần Thương mại Bách Hóa Xanh Tây Ninh - Cửa hàng Bách Hóa Xanh Tây Ninh số17, 16, 27 | E13: Tân Châu | F13: Tây Ninh | H13: 2838125960
A14: 292 | B14: Chi nhánh Công ty Cổ phần Thương mại Bách Hóa Xanh Tây Ninh - Cửa hàng Bách Hóa Xanh Tây Ninh số 09,11,18,23 | E14: Tân Biên | F14: Tây Ninh | H14: 2838125960
A15: 293 | B15: Chi nhánh Công ty Cổ phần Thương mại Bách Hóa Xanh Tây Ninh - Cửa hàng Bách Hóa Xanh Tây Ninh số 21,26,36,38 | E15: Dương Minh Châu | F15: Tây Ninh | H15: 2838125960
A16: 294 | B16: Chi nhánh Công ty Cổ phần Thương mại Bách Hóa Xanh Tây Ninh - Cửa hàng Bách Hóa Xanh Tây Ninh số 01,03,06,12 | E16: Tây Ninh | F16: Tây Ninh | H16: 2838125960
A17: 295 | B17: Vinmart+TNH 01,05 | E17: Tây Ninh | F17: Tây Ninh | H17: 2471066866
A18: 296 | B18: Vinmart+TNH 02,03,04 | E18: Hòa Thành | F18: Tây Ninh
A19: 297 | B19: Chi nhánh Công ty Cổ phần Thương mại Bách Hóa Xanh Tây Ninh - Cửa hàng Bách Hóa Xanh Tây Ninh số 08,13,20,24,29,31,32,35 | E19: Hòa Thành | F19: Tây Ninh | H19: 2838125960

Sheet Bình Dương (lỗi)
A1: STT | B1: Tên doanh nghiệp | C1: Số nhà | D1: Phường/Xã | E1: Quận/ huyện | F1: Tỉnh/ thành phố | G1: Loại hình | H1: Liên hệ | I1: ID | J1: ID QH | K1: ID TP | L1: ĐIạ chỉ lấy lat-long
A2: 1 | B2: DNTN Thương Mại Đức Tài | C2: Lô D Tổng kho Grainco - KCN ST 1 | D2: KCN St 1 | E2: Dĩ An | F2: Bình Dương | G2: Doanh nghiệp tư nhân | I2: {=INDEX(DVHC!$E$778:$E$11831,MATCH(1,(D2=DVHC!$C$778:$C$11831)*(J2=DVHC!$H$778:$H$11831),0))} -> #N/A | J2: {=INDEX(DVHC!$E$65:$E$777,MATCH(1,(E2=DVHC!$C$65:$C$777)*(K2=DVHC!$H$65:$H$777),0))} -> 1303 | K2: =VLOOKUP(F2, DVHC!$C:$E, 3, 0) -> 23 | L2: =B2&", "&C2&", "&D2&", "&E2&", "&F2 -> DNTN Thương Mại Đức Tài, Lô D Tổng kho Grainco - KCN ST 1, KCN St 1, Dĩ An, Bình Dương
A3: =A2+1 -> 2 | B3: Công ty TNHH RTS Việt Nam | C3: Văn phòng 02-01C, Khu DV VSIP, Số 02, Đường số 3 | D3: Đường Số 3 | E3: Thuận An | F3: Bình Dương | G3: Đầu tư nước ngoài | I3: {=INDEX(DVHC!$E$778:$E$11831,MATCH(1,(D3=DVHC!$C$778:$C$11831)*(J3=DVHC!$H$778:$H$11831),0))} -> #N/A | J3: {=INDEX(DVHC!$E$65:$E$777,MATCH(1,(E3=DVHC!$C$65:$C$777)*(K3=DVHC!$H$65:$H$777),0))} -> 1047 | K3: =VLOOKUP(F3, DVHC!$C:$E, 3, 0) -> 23 | L3: =B3&", "&C3&", "&D3&", "&E3&", "&F3 -> Công ty TNHH RTS Việt Nam, Văn phòng 02-01C, Khu DV VSIP, Số 02, Đường số 3, Đường Số 3, Thuận An, Bình Dương
A4: =A3+1 -> 3 | B4: Trạm Xăng dầu Công An Thị xã TDM | C4: BS Yersin | E4: Thủ Dầu Một | F4: Bình Dương | G4: Đơn vị sự nghiệp & đơn vị vũ trang | I4: {=INDEX(DVHC!$E$778:$E$11831,MATCH(1,(D4=DVHC!$C$778:$C$11831)*(J4=DVHC!$H$778:$H$11831),0))} -> #N/A | J4: {=INDEX(DVHC!$E$65:$E$777,MATCH(1,(E4=DVHC!$C$65:$C$777)*(K4=DVHC!$H$65:$H$777),0))} -> 279 | K4: =VLOOKUP(F4, DVHC!$C:$E, 3, 0) -> 23 | L4: =B4&", "&C4&", "&D4&", "&E4&", "&F4 -> Trạm Xăng dầu Công An Thị xã TDM, BS Yersin, , Thủ Dầu Một, Bình Dương
A5: =A4+1 -> 4 | B5: Cục CNTT khôi phục theo công văn .../CT-KK ngày .../05/2016. | C5: 124 Lý Thường Kiệt | E5: Thủ Dầu Một | F5: Bình Dương | G5: Khác | I5: {=INDEX(DVHC!$E$778:$E$11831,MATCH(1,(D5=DVHC!$C$778:$C$11831)*(J5=DVHC!$H$778:$H$11831),0))} -> #N/A | J5: {=INDEX(DVHC!$E$65:$E$777,MATCH(1,(E5=DVHC!$C$65:$C$777)*(K5=DVHC!$H$65:$H$777),0))} -> 279 | K5: =VLOOKUP(F5, DVHC!$C:$E, 3, 0) -> 23 | L5: =B5&", "&C5&", "&D5&", "&E5&", "&F5 -> Cục CNTT khôi phục theo công văn .../CT-KK ngày .../05/2016., 124 Lý Thường Kiệt, , Thủ Dầu Một, Bình Dương
A6: =A5+1 -> 5 | B6: XNTD Gốm Mỹ Nghệ Xuất Khẩu Tạ Mai | C6: 0589/E Xã TVH | E6: Tân Uyên | F6: Bình Dương | G6: Doanh nghiệp tư nhân | I6: {=INDEX(DVHC!$E$778:$E$11831,MATCH(1,(D6=DVHC!$C$778:$C$11831)*(J6=DVHC!$H$778:$H$11831),0))} -> #N/A | J6: {=INDEX(DVHC!$E$65:$E$777,MATCH(1,(E6=DVHC!$C$65:$C$777)*(K6=DVHC!$H$65:$H$777),0))} -> 791 | K6: =VLOOKUP(F6, DVHC!$C:$E, 3, 0) -> 23 | L6: =B6&", "&C6&", "&D6&", "&E6&", "&F6 -> XNTD Gốm Mỹ Nghệ Xuất Khẩu Tạ Mai, 0589/E Xã TVH, , Tân Uyên, Bình Dương
A7: =A6+1 -> 6 | B7: Doanh Nghiệp Tư nhân Liên Hồng | E7: Thuận An | F7: Bình Dương | G7: Doanh nghiệp tư nhân | I7: {=INDEX(DVHC!$E$778:$E$11831,MATCH(1,(D7=DVHC!$C$778:$C$11831)*(J7=DVHC!$H$778:$H$11831),0))} -> #N/A | J7: {=INDEX(DVHC!$E$65:$E$777,MATCH(1,(E7=DVHC!$C$65:$C$777)*(K7=DVHC!$H$65:$H$777),0))} -> 1047 | K7: =VLOOKUP(F7, DVHC!$C:$E, 3, 0) -> 23 | L7: =B7&", "&C7&", "&D7&", "&E7&", "&F7 -> Doanh Nghiệp Tư nhân Liên Hồng, , , Thuận An, Bình Dương
A8: =A7+1 -> 7 | B8: Cục CNTT khôi phục theo công văn .../CT-KK ngày .../05/2016. | C8: 107 tổ 10, ấp 3, Tân Bình | E8: Tân Uyên | F8: Bình Dương | G8: Doanh nghiệp tư nhân | I8: {=INDEX(DVHC!$E$778:$E$11831,MATCH(1,(D8=DVHC!$C$778:$C$11831)*(J8=DVHC!$H$778:$H$11831),0))} -> #N/A | J8: {=INDEX(DVHC!$E$65:$E$777,MATCH(1,(E8=DVHC!$C$65:$C$777)*(K8=DVHC!$H$65:$H$777),0))} -> 791 | K8: =VLOOKUP(F8, DVHC!$C:$E, 3, 0) -> 23 | L8: =B8&", "&C8&", "&D8&", "&E8&", "&F8 -> Cục CNTT khôi phục theo công văn .../CT-KK ngày .../05/2016., 107 tổ 10, ấp 3, Tân Bình, , Tân Uyên, Bình Dương
A9: =A8+1 -> 8 | B9: Trung Tâm Ngoại Ngữ Tin Học Tương Lai | C9: Trường Trung Cấp Công Nghiệp BD, đường DT 743 | E9: Thuận An | F9: Bình Dương | G9: Đơn vị sự nghiệp & đơn vị vũ trang | I9: {=INDEX(DVHC!$E$778:$E$11831,MATCH(1,(D9=DVHC!$C$778:$C$11831)*(J9=DVHC!$H$778:$H$11831),0))} -> #N/A | J9: {=INDEX(DVHC!$E$65:$E$777,MATCH(1,(E9=DVHC!$C$65:$C$777)*(K9=DVHC!$H$65:$H$777),0))} -> 1047 | K9: =VLOOKUP(F9, DVHC!$C:$E, 3, 0) -> 23 | L9: =B9&", "&C9&", "&D9&", "&E9&", "&F9 -> Trung Tâm Ngoại Ngữ Tin Học Tương Lai, Trường Trung Cấp Công Nghiệp BD, đường DT 743, , Thuận An, Bình Dương
A10: =A9+1 -> 9 | B10: Công ty Cổ Phần Nam Đô | C10: Số 11, lô DC 01, KDC Việt-Sing | E10: Thuận An | F10: Bình Dương | G10: Cổ phần | H10: 913336292 | I10: {=INDEX(DVHC!$E$778:$E$11831,MATCH(1,(D10=DVHC!$C$778:$C$11831)*(J10=DVHC!$H$778:$H$11831),0))} -> #N/A | J10: {=INDEX(DVHC!$E$65:$E$777,MATCH(1,(E10=DVHC!$C$65:$C$777)*(K10=DVHC!$H$65:$H$777),0))} -> 1047 | K10: =VLOOKUP(F10, DVHC!$C:$E, 3, 0) -> 23 | L10: =B10&", "&C10&", "&D10&", "&E10&", "&F10 -> Công ty Cổ Phần Nam Đô, Số 11, lô DC 01, KDC Việt-Sing, , Thuận An, Bình Dương
A11: =A10+1 -> 10 | B11: Ban Chấp Hành Liên Đoàn Bóng Đá Bình Dương | C11: khán đài A sân vận động Bình Dương | E11: Thủ Dầu Một | F11: Bình Dương | G11: Đơn vị sự nghiệp & đơn vị vũ trang | I11: {=INDEX(DVHC!$E$778:$E$11831,MATCH(1,(D11=DVHC!$C$778:$C$11831)*(J11=DVHC!$H$778:$H$11831),0))} -> #N/A | J11: {=INDEX(DVHC!$E$65:$E$777,MATCH(1,(E11=DVHC!$C$65:$C$777)*(K11=DVHC!$H$65:$H$777),0))} -> 279 | K11: =VLOOKUP(F11, DVHC!$C:$E, 3, 0) -> 23 | L11: =B11&", "&C11&", "&D11&", "&E11&", "&F11 -> Ban Chấp Hành Liên Đoàn Bóng Đá Bình Dương, khán đài A sân vận động Bình Dương, , Thủ Dầu Một, Bình Dương
A12: =A11+1 -> 11 | B12: Công ty TNHH kho bãi vận tải Song Thân | C12: 137B/4 xa lộ Trường Sơn - Bình đường 3 | E12: Dĩ An | F12: Bình Dương | G12: Trách nhiệm hữu hạn | I12: {=INDEX(DVHC!$E$778:$E$11831,MATCH(1,(D12=DVHC!$C$778:$C$11831)*(J12=DVHC!$H$778:$H$11831),0))} -> #N/A | J12: {=INDEX(DVHC!$E$65:$E$777,MATCH(1,(E12=DVHC!$C$65:$C$777)*(K12=DVHC!$H$65:$H$777),0))} -> 1303 | K12: =VLOOKUP(F12, DVHC!$C:$E, 3, 0) -> 23 | L12: =B12&", "&C12&", "&D12&", "&E12&", "&F12 -> Công ty TNHH kho bãi vận tải Song Thân, 137B/4 xa lộ Trường Sơn - Bình đường 3, , Dĩ An, Bình Dương
A13: =A12+1 -> 12 | B13: Sở Thể dục thể thao Bình dương | C13: Đường 30/4 | E13: Thủ Dầu Một | F13: Bình Dương | G13: Đơn vị sự nghiệp & đơn vị vũ trang | I13: {=INDEX(DVHC!$E$778:$E$11831,MATCH(1,(D13=DVHC!$C$778:$C$11831)*(J13=DVHC!$H$778:$H$11831),0))} -> #N/A | J13: {=INDEX(DVHC!$E$65:$E$777,MATCH(1,(E13=DVHC!$C$65:$C$777)*(K13=DVHC!$H$65:$H$777),0))} -> 279 | K13: =VLOOKUP(F13, DVHC!$C:$E, 3, 0) -> 23 | L13: =B13&", "&C13&", "&D13&", "&E13&", "&F13 -> Sở Thể dục thể thao Bình dương, Đường 30/4, , Thủ Dầu Một, Bình Dương
A14: =A13+1 -> 13 | B14: Công ty cổ phần kho vận Rạng Đông | C14: Đường số 10 - KCN Sóng thần 1 | E14: Dĩ An | F14: Bình Dương | G14: Cổ phần | I14: {=INDEX(DVHC!$E$778:$E$11831,MATCH(1,(D14=DVHC!$C$778:$C$11831)*(J14=DVHC!$H$778:$H$11831),0))} -> #N/A | J14: {=INDEX(DVHC!$E$65:$E$777,MATCH(1,(E14=DVHC!$C$65:$C$777)*(K14=DVHC!$H$65:$H$777),0))} -> 1303 | K14: =VLOOKUP(F14, DVHC!$C:$E, 3, 0) -> 23 | L14: =B14&", "&C14&", "&D14&", "&E14&", "&F14 -> Công ty cổ phần kho vận Rạng Đông, Đường số 10 - KCN Sóng thần 1, , Dĩ An, Bình Dương
A15: =A14+1 -> 14 | B15: Công Ty TNHH AIR POWER RESOURCES Việt Nam | C15: 215-215A, đường D16, Khu định cư Việt- Sing | E15: Thuận An | F15: Bình Dương | G15: Đầu tư nước ngoài | H15: 650713111 | I15: {=INDEX(DVHC!$E$778:$E$11831,MATCH(1,(D15=DVHC!$C$778:$C$11831)*(J15=DVHC!$H$778:$H$11831),0))} -> #N/A | J15: {=INDEX(DVHC!$E$65:$E$777,MATCH(1,(E15=DVHC!$C$65:$C$777)*(K15=DVHC!$H$65:$H$777),0))} -> 1047 | K15: =VLOOKUP(F15, DVHC!$C:$E, 3, 0) -> 23 | L15: =B15&", "&C15&", "&D15&", "&E15&", "&F15 -> Công Ty TNHH AIR POWER RESOURCES Việt Nam, 215-215A, đường D16, Khu định cư Việt- Sing, , Thuận An, Bình Dương
A16: =A15+1 -> 15 | B16: VPĐD CLARIANT (Singapore) PTE.LTD | C16: 3 đường 02 VSIP | E16: Thuận An | F16: Bình Dương | G16: Khác | I16: {=INDEX(DVHC!$E$778:$E$11831,MATCH(1,(D16=DVHC!$C$778:$C$11831)*(J16=DVHC!$H$778:$H$11831),0))} -> #N/A | J16: {=INDEX(DVHC!$E$65:$E$777,MATCH(1,(E16=DVHC!$C$65:$C$777)*(K16=DVHC!$H$65:$H$777),0))} -> 1047 | K16: =VLOOKUP(F16, DVHC!$C:$E, 3, 0) -> 23 | L16: =B16&", "&C16&", "&D16&", "&E16&", "&F16 -> VPĐD CLARIANT (Singapore) PTE.LTD, 3 đường 02 VSIP, , Thuận An, Bình Dương
A17: =A16+1 -> 16 | B17: VP Đại Diện CTy Anderson Machinery (Singapore) Pte.Ltd | C17: 26/12 Kp Đông tân | E17: Dĩ An | F17: Bình Dương | G17: Khác | I17: {=INDEX(DVHC!$E$778:$E$11831,MATCH(1,(D17=DVHC!$C$778:$C$11831)*(J17=DVHC!$H$778:$H$11831),0))} -> #N/A | J17: {=INDEX(DVHC!$E$65:$E$777,MATCH(1,(E17=DVHC!$C$65:$C$777)*(K17=DVHC!$H$65:$H$777),0))} -> 1303 | K17: =VLOOKUP(F17, DVHC!$C:$E, 3, 0) -> 23 | L17: =B17&", "&C17&", "&D17&", "&E17&", "&F17 -> VP Đại Diện CTy Anderson Machinery (Singapore) Pte.Ltd, 26/12 Kp Đông tân, , Dĩ An, Bình Dương
A18: =A17+1 -> 17 | B18: Chi Cục Tiêu Chuẩn Đo Lường Chất Lượng | C18: 54 Huỳnh Văn Nghệ | E18: Thủ Dầu Một | F18: Bình Dương | G18: Đơn vị sự nghiệp & đơn vị vũ trang | I18: {=INDEX(DVHC!$E$778:$E$11831,MATCH(1,(D18=DVHC!$C$778:$C$11831)*(J18=DVHC!$H$778:$H$11831),0))} -> #N/A | J18: {=INDEX(DVHC!$E$65:$E$777,MATCH(1,(E18=DVHC!$C$65:$C$777)*(K18=DVHC!$H$65:$H$777),0))} -> 279 | K18: =VLOOKUP(F18, DVHC!$C:$E, 3, 0) -> 23 | L18: =B18&", "&C18&", "&D18&", "&E18&", "&F18 -> Chi Cục Tiêu Chuẩn Đo Lường Chất Lượng, 54 Huỳnh Văn Nghệ, , Thủ Dầu Một, Bình Dương
A19: =A18+1 -> 18 | B19: Cục CNTT khôi phục theo công văn .../CT-KK ngày .../05/2016. | C19: Lô K , đường số 2 - KCN Sóng Thần | E19: Dĩ An | F19: Bình Dương | G19: Đầu tư nước ngoài | I19: {=INDEX(DVHC!$E$778:$E$11831,MATCH(1,(D19=DVHC!$C$778:$C$11831)*(J19=DVHC!$H$778:$H$11831),0))} -> #N/A | J19: {=INDEX(DVHC!$E$65:$E$777,MATCH(1,(E19=DVHC!$C$65:$C$777)*(K19=DVHC!$H$65:$H$777),0))} -> 1303 | K19: =VLOOKUP(F19, DVHC!$C:$E, 3, 0) -> 23 | L19: =B19&", "&C19&", "&D19&", "&E19&", "&F19 -> Cục CNTT khôi phục theo công văn .../CT-KK ngày .../05/2016., Lô K , đường số 2 - KCN Sóng Thần, , Dĩ An, Bình Dương
A20: =A19+1 -> 19 | B20: Công ty TNHH MAPLETREE 1 WAREHOUSE (Việt Nam) | C20: Số 1, đường số 10, KCN VSIP | E20: Thuận An | F20: Bình Dương | G20: Đầu tư nước ngoài | I20: {=INDEX(DVHC!$E$778:$E$11831,MATCH(1,(D20=DVHC!$C$778:$C$11831)*(J20=DVHC!$H$778:$H$11831),0))} -> #N/A | J20: {=INDEX(DVHC!$E$65:$E$777,MATCH(1,(E20=DVHC!$C$65:$C$777)*(K20=DVHC!$H$65:$H$777),0))} -> 1047 | K20: =VLOOKUP(F20, DVHC!$C:$E, 3, 0) -> 23 | L20: =B20&", "&C20&", "&D20&", "&E20&", "&F20 -> Công ty TNHH MAPLETREE 1 WAREHOUSE (Việt Nam), Số 1, đường số 10, KCN VSIP, , Thuận An, Bình Dương
A21: =A20+1 -> 20 | B21: DNTN Bích Chung | C21: 48, ấp V | D21: Tân Thành | E21: Tân Uyên | F21: Bình Dương | G21: Doanh nghiệp tư nhân | H21: 1647906227 | I21: {=INDEX(DVHC!$E$778:$E$11831,MATCH(1,(D21=DVHC!$C$778:$C$11831)*(J21=DVHC!$H$778:$H$11831),0))} -> #N/A | J21: {=INDEX(DVHC!$E$65:$E$777,MATCH(1,(E21=DVHC!$C$65:$C$777)*(K21=DVHC!$H$65:$H$777),0))} -> 791 | K21: =VLOOKUP(F21, DVHC!$C:$E, 3, 0) -> 23 | L21: =B21&", "&C21&", "&D21&", "&E21&", "&F21 -> DNTN Bích Chung, 48, ấp V, Tân Thành, Tân Uyên, Bình Dương
A22: =A21+1 -> 21 | B22: Công Ty TNHH LOSCAM Việt Nam | C22: Lô C2-C3, đường số 19, KCN Sóng Thần 2 | E22: Dĩ An | F22: Bình Dương | G22: Đầu tư nước ngoài | H22: 909573467 | I22: {=INDEX(DVHC!$E$778:$E$11831,MATCH(1,(D22=DVHC!$C$778:$C$11831)*(J22=DVHC!$H$778:$H$11831),0))} -> #N/A | J22: {=INDEX(DVHC!$E$65:$E$777,MATCH(1,(E22=DVHC!$C$65:$C$777)*(K22=DVHC!$H$65:$H$777),0))} -> 1303 | K22: =VLOOKUP(F22, DVHC!$C:$E, 3, 0) -> 23 | L22: =B22&", "&C22&", "&D22&", "&E22&", "&F22 -> Công Ty TNHH LOSCAM Việt Nam, Lô C2-C3, đường số 19, KCN Sóng Thần 2, , Dĩ An, Bình Dương
A23: =A22+1 -> 22 | B23: Công Ty TNHH Châu Mỹ | C23: 9 Đường số 8, KCN Việt-Sing | E23: Thuận An | F23: Bình Dương | G23: Trách nhiệm hữu hạn | I23: {=INDEX(DVHC!$E$778:$E$11831,MATCH(1,(D23=DVHC!$C$778:$C$11831)*(J23=DVHC!$H$778:$H$11831),0))} -> #N/A | J23: {=INDEX(DVHC!$E$65:$E$777,MATCH(1,(E23=DVHC!$C$65:$C$777)*(K23=DVHC!$H$65:$H$777),0))} -> 1047 | K23: =VLOOKUP(F23, DVHC!$C:$E, 3, 0) -> 23 | L23: =B23&", "&C23&", "&D23&", "&E23&", "&F23 -> Công Ty TNHH Châu Mỹ, 9 Đường số 8, KCN Việt-Sing, , Thuận An, Bình Dương
A24: =A23+1 -> 23 | B24: Công Ty Cổ Phần Bệnh Viện Đông Phương | C24: 27/3 đường Cách mạng tháng tám | E24: Thủ Dầu Một | F24: Bình Dương | G24: Cổ phần | I24: {=INDEX(DVHC!$E$778:$E$11831,MATCH(1,(D24=DVHC!$C$778:$C$11831)*(J24=DVHC!$H$778:$H$11831),0))} -> #N/A | J24: {=INDEX(DVHC!$E$65:$E$777,MATCH(1,(E24=DVHC!$C$65:$C$777)*(K24=DVHC!$H$65:$H$777),0))} -> 279 | K24: =VLOOKUP(F24, DVHC!$C:$E, 3, 0) -> 23 | L24: =B24&", "&C24&", "&D24&", "&E24&", "&F24 -> Công Ty Cổ Phần Bệnh Viện Đông Phương, 27/3 đường Cách mạng tháng tám, , Thủ Dầu Một, Bình Dương
A25: =A24+1 -> 24 | B25: DNTN Minh Hương | C25: Số 10, Đại Lộ ĐL, KCN Sóng Thần I | E25: Dĩ An | F25: Bình Dương | G25: Doanh nghiệp tư nhân | I25: {=INDEX(DVHC!$E$778:$E$11831,MATCH(1,(D25=DVHC!$C$778:$C$11831)*(J25=DVHC!$H$778:$H$11831),0))} -> #N/A | J25: {=INDEX(DVHC!$E$65:$E$777,MATCH(1,(E25=DVHC!$C$65:$C$777)*(K25=DVHC!$H$65:$H$777),0))} -> 1303 | K25: =VLOOKUP(F25, DVHC!$C:$E, 3, 0) -> 23 | L25: =B25&", "&C25&", "&D25&", "&E25&", "&F25 -> DNTN Minh Hương, Số 10, Đại Lộ ĐL, KCN Sóng Thần I, , Dĩ An, Bình Dương
A26: =A25+1 -> 25 | B26: Văn Phòng Đại Diện NAM SOON HONG Việt Nam | C26: Lô D7, ô 26, tổ 95 đường Ngô Gia Tự | E26: Thủ Dầu Một | F26: Bình Dương | G26: Khác | I26: {=INDEX(DVHC!$E$778:$E$11831,MATCH(1,(D26=DVHC!$C$778:$C$11831)*(J26=DVHC!$H$778:$H$11831),0))} -> #N/A | J26: {=INDEX(DVHC!$E$65:$E$777,MATCH(1,(E26=DVHC!$C$65:$C$777)*(K26=DVHC!$H$65:$H$777),0))} -> 279 | K26: =VLOOKUP(F26, DVHC!$C:$E, 3, 0) -> 23 | L26: =B26&", "&C26&", "&D26&", "&E26&", "&F26 -> Văn Phòng Đại Diện NAM SOON HONG Việt Nam, Lô D7, ô 26, tổ 95 đường Ngô Gia Tự, , Thủ Dầu Một, Bình Dương
A27: =A26+1 -> 26 | B27: DNTN Thuận Bình | C27: 25 Đường số 6, KCN Sóng Thần | E27: Dĩ An | F27: Bình Dương | G27: Doanh nghiệp tư nhân | H27: 908593637 | I27: {=INDEX(DVHC!$E$778:$E$11831,MATCH(1,(D27=DVHC!$C$778:$C$11831)*(J27=DVHC!$H$778:$H$11831),0))} -> #N/A | J27: {=INDEX(DVHC!$E$65:$E$777,MATCH(1,(E27=DVHC!$C$65:$C$777)*(K27=DVHC!$H$65:$H$777),0))} -> 1303 | K27: =VLOOKUP(F27, DVHC!$C:$E, 3, 0) -> 23 | L27: =B27&", "&C27&", "&D27&", "&E27&", "&F27 -> DNTN Thuận Bình, 25 Đường số 6, KCN Sóng Thần, , Dĩ An, Bình Dương
A28: =A27+1 -> 27 | B28: Công Ty TNHH Truyền Thông Phan Anh | C28: Đường T, Khu TT Hành Chánh | E28: Dĩ An | F28: Bình Dương | G28: Trách nhiệm hữu hạn | I28: {=INDEX(DVHC!$E$778:$E$11831,MATCH(1,(D28=DVHC!$C$778:$C$11831)*(J28=DVHC!$H$778:$H$11831),0))} -> #N/A | J28: {=INDEX(DVHC!$E$65:$E$777,MATCH(1,(E28=DVHC!$C$65:$C$777)*(K28=DVHC!$H$65:$H$777),0))} -> 1303 | K28: =VLOOKUP(F28, DVHC!$C:$E, 3, 0) -> 23 | L28: =B28&", "&C28&", "&D28&", "&E28&", "&F28 -> Công Ty TNHH Truyền Thông Phan Anh, Đường T, Khu TT Hành Chánh, , Dĩ An, Bình Dương
A29: =A28+1 -> 28 | B29: Đại Lý Bưu Điện Phú Giáo | C29: Bưu Điện Phú Giáo | E29: Phú Giáo | F29: Bình Dương | G29: Khác | I29: {=INDEX(DVHC!$E$778:$E$11831,MATCH(1,(D29=DVHC!$C$778:$C$11831)*(J29=DVHC!$H$778:$H$11831),0))} -> #N/A | J29: {=INDEX(DVHC!$E$65:$E$777,MATCH(1,(E29=DVHC!$C$65:$C$777)*(K29=DVHC!$H$65:$H$777),0))} -> 1815 | K29: =VLOOKUP(F29, DVHC!$C:$E, 3, 0) -> 23 | L29: =B29&", "&C29&", "&D29&", "&E29&", "&F29 -> Đại Lý Bưu Điện Phú Giáo, Bưu Điện Phú Giáo, , Phú Giáo, Bình Dương
A30: =A29+1 -> 29 | B30: Trường cao đẳng sư phạm | C30: Thị xã TDM | E30: Thủ Dầu Một | F30: Bình Dương | G30: Khác | I30: {=INDEX(DVHC!$E$778:$E$11831,MATCH(1,(D30=DVHC!$C$778:$C$11831)*(J30=DVHC!$H$778:$H$11831),0))} -> #N/A | J30: {=INDEX(DVHC!$E$65:$E$777,MATCH(1,(E30=DVHC!$C$65:$C$777)*(K30=DVHC!$H$65:$H$777),0))} -> 279 | K30: =VLOOKUP(F30, DVHC!$C:$E, 3, 0) -> 23 | L30: =B30&", "&C30&", "&D30&", "&E30&", "&F30 -> Trường cao đẳng sư phạm, Thị xã TDM, , Thủ Dầu Một, Bình Dương
A31: =A30+1 -> 30 | B31: Ban Dân Vận Tỉnh ủy Bình Dương | C31: 130CMT8 | E31: Thủ Dầu Một | F31: Bình Dương | G31: Khác | I31: {=INDEX(DVHC!$E$778:$E$11831,MATCH(1,(D31=DVHC!$C$778:$C$11831)*(J31=DVHC!$H$778:$H$11831),0))} -> #N/A | J31: {=INDEX(DVHC!$E$65:$E$777,MATCH(1,(E31=DVHC!$C$65:$C$777)*(K31=DVHC!$H$65:$H$777),0))} -> 279 | K31: =VLOOKUP(F31, DVHC!$C:$E, 3, 0) -> 23 | L31: =B31&", "&C31&", "&D31&", "&E31&", "&F31 -> Ban Dân Vận Tỉnh ủy Bình Dương, 130CMT8, , Thủ Dầu Một, Bình Dương
A32: =A31+1 -> 31 | B32: SMHB SDN . BHD. | E32: Thủ Dầu Một | F32: Bình Dương | G32: Đầu tư nước ngoài | I32: {=INDEX(DVHC!$E$778:$E$11831,MATCH(1,(D32=DVHC!$C$778:$C$11831)*(J32=DVHC!$H$778:$H$11831),0))} -> #N/A | J32: {=INDEX(DVHC!$E$65:$E$777,MATCH(1,(E32=DVHC!$C$65:$C$777)*(K32=DVHC!$H$65:$H$777),0))} -> 279 | K32: =VLOOKUP(F32, DVHC!$C:$E, 3, 0) -> 23 | L32: =B32&", "&C32&", "&D32&", "&E32&", "&F32 -> SMHB SDN . BHD., , , Thủ Dầu Một, Bình Dương
A33: =A32+1 -> 32 | B33: Saigon Shipy ARD Ltd | C33: KCN Sóng thần | E33: Dĩ An | F33: Bình Dương | G33: Đầu tư nước ngoài | I33: {=INDEX(DVHC!$E$778:$E$11831,MATCH(1,(D33=DVHC!$C$778:$C$11831)*(J33=DVHC!$H$778:$H$11831),0))} -> #N/A | J33: {=INDEX(DVHC!$E$65:$E$777,MATCH(1,(E33=DVHC!$C$65:$C$777)*(K33=DVHC!$H$65:$H$777),0))} -> 1303 | K33: =VLOOKUP(F33, DVHC!$C:$E, 3, 0) -> 23 | L33: =B33&", "&C33&", "&D33&", "&E33&", "&F33 -> Saigon Shipy ARD Ltd, KCN Sóng thần, , Dĩ An, Bình Dương
A34: =A33+1 -> 33 | B34: Các Phường , xã thuộc Thị xã TDM | E34: Thủ Dầu Một | F34: Bình Dương | G34: Khác | I34: {=INDEX(DVHC!$E$778:$E$11831,MATCH(1,(D34=DVHC!$C$778:$C$11831)*(J34=DVHC!$H$778:$H$11831),0))} -> #N/A | J34: {=INDEX(DVHC!$E$65:$E$777,MATCH(1,(E34=DVHC!$C$65:$C$777)*(K34=DVHC!$H$65:$H$777),0))} -> 279 | K34: =VLOOKUP(F34, DVHC!$C:$E, 3, 0) -> 23 | L34: =B34&", "&C34&", "&D34&", "&E34&", "&F34 -> Các Phường , xã thuộc Thị xã TDM, , , Thủ Dầu Một, Bình Dương
A35: =A34+1 -> 34 | B35: Phòng Tài Chính Kế Hoạch Thị Xã | C35: Đại Lộ Bình Dương | E35: Thủ Dầu Một | F35: Bình Dương | G35: Khác | I35: {=INDEX(DVHC!$E$778:$E$11831,MATCH(1,(D35=DVHC!$C$778:$C$11831)*(J35=DVHC!$H$778:$H$11831),0))} -> #N/A | J35: {=INDEX(DVHC!$E$65:$E$777,MATCH(1,(E35=DVHC!$C$65:$C$777)*(K35=DVHC!$H$65:$H$777),0))} -> 279 | K35: =VLOOKUP(F35, DVHC!$C:$E, 3, 0) -> 23 | L35: =B35&", "&C35&", "&D35&", "&E35&", "&F35 -> Phòng Tài Chính Kế Hoạch Thị Xã, Đại Lộ Bình Dương, , Thủ Dầu Một, Bình Dương
A36: =A35+1 -> 35 | B36: Các xã Thuộc Thuận an | E36: Thuận An | F36: Bình Dương | G36: Khác | I36: {=INDEX(DVHC!$E$778:$E$11831,MATCH(1,(D36=DVHC!$C$778:$C$11831)*(J36=DVHC!$H$778:$H$11831),0))} -> #N/A | J36: {=INDEX(DVHC!$E$65:$E$777,MATCH(1,(E36=DVHC!$C$65:$C$777)*(K36=DVHC!$H$65:$H$777),0))} -> 1047 | K36: =VLOOKUP(F36, DVHC!$C:$E, 3, 0) -> 23 | L36: =B36&", "&C36&", "&D36&", "&E36&", "&F36 -> Các xã Thuộc Thuận an, , , Thuận An, Bình Dương
A37: =A36+1 -> 36 | B37: Bệnh Viện Đa KhoaDĩ An | C37: Số 500, đường ĐT 743 | E37: Dĩ An | F37: Bình Dương | G37: Khác | I37: {=INDEX(DVHC!$E$778:$E$11831,MATCH(1,(D37=DVHC!$C$778:$C$11831)*(J37=DVHC!$H$778:$H$11831),0))} -> #N/A | J37: {=INDEX(DVHC!$E$65:$E$777,MATCH(1,(E37=DVHC!$C$65:$C$777)*(K37=DVHC!$H$65:$H$777),0))} -> 1303 | K37: =VLOOKUP(F37, DVHC!$C:$E, 3, 0) -> 23 | L37: =B37&", "&C37&", "&D37&", "&E37&", "&F37 -> Bệnh Viện Đa KhoaDĩ An, Số 500, đường ĐT 743, , Dĩ An, Bình Dương
A38: =A37+1 -> 37 | B38: Phòng Kinh TếDĩ An | C38: Trung tâm hành chính | E38: Dĩ An | F38: Bình Dương | G38: Khác | H38: 650734830 | I38: {=INDEX(DVHC!$E$778:$E$11831,MATCH(1,(D38=DVHC!$C$778:$C$11831)*(J38=DVHC!$H$778:$H$11831),0))} -> #N/A | J38: {=INDEX(DVHC!$E$65:$E$777,MATCH(1,(E38=DVHC!$C$65:$C$777)*(K38=DVHC!$H$65:$H$777),0))} -> 1303 | K38: =VLOOKUP(F38, DVHC!$C:$E, 3, 0) -> 23 | L38: =B38&", "&C38&", "&D38&", "&E38&", "&F38 -> Phòng Kinh TếDĩ An, Trung tâm hành chính, , Dĩ An, Bình Dương
A39: =A38+1 -> 38 | B39: DNTN Hòang An | C39: 113 - Hòa Thạnh | D39: Hòa Thạnh | E39: Tân Phú | F39: Bình Dương | G39: Doanh nghiệp tư nhân | I39: {=INDEX(DVHC!$E$778:$E$11831,MATCH(1,(D39=DVHC!$C$778:$C$11831)*(J39=DVHC!$H$778:$H$11831),0))} -> #N/A | J39: {=INDEX(DVHC!$E$65:$E$777,MATCH(1,(E39=DVHC!$C$65:$C$777)*(K39=DVHC!$H$65:$H$777),0))} -> #N/A | K39: =VLOOKUP(F39, DVHC!$C:$E, 3, 0) -> 23 | L39: =B39&", "&C39&", "&D39&", "&E39&", "&F39 -> DNTN Hòang An, 113 - Hòa Thạnh, Hòa Thạnh, Tân Phú, Bình Dương
A40: =A39+1 -> 39 | B40: Hội Văn học nghệ thuật tỉnh Bình dương | C40: 52 - Bạch đằng | E40: Thủ Dầu Một | F40: Bình Dương | G40: Đơn vị sự nghiệp & đơn vị vũ trang | I40: {=INDEX(DVHC!$E$778:$E$11831,MATCH(1,(D40=DVHC!$C$778:$C$11831)*(J40=DVHC!$H$778:$H$11831),0))} -> #N/A | J40: {=INDEX(DVHC!$E$65:$E$777,MATCH(1,(E40=DVHC!$C$65:$C$777)*(K40=DVHC!$H$65:$H$777),0))} -> 279 | K40: =VLOOKUP(F40, DVHC!$C:$E, 3, 0) -> 23 | L40: =B40&", "&C40&", "&D40&", "&E40&", "&F40 -> Hội Văn học nghệ thuật tỉnh Bình dương, 52 - Bạch đằng, , Thủ Dầu Một, Bình Dương
A41: =A40+1 -> 40 | B41: Cục CNTT khôi phục theo công văn .../CT-KK ngày .../05/2016. | C41: 6A Đại Lộ Độc Lập - KCN Sóng Thần | E41: Dĩ An | F41: Bình Dương | G41: Trách nhiệm hữu hạn | H41: 650790297 | I41: {=INDEX(DVHC!$E$778:$E$11831,MATCH(1,(D41=DVHC!$C$778:$C$11831)*(J41=DVHC!$H$778:$H$11831),0))} -> #N/A | J41: {=INDEX(DVHC!$E$65:$E$777,MATCH(1,(E41=DVHC!$C$65:$C$777)*(K41=DVHC!$H$65:$H$777),0))} -> 1303 | K41: =VLOOKUP(F41, DVHC!$C:$E, 3, 0) -> 23 | L41: =B41&", "&C41&", "&D41&", "&E41&", "&F41 -> Cục CNTT khôi phục theo công văn .../CT-KK ngày .../05/2016., 6A Đại Lộ Độc Lập - KCN Sóng Thần, , Dĩ An, Bình Dương
A42: =A41+1 -> 41 | B42: Trung Tâm Phân Tích Và Môi Trường | C42: 01 Xa Lộ Trường Sơn | E42: Dĩ An | F42: Bình Dương | G42: Đơn vị sự nghiệp & đơn vị vũ trang | H42: 903302242 | I42: {=INDEX(DVHC!$E$778:$E$11831,MATCH(1,(D42=DVHC!$C$778:$C$11831)*(J42=DVHC!$H$778:$H$11831),0))} -> #N/A | J42: {=INDEX(DVHC!$E$65:$E$777,MATCH(1,(E42=DVHC!$C$65:$C$777)*(K42=DVHC!$H$65:$H$777),0))} -> 1303 | K42: =VLOOKUP(F42, DVHC!$C:$E, 3, 0) -> 23 | L42: =B42&", "&C42&", "&D42&", "&E42&", "&F42 -> Trung Tâm Phân Tích Và Môi Trường, 01 Xa Lộ Trường Sơn, , Dĩ An, Bình Dương
A43: =A42+1 -> 42 | B43: Công Ty TNHH Việt Nam Mỹ Thanh | C43: KCN Việt-Sing | E43: Thuận An | F43: Bình Dương | G43: Đầu tư nước ngoài | I43: {=INDEX(DVHC!$E$778:$E$11831,MATCH(1,(D43=DVHC!$C$778:$C$11831)*(J43=DVHC!$H$778:$H$11831),0))} -> #N/A | J43: {=INDEX(DVHC!$E$65:$E$777,MATCH(1,(E43=DVHC!$C$65:$C$777)*(K43=DVHC!$H$65:$H$777),0))} -> 1047 | K43: =VLOOKUP(F43, DVHC!$C:$E, 3, 0) -> 23 | L43: =B43&", "&C43&", "&D43&", "&E43&", "&F43 -> Công Ty TNHH Việt Nam Mỹ Thanh, KCN Việt-Sing, , Thuận An, Bình Dương
A44: =A43+1 -> 43 | B44: Công Ty TNHH ZENITH LABEL (Việt Nam) | C44: 33 Đường số 8, KCN VSIP | E44: Thuận An | F44: Bình Dương | G44: Đầu tư nước ngoài | I44: {=INDEX(DVHC!$E$778:$E$11831,MATCH(1,(D44=DVHC!$C$778:$C$11831)*(J44=DVHC!$H$778:$H$11831),0))} -> #N/A | J44: {=INDEX(DVHC!$E$65:$E$777,MATCH(1,(E44=DVHC!$C$65:$C$777)*(K44=DVHC!$H$65:$H$777),0))} -> 1047 | K44: =VLOOKUP(F44, DVHC!$C:$E, 3, 0) -> 23 | L44: =B44&", "&C44&", "&D44&", "&E44&", "&F44 -> Công Ty TNHH ZENITH LABEL (Việt Nam), 33 Đường số 8, KCN VSIP, , Thuận An, Bình Dương
A45: =A44+1 -> 44 | B45: Công ty TNHH Hòa Phát | C45: 3/21 Trường sơn - ấp Bình đường 1 | E45: Dĩ An | F45: Bình Dương | G45: Trách nhiệm hữu hạn | I45: {=INDEX(DVHC!$E$778:$E$11831,MATCH(1,(D45=DVHC!$C$778:$C$11831)*(J45=DVHC!$H$778:$H$11831),0))} -> #N/A | J45: {=INDEX(DVHC!$E$65:$E$777,MATCH(1,(E45=DVHC!$C$65:$C$777)*(K45=DVHC!$H$65:$H$777),0))} -> 1303 | K45: =VLOOKUP(F45, DVHC!$C:$E, 3, 0) -> 23 | L45: =B45&", "&C45&", "&D45&", "&E45&", "&F45 -> Công ty TNHH Hòa Phát, 3/21 Trường sơn - ấp Bình đường 1, , Dĩ An, Bình Dương
A46: =A45+1 -> 45 | B46: Công ty TNHH SX Hòan Thành Mới | C46: số 8 Lô J1 - Tổng kho Grainco - KCN Sóng Thần | E46: Dĩ An | F46: Bình Dương | G46: Trách nhiệm hữu hạn | I46: {=INDEX(DVHC!$E$778:$E$11831,MATCH(1,(D46=DVHC!$C$778:$C$11831)*(J46=DVHC!$H$778:$H$11831),0))} -> #N/A | J46: {=INDEX(DVHC!$E$65:$E$777,MATCH(1,(E46=DVHC!$C$65:$C$777)*(K46=DVHC!$H$65:$H$777),0))} -> 1303 | K46: =VLOOKUP(F46, DVHC!$C:$E, 3, 0) -> 23 | L46: =B46&", "&C46&", "&D46&", "&E46&", "&F46 -> Công ty TNHH SX Hòan Thành Mới, số 8 Lô J1 - Tổng kho Grainco - KCN Sóng Thần, , Dĩ An, Bình Dương
A47: =A46+1 -> 46 | B47: Công ty Liên doanh Sài gon - Target | C47: Khu công nghiệp Đồng an | E47: Thuận An | F47: Bình Dương | G47: Doanh nghiệp liên doanh với nước ngoài | I47: {=INDEX(DVHC!$E$778:$E$11831,MATCH(1,(D47=DVHC!$C$778:$C$11831)*(J47=DVHC!$H$778:$H$11831),0))} -> #N/A | J47: {=INDEX(DVHC!$E$65:$E$777,MATCH(1,(E47=DVHC!$C$65:$C$777)*(K47=DVHC!$H$65:$H$777),0))} -> 1047 | K47: =VLOOKUP(F47, DVHC!$C:$E, 3, 0) -> 23 | L47: =B47&", "&C47&", "&D47&", "&E47&", "&F47 -> Công ty Liên doanh Sài gon - Target, Khu công nghiệp Đồng an, , Thuận An, Bình Dương
A48: =A47+1 -> 47 | B48: Công Ty TNHH Bor Yueh International ( Vn) | C48: 26 đường DT743, KCN Sóng thần 2 | E48: Dĩ An | F48: Bình Dương | G48: Đầu tư nước ngoài | I48: {=INDEX(DVHC!$E$778:$E$11831,MATCH(1,(D48=DVHC!$C$778:$C$11831)*(J48=DVHC!$H$778:$H$11831),0))} -> #N/A | J48: {=INDEX(DVHC!$E$65:$E$777,MATCH(1,(E48=DVHC!$C$65:$C$777)*(K48=DVHC!$H$65:$H$777),0))} -> 1303 | K48: =VLOOKUP(F48, DVHC!$C:$E, 3, 0) -> 23 | L48: =B48&", "&C48&", "&D48&", "&E48&", "&F48 -> Công Ty TNHH Bor Yueh International ( Vn), 26 đường DT743, KCN Sóng thần 2, , Dĩ An, Bình Dương
A49: =A48+1 -> 48 | B49: Công ty TNHH Wang Sheng International Việt nam | C49: Số 18, Lô M, ĐT 743, KCN Sóng Thần 2 | E49: Dĩ An | F49: Bình Dương | G49: Đầu tư nước ngoài | I49: {=INDEX(DVHC!$E$778:$E$11831,MATCH(1,(D49=DVHC!$C$778:$C$11831)*(J49=DVHC!$H$778:$H$11831),0))} -> #N/A | J49: {=INDEX(DVHC!$E$65:$E$777,MATCH(1,(E49=DVHC!$C$65:$C$777)*(K49=DVHC!$H$65:$H$777),0))} -> 1303 | K49: =VLOOKUP(F49, DVHC!$C:$E, 3, 0) -> 23 | L49: =B49&", "&C49&", "&D49&", "&E49&", "&F49 -> Công ty TNHH Wang Sheng International Việt nam, Số 18, Lô M, ĐT 743, KCN Sóng Thần 2, , Dĩ An, Bình Dương
A50: =A49+1 -> 49 | B50: Công ty TNHH Tsaiyarn International Việt nam | C50: 27B đường ĐT 743, KCN Sóng thần 2 | E50: Dĩ An | F50: Bình Dương | G50: Đầu tư nước ngoài | I50: {=INDEX(DVHC!$E$778:$E$11831,MATCH(1,(D50=DVHC!$C$778:$C$11831)*(J50=DVHC!$H$778:$H$11831),0))} -> #N/A | J50: {=INDEX(DVHC!$E$65:$E$777,MATCH(1,(E50=DVHC!$C$65:$C$777)*(K50=DVHC!$H$65:$H$777),0))} -> 1303 | K50: =VLOOKUP(F50, DVHC!$C:$E, 3, 0) -> 23 | L50: =B50&", "&C50&", "&D50&", "&E50&", "&F50 -> Công ty TNHH Tsaiyarn International Việt nam, 27B đường ĐT 743, KCN Sóng thần 2, , Dĩ An, Bình Dương
A51: =A50+1 -> 50 | B51: Công ty TNHH Yaban Chain Industrial Việt nam | C51: Số 19 - Lô J - đường 6 - KCN Sóng thần 2 | E51: Dĩ An | F51: Bình Dương | G51: Đầu tư nước ngoài | I51: {=INDEX(DVHC!$E$778:$E$11831,MATCH(1,(D51=DVHC!$C$778:$C$11831)*(J51=DVHC!$H$778:$H$11831),0))} -> #N/A | J51: {=INDEX(DVHC!$E$65:$E$777,MATCH(1,(E51=DVHC!$C$65:$C$777)*(K51=DVHC!$H$65:$H$777),0))} -> 1303 | K51: =VLOOKUP(F51, DVHC!$C:$E, 3, 0) -> 23 | L51: =B51&", "&C51&", "&D51&", "&E51&", "&F51 -> Công ty TNHH Yaban Chain Industrial Việt nam, Số 19 - Lô J - đường 6 - KCN Sóng thần 2, , Dĩ An, Bình Dương
A52: =A51+1 -> 51 | B52: CTy TNHH Công nghiệp chính xác VIE WOEI | C52: KCN Sóng Thần 2 | E52: Dĩ An | F52: Bình Dương | G52: Đầu tư nước ngoài | I52: {=INDEX(DVHC!$E$778:$E$11831,MATCH(1,(D52=DVHC!$C$778:$C$11831)*(J52=DVHC!$H$778:$H$11831),0))} -> #N/A | J52: {=INDEX(DVHC!$E$65:$E$777,MATCH(1,(E52=DVHC!$C$65:$C$777)*(K52=DVHC!$H$65:$H$777),0))} -> 1303 | K52: =VLOOKUP(F52, DVHC!$C:$E, 3, 0) -> 23 | L52: =B52&", "&C52&", "&D52&", "&E52&", "&F52 -> CTy TNHH Công nghiệp chính xác VIE WOEI, KCN Sóng Thần 2, , Dĩ An, Bình Dương
A53: =A52+1 -> 52 | B53: Công ty TNHH SPEED TECH Việt nam | C53: KCN Sóng thần 2 | E53: Dĩ An | F53: Bình Dương | G53: Đầu tư nước ngoài | I53: {=INDEX(DVHC!$E$778:$E$11831,MATCH(1,(D53=DVHC!$C$778:$C$11831)*(J53=DVHC!$H$778:$H$11831),0))} -> #N/A | J53: {=INDEX(DVHC!$E$65:$E$777,MATCH(1,(E53=DVHC!$C$65:$C$777)*(K53=DVHC!$H$65:$H$777),0))} -> 1303 | K53: =VLOOKUP(F53, DVHC!$C:$E, 3, 0) -> 23 | L53: =B53&", "&C53&", "&D53&", "&E53&", "&F53 -> Công ty TNHH SPEED TECH Việt nam, KCN Sóng thần 2, , Dĩ An, Bình Dương
A54: =A53+1 -> 53 | B54: Công ty TNHH Việt Nam CHUAN LI CAN MANUFACTURING | C54: KCN Sóng Thần II | E54: Dĩ An | F54: Bình Dương | G54: Đầu tư nước ngoài | I54: {=INDEX(DVHC!$E$778:$E$11831,MATCH(1,(D54=DVHC!$C$778:$C$11831)*(J54=DVHC!$H$778:$H$11831),0))} -> #N/A | J54: {=INDEX(DVHC!$E$65:$E$777,MATCH(1,(E54=DVHC!$C$65:$C$777)*(K54=DVHC!$H$65:$H$777),0))} -> 1303 | K54: =VLOOKUP(F54, DVHC!$C:$E, 3, 0) -> 23 | L54: =B54&", "&C54&", "&D54&", "&E54&", "&F54 -> Công ty TNHH Việt Nam CHUAN LI CAN MANUFACTURING, KCN Sóng Thần II, , Dĩ An, Bình Dương
A55: =A54+1 -> 54 | B55: Công Ty TNHH VISION INTERNATIONAL | C55: 19 Đlộ Hữu Nghị - KCN VSIP | E55: Thuận An | F55: Bình Dương | G55: Đầu tư nước ngoài | I55: {=INDEX(DVHC!$E$778:$E$11831,MATCH(1,(D55=DVHC!$C$778:$C$11831)*(J55=DVHC!$H$778:$H$11831),0))} -> #N/A | J55: {=INDEX(DVHC!$E$65:$E$777,MATCH(1,(E55=DVHC!$C$65:$C$777)*(K55=DVHC!$H$65:$H$777),0))} -> 1047 | K55: =VLOOKUP(F55, DVHC!$C:$E, 3, 0) -> 23 | L55: =B55&", "&C55&", "&D55&", "&E55&", "&F55 -> Công Ty TNHH VISION INTERNATIONAL, 19 Đlộ Hữu Nghị - KCN VSIP, , Thuận An, Bình Dương
A56: =A55+1 -> 55 | B56: Công Ty TNHH ALLIANCE GLOBAL SERVICES | C56: lô B, đường 20, KCN Sóng Thần 2 | E56: Thuận An | F56: Bình Dương | G56: Đầu tư nước ngoài | H56: 918204130 | I56: {=INDEX(DVHC!$E$778:$E$11831,MATCH(1,(D56=DVHC!$C$778:$C$11831)*(J56=DVHC!$H$778:$H$11831),0))} -> #N/A | J56: {=INDEX(DVHC!$E$65:$E$777,MATCH(1,(E56=DVHC!$C$65:$C$777)*(K56=DVHC!$H$65:$H$777),0))} -> 1047 | K56: =VLOOKUP(F56, DVHC!$C:$E, 3, 0) -> 23 | L56: =B56&", "&C56&", "&D56&", "&E56&", "&F56 -> Công Ty TNHH ALLIANCE GLOBAL SERVICES, lô B, đường 20, KCN Sóng Thần 2, , Thuận An, Bình Dương
A57: =A56+1 -> 56 | B57: Công Ty TNHH ích SAI | C57: Đường số 2, KCN Sóng Thần II | E57: Dĩ An | F57: Bình Dương | G57: Đầu tư nước ngoài | I57: {=INDEX(DVHC!$E$778:$E$11831,MATCH(1,(D57=DVHC!$C$778:$C$11831)*(J57=DVHC!$H$778:$H$11831),0))} -> #N/A | J57: {=INDEX(DVHC!$E$65:$E$777,MATCH(1,(E57=DVHC!$C$65:$C$777)*(K57=DVHC!$H$65:$H$777),0))} -> 1303 | K57: =VLOOKUP(F57, DVHC!$C:$E, 3, 0) -> 23 | L57: =B57&", "&C57&", "&D57&", "&E57&", "&F57 -> Công Ty TNHH ích SAI, Đường số 2, KCN Sóng Thần II, , Dĩ An, Bình Dương
A58: =A57+1 -> 57 | B58: Công Ty TNHH Thép Chánh Triển (Việt Nam) | C58: Số 8, CN2, đường số 3, KCN Sóng Thần 3 | E58: Tân Uyên | F58: Bình Dương | G58: Đầu tư nước ngoài | I58: {=INDEX(DVHC!$E$778:$E$11831,MATCH(1,(D58=DVHC!$C$778:$C$11831)*(J58=DVHC!$H$778:$H$11831),0))} -> #N/A | J58: {=INDEX(DVHC!$E$65:$E$777,MATCH(1,(E58=DVHC!$C$65:$C$777)*(K58=DVHC!$H$65:$H$777),0))} -> 791 | K58: =VLOOKUP(F58, DVHC!$C:$E, 3, 0) -> 23 | L58: =B58&", "&C58&", "&D58&", "&E58&", "&F58 -> Công Ty TNHH Thép Chánh Triển (Việt Nam), Số 8, CN2, đường số 3, KCN Sóng Thần 3, , Tân Uyên, Bình Dương
A59: =A58+1 -> 58 | B59: Công Ty TNHH HONG TAI ABRASIVE Việt Nam | C59: A1-Lô D, KCN Sóng Thần 1 | E59: Dĩ An | F59: Bình Dương | G59: Đầu tư nước ngoài | I59: {=INDEX(DVHC!$E$778:$E$11831,MATCH(1,(D59=DVHC!$C$778:$C$11831)*(J59=DVHC!$H$778:$H$11831),0))} -> #N/A | J59: {=INDEX(DVHC!$E$65:$E$777,MATCH(1,(E59=DVHC!$C$65:$C$777)*(K59=DVHC!$H$65:$H$777),0))} -> 1303 | K59: =VLOOKUP(F59, DVHC!$C:$E, 3, 0) -> 23 | L59: =B59&", "&C59&", "&D59&", "&E59&", "&F59 -> Công Ty TNHH HONG TAI ABRASIVE Việt Nam, A1-Lô D, KCN Sóng Thần 1, , Dĩ An, Bình Dương
A60: =A59+1 -> 59 | B60: Công Ty TNHH Máy Móc Cơ Khí KUNG JUI | C60: Lô C1-6, C1-7, KCN Đại Đăng | E60: Thủ Dầu Một | F60: Bình Dương | G60: Đầu tư nước ngoài | I60: {=INDEX(DVHC!$E$778:$E$11831,MATCH(1,(D60=DVHC!$C$778:$C$11831)*(J60=DVHC!$H$778:$H$11831),0))} -> #N/A | J60: {=INDEX(DVHC!$E$65:$E$777,MATCH(1,(E60=DVHC!$C$65:$C$777)*(K60=DVHC!$H$65:$H$777),0))} -> 279 | K60: =VLOOKUP(F60, DVHC!$C:$E, 3, 0) -> 23 | L60: =B60&", "&C60&", "&D60&", "&E60&", "&F60 -> Công Ty TNHH Máy Móc Cơ Khí KUNG JUI, Lô C1-6, C1-7, KCN Đại Đăng, , Thủ Dầu Một, Bình Dương
A61: =A60+1 -> 60 | B61: Công ty TNHH KINGWIN MATERIAL TECHNOLOGY | C61: Số 29, đường số 8, KCN VSIP | E61: Thuận An | F61: Bình Dương | G61: Đầu tư nước ngoài | I61: {=INDEX(DVHC!$E$778:$E$11831,MATCH(1,(D61=DVHC!$C$778:$C$11831)*(J61=DVHC!$H$778:$H$11831),0))} -> #N/A | J61: {=INDEX(DVHC!$E$65:$E$777,MATCH(1,(E61=DVHC!$C$65:$C$777)*(K61=DVHC!$H$65:$H$777),0))} -> 1047 | K61: =VLOOKUP(F61, DVHC!$C:$E, 3, 0) -> 23 | L61: =B61&", "&C61&", "&D61&", "&E61&", "&F61 -> Công ty TNHH KINGWIN MATERIAL TECHNOLOGY, Số 29, đường số 8, KCN VSIP, , Thuận An, Bình Dương
A62: =A61+1 -> 61 | B62: CTy TNHH TM-DV ánh Quang | C62: 04/37 Lê Hồng Phong | E62: Thủ Dầu Một | F62: Bình Dương | G62: Trách nhiệm hữu hạn | I62: {=INDEX(DVHC!$E$778:$E$11831,MATCH(1,(D62=DVHC!$C$778:$C$11831)*(J62=DVHC!$H$778:$H$11831),0))} -> #N/A | J62: {=INDEX(DVHC!$E$65:$E$777,MATCH(1,(E62=DVHC!$C$65:$C$777)*(K62=DVHC!$H$65:$H$777),0))} -> 279 | K62: =VLOOKUP(F62, DVHC!$C:$E, 3, 0) -> 23 | L62: =B62&", "&C62&", "&D62&", "&E62&", "&F62 -> CTy TNHH TM-DV ánh Quang, 04/37 Lê Hồng Phong, , Thủ Dầu Một, Bình Dương
A63: =A62+1 -> 62 | B63: Công Ty TNHH INDEX PRECISION INDUSTRIES (Việt Nam) | C63: Số 38 VSIP II, đường số 1 | E63: Bến Cát | F63: Bình Dương | G63: Đầu tư nước ngoài | I63: {=INDEX(DVHC!$E$778:$E$11831,MATCH(1,(D63=DVHC!$C$778:$C$11831)*(J63=DVHC!$H$778:$H$11831),0))} -> #N/A | J63: {=INDEX(DVHC!$E$65:$E$777,MATCH(1,(E63=DVHC!$C$65:$C$777)*(K63=DVHC!$H$65:$H$777),0))} -> 535 | K63: =VLOOKUP(F63, DVHC!$C:$E, 3, 0) -> 23 | L63: =B63&", "&C63&", "&D63&", "&E63&", "&F63 -> Công Ty TNHH INDEX PRECISION INDUSTRIES (Việt Nam), Số 38 VSIP II, đường số 1, , Bến Cát, Bình Dương
A64: =A63+1 -> 63 | B64: Công Ty TNHH COMPART PRECISION (Việt Nam) | C64: 22 VSIP II, đường số 6, KCN Việt Nam - Singapore II | E64: Bến Cát | F64: Bình Dương | G64: Đầu tư nước ngoài | I64: {=INDEX(DVHC!$E$778:$E$11831,MATCH(1,(D64=DVHC!$C$778:$C$11831)*(J64=DVHC!$H$778:$H$11831),0))} -> #N/A | J64: {=INDEX(DVHC!$E$65:$E$777,MATCH(1,(E64=DVHC!$C$65:$C$777)*(K64=DVHC!$H$65:$H$777),0))} -> 535 | K64: =VLOOKUP(F64, DVHC!$C:$E, 3, 0) -> 23 | L64: =B64&", "&C64&", "&D64&", "&E64&", "&F64 -> Công Ty TNHH COMPART PRECISION (Việt Nam), 22 VSIP II, đường số 6, KCN Việt Nam - Singapore II, , Bến Cát, Bình Dương
A65: =A64+1 -> 64 | B65: Công ty TNHH SX Chấn Vũ | C65: Kho số 2 - Lô O - KCN Sóng thần 1 | E65: Dĩ An | F65: Bình Dương | G65: Trách nhiệm hữu hạn | I65: {=INDEX(DVHC!$E$778:$E$11831,MATCH(1,(D65=DVHC!$C$778:$C$11831)*(J65=DVHC!$H$778:$H$11831),0))} -> #N/A | J65: {=INDEX(DVHC!$E$65:$E$777,MATCH(1,(E65=DVHC!$C$65:$C$777)*(K65=DVHC!$H$65:$H$777),0))} -> 1303 | K65: =VLOOKUP(F65, DVHC!$C:$E, 3, 0) -> 23 | L65: =B65&", "&C65&", "&D65&", "&E65&", "&F65 -> Công ty TNHH SX Chấn Vũ, Kho số 2 - Lô O - KCN Sóng thần 1, , Dĩ An, Bình Dương
A66: =A65+1 -> 65 | B66: Công ty TNHH SX TM Tam Phước ( nghỉ ) | C66: Khu Công nghiệp Sóng thần I | E66: Dĩ An | F66: Bình Dương | G66: Trách nhiệm hữu hạn | I66: {=INDEX(DVHC!$E$778:$E$11831,MATCH(1,(D66=DVHC!$C$778:$C$11831)*(J66=DVHC!$H$778:$H$11831),0))} -> #N/A | J66: {=INDEX(DVHC!$E$65:$E$777,MATCH(1,(E66=DVHC!$C$65:$C$777)*(K66=DVHC!$H$65:$H$777),0))} -> 1303 | K66: =VLOOKUP(F66, DVHC!$C:$E, 3, 0) -> 23 | L66: =B66&", "&C66&", "&D66&", "&E66&", "&F66 -> Công ty TNHH SX TM Tam Phước ( nghỉ ), Khu Công nghiệp Sóng thần I, , Dĩ An, Bình Dương
A67: =A66+1 -> 66 | B67: Công Ty TNHH CANPAC Việt Nam | C67: số 9 đường số 15 VSIP II-A, KCN VN Singapore II-A | E67: Tân Uyên | F67: Bình Dương | G67: Đầu tư nước ngoài | H67: 6503801169 | I67: {=INDEX(DVHC!$E$778:$E$11831,MATCH(1,(D67=DVHC!$C$778:$C$11831)*(J67=DVHC!$H$778:$H$11831),0))} -> #N/A | J67: {=INDEX(DVHC!$E$65:$E$777,MATCH(1,(E67=DVHC!$C$65:$C$777)*(K67=DVHC!$H$65:$H$777),0))} -> 791 | K67: =VLOOKUP(F67, DVHC!$C:$E, 3, 0) -> 23 | L67: =B67&", "&C67&", "&D67&", "&E67&", "&F67 -> Công Ty TNHH CANPAC Việt Nam, số 9 đường số 15 VSIP II-A, KCN VN Singapore II-A, , Tân Uyên, Bình Dương
A68: =A67+1 -> 67 | B68: Công Ty TNHH PERFETTI VAN MELLE (Việt Nam) | C68: Lô N, đường 26, KCN Sóng Thần 2 | E68: Dĩ An | F68: Bình Dương | G68: Đầu tư nước ngoài | I68: {=INDEX(DVHC!$E$778:$E$11831,MATCH(1,(D68=DVHC!$C$778:$C$11831)*(J68=DVHC!$H$778:$H$11831),0))} -> #N/A | J68: {=INDEX(DVHC!$E$65:$E$777,MATCH(1,(E68=DVHC!$C$65:$C$777)*(K68=DVHC!$H$65:$H$777),0))} -> 1303 | K68: =VLOOKUP(F68, DVHC!$C:$E, 3, 0) -> 23 | L68: =B68&", "&C68&", "&D68&", "&E68&", "&F68 -> Công Ty TNHH PERFETTI VAN MELLE (Việt Nam), Lô N, đường 26, KCN Sóng Thần 2, , Dĩ An, Bình Dương
A69: =A68+1 -> 68 | B69: Công ty TNHH ESPRINTA (Việt Nam) | C69: Đường số 6, KCN Sóng Thần 2 | E69: Dĩ An | F69: Bình Dương | G69: Đầu tư nước ngoài | I69: {=INDEX(DVHC!$E$778:$E$11831,MATCH(1,(D69=DVHC!$C$778:$C$11831)*(J69=DVHC!$H$778:$H$11831),0))} -> #N/A | J69: {=INDEX(DVHC!$E$65:$E$777,MATCH(1,(E69=DVHC!$C$65:$C$777)*(K69=DVHC!$H$65:$H$777),0))} -> 1303 | K69: =VLOOKUP(F69, DVHC!$C:$E, 3, 0) -> 23 | L69: =B69&", "&C69&", "&D69&", "&E69&", "&F69 -> Công ty TNHH ESPRINTA (Việt Nam), Đường số 6, KCN Sóng Thần 2, , Dĩ An, Bình Dương
A70: =A69+1 -> 69 | B70: Công Ty Cổ Phần Nhật Việt | C70: Số 75, Lô M3, đường số 10, KCN Sóng Thần I | E70: Dĩ An | F70: Bình Dương | G70: Cổ phần | H70: 0650 - 732773 | I70: {=INDEX(DVHC!$E$778:$E$11831,MATCH(1,(D70=DVHC!$C$778:$C$11831)*(J70=DVHC!$H$778:$H$11831),0))} -> #N/A | J70: {=INDEX(DVHC!$E$65:$E$777,MATCH(1,(E70=DVHC!$C$65:$C$777)*(K70=DVHC!$H$65:$H$777),0))} -> 1303 | K70: =VLOOKUP(F70, DVHC!$C:$E, 3, 0) -> 23 | L70: =B70&", "&C70&", "&D70&", "&E70&", "&F70 -> Công Ty Cổ Phần Nhật Việt, Số 75, Lô M3, đường số 10, KCN Sóng Thần I, , Dĩ An, Bình Dương
A71: =A70+1 -> 70 | B71: Công Ty TNHH NEWTEX | C71: Số 26, VSIP II, đường số 5, KCN Việt Nam - Singapore II | E71: Bến Cát | F71: Bình Dương | G71: Đầu tư nước ngoài | H71: 908415733 | I71: {=INDEX(DVHC!$E$778:$E$11831,MATCH(1,(D71=DVHC!$C$778:$C$11831)*(J71=DVHC!$H$778:$H$11831),0))} -> #N/A | J71: {=INDEX(DVHC!$E$65:$E$777,MATCH(1,(E71=DVHC!$C$65:$C$777)*(K71=DVHC!$H$65:$H$777),0))} -> 535 | K71: =VLOOKUP(F71, DVHC!$C:$E, 3, 0) -> 23 | L71: =B71&", "&C71&", "&D71&", "&E71&", "&F71 -> Công Ty TNHH NEWTEX, Số 26, VSIP II, đường số 5, KCN Việt Nam - Singapore II, , Bến Cát, Bình Dương
A72: =A71+1 -> 71 | B72: Công Ty TNHH May Kim Phú | C72: Kho M7, đường số 10, KCN Sóng Thần 1 | E72: Dĩ An | F72: Bình Dương | G72: Trách nhiệm hữu hạn | I72: {=INDEX(DVHC!$E$778:$E$11831,MATCH(1,(D72=DVHC!$C$778:$C$11831)*(J72=DVHC!$H$778:$H$11831),0))} -> #N/A | J72: {=INDEX(DVHC!$E$65:$E$777,MATCH(1,(E72=DVHC!$C$65:$C$777)*(K72=DVHC!$H$65:$H$777),0))} -> 1303 | K72: =VLOOKUP(F72, DVHC!$C:$E, 3, 0) -> 23 | L72: =B72&", "&C72&", "&D72&", "&E72&", "&F72 -> Công Ty TNHH May Kim Phú, Kho M7, đường số 10, KCN Sóng Thần 1, , Dĩ An, Bình Dương
A73: =A72+1 -> 72 | B73: Công Ty TNHH JU YOUNG VINA | C73: Lô 76, đường số 9, Tổng Kho Sacombank, KCN Sóng Thần 1 | E73: Dĩ An | F73: Bình Dương | G73: Đầu tư nước ngoài | H73: 906720011 | I73: {=INDEX(DVHC!$E$778:$E$11831,MATCH(1,(D73=DVHC!$C$778:$C$11831)*(J73=DVHC!$H$778:$H$11831),0))} -> #N/A | J73: {=INDEX(DVHC!$E$65:$E$777,MATCH(1,(E73=DVHC!$C$65:$C$777)*(K73=DVHC!$H$65:$H$777),0))} -> 1303 | K73: =VLOOKUP(F73, DVHC!$C:$E, 3, 0) -> 23 | L73: =B73&", "&C73&", "&D73&", "&E73&", "&F73 -> Công Ty TNHH JU YOUNG VINA, Lô 76, đường số 9, Tổng Kho Sacombank, KCN Sóng Thần 1, , Dĩ An, Bình Dương
A74: =A73+1 -> 73 | B74: DNTN Việt Thái | C74: Trung tâm nuôi dưỡng người già số 4 | E74: Bến Cát | F74: Bình Dương | G74: Doanh nghiệp tư nhân | I74: {=INDEX(DVHC!$E$778:$E$11831,MATCH(1,(D74=DVHC!$C$778:$C$11831)*(J74=DVHC!$H$778:$H$11831),0))} -> #N/A | J74: {=INDEX(DVHC!$E$65:$E$777,MATCH(1,(E74=DVHC!$C$65:$C$777)*(K74=DVHC!$H$65:$H$777),0))} -> 535 | K74: =VLOOKUP(F74, DVHC!$C:$E, 3, 0) -> 23 | L74: =B74&", "&C74&", "&D74&", "&E74&", "&F74 -> DNTN Việt Thái, Trung tâm nuôi dưỡng người già số 4, , Bến Cát, Bình Dương
A75: =A74+1 -> 74 | B75: Công ty TNHH Empore Vina | C75: Lô O - đường 10 - KCN Sóng Thần I | E75: Dĩ An | F75: Bình Dương | G75: Đầu tư nước ngoài | I75: {=INDEX(DVHC!$E$778:$E$11831,MATCH(1,(D75=DVHC!$C$778:$C$11831)*(J75=DVHC!$H$778:$H$11831),0))} -> #N/A | J75: {=INDEX(DVHC!$E$65:$E$777,MATCH(1,(E75=DVHC!$C$65:$C$777)*(K75=DVHC!$H$65:$H$777),0))} -> 1303 | K75: =VLOOKUP(F75, DVHC!$C:$E, 3, 0) -> 23 | L75: =B75&", "&C75&", "&D75&", "&E75&", "&F75 -> Công ty TNHH Empore Vina, Lô O - đường 10 - KCN Sóng Thần I, , Dĩ An, Bình Dương
A76: =A75+1 -> 75 | B76: Công ty TNHH Một Thành Viên Cát Tiên | C76: B361 đường Bùi Quốc Khánh, tổ 8, khu 2 | E76: Thủ Dầu Một | F76: Bình Dương | G76: Trách nhiệm hữu hạn | H76: 907983839 | I76: {=INDEX(DVHC!$E$778:$E$11831,MATCH(1,(D76=DVHC!$C$778:$C$11831)*(J76=DVHC!$H$778:$H$11831),0))} -> #N/A | J76: {=INDEX(DVHC!$E$65:$E$777,MATCH(1,(E76=DVHC!$C$65:$C$777)*(K76=DVHC!$H$65:$H$777),0))} -> 279 | K76: =VLOOKUP(F76, DVHC!$C:$E, 3, 0) -> 23 | L76: =B76&", "&C76&", "&D76&", "&E76&", "&F76 -> Công ty TNHH Một Thành Viên Cát Tiên, B361 đường Bùi Quốc Khánh, tổ 8, khu 2, , Thủ Dầu Một, Bình Dương
A77: =A76+1 -> 76 | B77: Công Ty TNHH Bao Bì Giấy Doanh Thái | C77: Lô MN1, Tổng kho Sacombank, đường số 7, KCN Sóng Thần 1 | E77: Dĩ An | F77: Bình Dương | G77: Đầu tư nước ngoài | I77: {=INDEX(DVHC!$E$778:$E$11831,MATCH(1,(D77=DVHC!$C$778:$C$11831)*(J77=DVHC!$H$778:$H$11831),0))} -> #N/A | J77: {=INDEX(DVHC!$E$65:$E$777,MATCH(1,(E77=DVHC!$C$65:$C$777)*(K77=DVHC!$H$65:$H$777),0))} -> 1303 | K77: =VLOOKUP(F77, DVHC!$C:$E, 3, 0) -> 23 | L77: =B77&", "&C77&", "&D77&", "&E77&", "&F77 -> Công Ty TNHH Bao Bì Giấy Doanh Thái, Lô MN1, Tổng kho Sacombank, đường số 7, KCN Sóng Thần 1, , Dĩ An, Bình Dương
A78: =A77+1 -> 77 | B78: XN tư doanh Ngọc Thắng | C78: 165 Khu công nghiệp Sóng thần 1 | E78: Dĩ An | F78: Bình Dương | G78: Doanh nghiệp tư nhân | I78: {=INDEX(DVHC!$E$778:$E$11831,MATCH(1,(D78=DVHC!$C$778:$C$11831)*(J78=DVHC!$H$778:$H$11831),0))} -> #N/A | J78: {=INDEX(DVHC!$E$65:$E$777,MATCH(1,(E78=DVHC!$C$65:$C$777)*(K78=DVHC!$H$65:$H$777),0))} -> 1303 | K78: =VLOOKUP(F78, DVHC!$C:$E, 3, 0) -> 23 | L78: =B78&", "&C78&", "&D78&", "&E78&", "&F78 -> XN tư doanh Ngọc Thắng, 165 Khu công nghiệp Sóng thần 1, , Dĩ An, Bình Dương
A79: =A78+1 -> 78 | B79: Công ty TNHH Kimberly - Clark Việt nam | C79: KCN Việt nam - Singapore | E79: Thuận An | F79: Bình Dương | G79: Đầu tư nước ngoài | I79: {=INDEX(DVHC!$E$778:$E$11831,MATCH(1,(D79=DVHC!$C$778:$C$11831)*(J79=DVHC!$H$778:$H$11831),0))} -> #N/A | J79: {=INDEX(DVHC!$E$65:$E$777,MATCH(1,(E79=DVHC!$C$65:$C$777)*(K79=DVHC!$H$65:$H$777),0))} -> 1047 | K79: =VLOOKUP(F79, DVHC!$C:$E, 3, 0) -> 23 | L79: =B79&", "&C79&", "&D79&", "&E79&", "&F79 -> Công ty TNHH Kimberly - Clark Việt nam, KCN Việt nam - Singapore, , Thuận An, Bình Dương
A80: =A79+1 -> 79 | B80: Công Ty TNHH Ntpm (Việt Nam) | C80: Số 22 VSIP II-A, đường số 23, KCN VSIP II-A | E80: Tân Uyên | F80: Bình Dương | G80: Đầu tư nước ngoài | I80: {=INDEX(DVHC!$E$778:$E$11831,MATCH(1,(D80=DVHC!$C$778:$C$11831)*(J80=DVHC!$H$778:$H$11831),0))} -> #N/A | J80: {=INDEX(DVHC!$E$65:$E$777,MATCH(1,(E80=DVHC!$C$65:$C$777)*(K80=DVHC!$H$65:$H$777),0))} -> 791 | K80: =VLOOKUP(F80, DVHC!$C:$E, 3, 0) -> 23 | L80: =B80&", "&C80&", "&D80&", "&E80&", "&F80 -> Công Ty TNHH Ntpm (Việt Nam), Số 22 VSIP II-A, đường số 23, KCN VSIP II-A, , Tân Uyên, Bình Dương
A81: =A80+1 -> 80 | B81: Công ty TNHH thiết bị điện Tuấn Phương | C81: Kho M6 Lô Miniva - KCN Sóng thần 1 | E81: Dĩ An | F81: Bình Dương | G81: Trách nhiệm hữu hạn | I81: {=INDEX(DVHC!$E$778:$E$11831,MATCH(1,(D81=DVHC!$C$778:$C$11831)*(J81=DVHC!$H$778:$H$11831),0))} -> #N/A | J81: {=INDEX(DVHC!$E$65:$E$777,MATCH(1,(E81=DVHC!$C$65:$C$777)*(K81=DVHC!$H$65:$H$777),0))} -> 1303 | K81: =VLOOKUP(F81, DVHC!$C:$E, 3, 0) -> 23 | L81: =B81&", "&C81&", "&D81&", "&E81&", "&F81 -> Công ty TNHH thiết bị điện Tuấn Phương, Kho M6 Lô Miniva - KCN Sóng thần 1, , Dĩ An, Bình Dương
A82: =A81+1 -> 81 | B82: Công ty TNHH Một Thành Viên Cửa Minh Quang | C82: Ô 3A, lô NP 19, KP4, KDC Mỹ Phước 2 | D82: Lái Thiêu | E82: Bến Cát | F82: Bình Dương | G82: Trách nhiệm hữu hạn | I82: {=INDEX(DVHC!$E$778:$E$11831,MATCH(1,(D82=DVHC!$C$778:$C$11831)*(J82=DVHC!$H$778:$H$11831),0))} -> #N/A | J82: {=INDEX(DVHC!$E$65:$E$777,MATCH(1,(E82=DVHC!$C$65:$C$777)*(K82=DVHC!$H$65:$H$777),0))} -> 535 | K82: =VLOOKUP(F82, DVHC!$C:$E, 3, 0) -> 23 | L82: =B82&", "&C82&", "&D82&", "&E82&", "&F82 -> Công ty TNHH Một Thành Viên Cửa Minh Quang, Ô 3A, lô NP 19, KP4, KDC Mỹ Phước 2, Lái Thiêu, Bến Cát, Bình Dương
A83: =A82+1 -> 82 | B83: Công ty TNHH JAKOB SAIGON | C83: 37 Đại Lộ Hữu Nghị, KCN VSIP | E83: Thuận An | F83: Bình Dương | G83: Đầu tư nước ngoài | I83: {=INDEX(DVHC!$E$778:$E$11831,MATCH(1,(D83=DVHC!$C$778:$C$11831)*(J83=DVHC!$H$778:$H$11831),0))} -> #N/A | J83: {=INDEX(DVHC!$E$65:$E$777,MATCH(1,(E83=DVHC!$C$65:$C$777)*(K83=DVHC!$H$65:$H$777),0))} -> 1047 | K83: =VLOOKUP(F83, DVHC!$C:$E, 3, 0) -> 23 | L83: =B83&", "&C83&", "&D83&", "&E83&", "&F83 -> Công ty TNHH JAKOB SAIGON, 37 Đại Lộ Hữu Nghị, KCN VSIP, , Thuận An, Bình Dương
A84: =A83+1 -> 83 | B84: Công Ty TNHH Sản Xuất VALI EXO | C84: Lô CN17 đường D1, KCN Sóng Thần 3 | E84: Thủ Dầu Một | F84: Bình Dương | G84: Đầu tư nước ngoài | I84: {=INDEX(DVHC!$E$778:$E$11831,MATCH(1,(D84=DVHC!$C$778:$C$11831)*(J84=DVHC!$H$778:$H$11831),0))} -> #N/A | J84: {=INDEX(DVHC!$E$65:$E$777,MATCH(1,(E84=DVHC!$C$65:$C$777)*(K84=DVHC!$H$65:$H$777),0))} -> 279 | K84: =VLOOKUP(F84, DVHC!$C:$E, 3, 0) -> 23 | L84: =B84&", "&C84&", "&D84&", "&E84&", "&F84 -> Công Ty TNHH Sản Xuất VALI EXO, Lô CN17 đường D1, KCN Sóng Thần 3, , Thủ Dầu Một, Bình Dương
A85: =A84+1 -> 84 | B85: Công ty TNHH NIPPON HOIST Việt Nam | C85: Lô E, đường số 8, KCN Sóng Thần 1 | E85: Dĩ An | F85: Bình Dương | G85: Đầu tư nước ngoài | I85: {=INDEX(DVHC!$E$778:$E$11831,MATCH(1,(D85=DVHC!$C$778:$C$11831)*(J85=DVHC!$H$778:$H$11831),0))} -> #N/A | J85: {=INDEX(DVHC!$E$65:$E$777,MATCH(1,(E85=DVHC!$C$65:$C$777)*(K85=DVHC!$H$65:$H$777),0))} -> 1303 | K85: =VLOOKUP(F85, DVHC!$C:$E, 3, 0) -> 23 | L85: =B85&", "&C85&", "&D85&", "&E85&", "&F85 -> Công ty TNHH NIPPON HOIST Việt Nam, Lô E, đường số 8, KCN Sóng Thần 1, , Dĩ An, Bình Dương
A86: =A85+1 -> 85 | B86: Công Ty TNHH ELTETE (Việt Nam) | C86: Số 7 Đại Lộ Độc Lập, Khu Công Nghiệp Sóng Thần 1 | E86: Dĩ An | F86: Bình Dương | G86: Đầu tư nước ngoài | I86: {=INDEX(DVHC!$E$778:$E$11831,MATCH(1,(D86=DVHC!$C$778:$C$11831)*(J86=DVHC!$H$778:$H$11831),0))} -> #N/A | J86: {=INDEX(DVHC!$E$65:$E$777,MATCH(1,(E86=DVHC!$C$65:$C$777)*(K86=DVHC!$H$65:$H$777),0))} -> 1303 | K86: =VLOOKUP(F86, DVHC!$C:$E, 3, 0) -> 23 | L86: =B86&", "&C86&", "&D86&", "&E86&", "&F86 -> Công Ty TNHH ELTETE (Việt Nam), Số 7 Đại Lộ Độc Lập, Khu Công Nghiệp Sóng Thần 1, , Dĩ An, Bình Dương
A87: =A86+1 -> 86 | B87: Công ty TNHH OMA INDUSTRIAL | C87: Số 9 Đường N3, KCN Sóng Thần 3 | E87: Thủ Dầu Một | F87: Bình Dương | G87: Đầu tư nước ngoài | H87: 06503860158 LÀNH | I87: {=INDEX(DVHC!$E$778:$E$11831,MATCH(1,(D87=DVHC!$C$778:$C$11831)*(J87=DVHC!$H$778:$H$11831),0))} -> #N/A | J87: {=INDEX(DVHC!$E$65:$E$777,MATCH(1,(E87=DVHC!$C$65:$C$777)*(K87=DVHC!$H$65:$H$777),0))} -> 279 | K87: =VLOOKUP(F87, DVHC!$C:$E, 3, 0) -> 23 | L87: =B87&", "&C87&", "&D87&", "&E87&", "&F87 -> Công ty TNHH OMA INDUSTRIAL, Số 9 Đường N3, KCN Sóng Thần 3, , Thủ Dầu Một, Bình Dương
A88: =A87+1 -> 87 | B88: Công Ty TNHH DECOVIL 2 | C88: Lô MN Đường số 10, KCN Sóng Thần I | E88: Dĩ An | F88: Bình Dương | G88: Đầu tư nước ngoài | I88: {=INDEX(DVHC!$E$778:$E$11831,MATCH(1,(D88=DVHC!$C$778:$C$11831)*(J88=DVHC!$H$778:$H$11831),0))} -> #N/A | J88: {=INDEX(DVHC!$E$65:$E$777,MATCH(1,(E88=DVHC!$C$65:$C$777)*(K88=DVHC!$H$65:$H$777),0))} -> 1303 | K88: =VLOOKUP(F88, DVHC!$C:$E, 3, 0) -> 23 | L88: =B88&", "&C88&", "&D88&", "&E88&", "&F88 -> Công Ty TNHH DECOVIL 2, Lô MN Đường số 10, KCN Sóng Thần I, , Dĩ An, Bình Dương
A89: =A88+1 -> 88 | B89: Công Ty TNHH TMDV Kỹ Thuật I.Y.P | C89: Phòng 01-04, khu dịch vụ, số 2, đường số 3, VSIP | D89: số Vsip | E89: Thuận An | F89: Bình Dương | G89: Trách nhiệm hữu hạn | H89: 913903233 | I89: {=INDEX(DVHC!$E$778:$E$11831,MATCH(1,(D89=DVHC!$C$778:$C$11831)*(J89=DVHC!$H$778:$H$11831),0))} -> #N/A | J89: {=INDEX(DVHC!$E$65:$E$777,MATCH(1,(E89=DVHC!$C$65:$C$777)*(K89=DVHC!$H$65:$H$777),0))} -> 1047 | K89: =VLOOKUP(F89, DVHC!$C:$E, 3, 0) -> 23 | L89: =B89&", "&C89&", "&D89&", "&E89&", "&F89 -> Công Ty TNHH TMDV Kỹ Thuật I.Y.P, Phòng 01-04, khu dịch vụ, số 2, đường số 3, VSIP, số Vsip, Thuận An, Bình Dương
A90: =A89+1 -> 89 | B90: Công Ty TNHH AVERY DENNISON RIS Việt Nam | C90: 38 Đại Lập Độc Lập, KCN VSIP | E90: Thuận An | F90: Bình Dương | G90: Đầu tư nước ngoài | I90: {=INDEX(DVHC!$E$778:$E$11831,MATCH(1,(#REF!=DVHC!$C$778:$C$11831)*(J90=DVHC!$H$778:$H$11831),0))} -> #N/A | J90: {=INDEX(DVHC!$E$65:$E$777,MATCH(1,(#REF!=DVHC!$C$65:$C$777)*(K90=DVHC!$H$65:$H$777),0))} -> #N/A | K90: =VLOOKUP(#REF!, DVHC!$C:$E, 3, 0) -> #REF! | L90: =#REF!&", "&#REF!&", "&#REF!&", "&#REF!&", "&#REF! -> #REF!
A91: =A90+1 -> 90 | B91: Công ty TNHH Ngọc Trang | C91: Hòa Lân 2 | D91: Thuận Giao | E91: Thuận An | F91: Bình Dương | G91: Đầu tư nước ngoài | I91: {=INDEX(DVHC!$E$778:$E$11831,MATCH(1,(#REF!=DVHC!$C$778:$C$11831)*(J91=DVHC!$H$778:$H$11831),0))} -> #N/A | J91: {=INDEX(DVHC!$E$65:$E$777,MATCH(1,(#REF!=DVHC!$C$65:$C$777)*(K91=DVHC!$H$65:$H$777),0))} -> #N/A | K91: =VLOOKUP(#REF!, DVHC!$C:$E, 3, 0) -> #REF! | L91: =#REF!&", "&#REF!&", "&#REF!&", "&#REF!&", "&#REF! -> #REF!
A92: =A91+1 -> 91 | B92: Công Ty TNHH LI SHIN | C92: A6 CN, KCN Mỹ Phước | D92: Mỹ Phước | E92: Bến Cát | F92: Bình Dương | G92: Đầu tư nước ngoài | I92: {=INDEX(DVHC!$E$778:$E$11831,MATCH(1,(#REF!=DVHC!$C$778:$C$11831)*(J92=DVHC!$H$778:$H$11831),0))} -> #N/A | J92: {=INDEX(DVHC!$E$65:$E$777,MATCH(1,(#REF!=DVHC!$C$65:$C$777)*(K92=DVHC!$H$65:$H$777),0))} -> #N/A | K92: =VLOOKUP(#REF!, DVHC!$C:$E, 3, 0) -> #REF! | L92: =#REF!&", "&#REF!&", "&#REF!&", "&#REF!&", "&#REF! -> #REF!
A93: =A92+1 -> 92 | B93: Công Ty TNHH SUNG JIN CORPORATION | C93: KCN Bình Đường | E93: Dĩ An | F93: Bình Dương | G93: Đầu tư nước ngoài | I93: {=INDEX(DVHC!$E$778:$E$11831,MATCH(1,(#REF!=DVHC!$C$778:$C$11831)*(J93=DVHC!$H$778:$H$11831),0))} -> #N/A | J93: {=INDEX(DVHC!$E$65:$E$777,MATCH(1,(#REF!=DVHC!$C$65:$C$777)*(K93=DVHC!$H$65:$H$777),0))} -> #N/A | K93: =VLOOKUP(#REF!, DVHC!$C:$E, 3, 0) -> #REF! | L93: =#REF!&", "&#REF!&", "&#REF!&", "&#REF!&", "&#REF! -> #REF!
A94: =A93+1 -> 93 | B94: Công ty TNHH BEAUTEC VINA | C94: KCN Sóng Thần 2 | E94: Dĩ An | F94: Bình Dương | G94: Đầu tư nước ngoài | I94: {=INDEX(DVHC!$E$778:$E$11831,MATCH(1,(D94=DVHC!$C$778:$C$11831)*(J94=DVHC!$H$778:$H$11831),0))} -> #N/A | J94: {=INDEX(DVHC!$E$65:$E$777,MATCH(1,(E94=DVHC!$C$65:$C$777)*(K94=DVHC!$H$65:$H$777),0))} -> 1303 | K94: =VLOOKUP(F94, DVHC!$C:$E, 3, 0) -> 23 | L94: =B94&", "&C94&", "&D94&", "&E94&", "&F94 -> Công ty TNHH BEAUTEC VINA, KCN Sóng Thần 2, , Dĩ An, Bình Dương
A95: =A94+1 -> 94 | B95: DNTN Cơ Khí Chính Xác Thanh Châu | C95: Lô 42-43-44 Đường số 7, tổng kho Sacombank, KCN ST 1 | E95: Dĩ An | F95: Bình Dương | G95: Doanh nghiệp tư nhân | I95: {=INDEX(DVHC!$E$778:$E$11831,MATCH(1,(D95=DVHC!$C$778:$C$11831)*(J95=DVHC!$H$778:$H$11831),0))} -> #N/A | J95: {=INDEX(DVHC!$E$65:$E$777,MATCH(1,(E95=DVHC!$C$65:$C$777)*(K95=DVHC!$H$65:$H$777),0))} -> 1303 | K95: =VLOOKUP(F95, DVHC!$C:$E, 3, 0) -> 23 | L95: =B95&", "&C95&", "&D95&", "&E95&", "&F95 -> DNTN Cơ Khí Chính Xác Thanh Châu, Lô 42-43-44 Đường số 7, tổng kho Sacombank, KCN ST 1, , Dĩ An, Bình Dương
A96: =A95+1 -> 95 | B96: Công ty TNHH MTV Minh Nguyên | C96: Số 15, Lô DC38, Làng chuyên gia The Oasis II, KĐC Việt Sing | E96: Thuận An | F96: Bình Dương | G96: Trách nhiệm hữu hạn | I96: {=INDEX(DVHC!$E$778:$E$11831,MATCH(1,(D96=DVHC!$C$778:$C$11831)*(J96=DVHC!$H$778:$H$11831),0))} -> #N/A | J96: {=INDEX(DVHC!$E$65:$E$777,MATCH(1,(E96=DVHC!$C$65:$C$777)*(K96=DVHC!$H$65:$H$777),0))} -> 1047 | K96: =VLOOKUP(F96, DVHC!$C:$E, 3, 0) -> 23 | L96: =B96&", "&C96&", "&D96&", "&E96&", "&F96 -> Công ty TNHH MTV Minh Nguyên, Số 15, Lô DC38, Làng chuyên gia The Oasis II, KĐC Việt Sing, , Thuận An, Bình Dương
A97: =A96+1 -> 96 | B97: Công Ty TNHH URC Việt Nam | C97: Số 42 VSIP, Đại lộ Tự Do, KCN VietNam-Singapore | E97: Thuận An | F97: Bình Dương | G97: Đầu tư nước ngoài | I97: {=INDEX(DVHC!$E$778:$E$11831,MATCH(1,(D97=DVHC!$C$778:$C$11831)*(J97=DVHC!$H$778:$H$11831),0))} -> #N/A | J97: {=INDEX(DVHC!$E$65:$E$777,MATCH(1,(E97=DVHC!$C$65:$C$777)*(K97=DVHC!$H$65:$H$777),0))} -> 1047 | K97: =VLOOKUP(F97, DVHC!$C:$E, 3, 0) -> 23 | L97: =B97&", "&C97&", "&D97&", "&E97&", "&F97 -> Công Ty TNHH URC Việt Nam, Số 42 VSIP, Đại lộ Tự Do, KCN VietNam-Singapore, , Thuận An, Bình Dương
A98: =A97+1 -> 97 | B98: Công Ty TNHH GRAND - PLACE Việt Nam | C98: Khu công nghiệp VN - SINGAPORE | E98: Thuận An | F98: Bình Dương | G98: Đầu tư nước ngoài | I98: {=INDEX(DVHC!$E$778:$E$11831,MATCH(1,(D98=DVHC!$C$778:$C$11831)*(J98=DVHC!$H$778:$H$11831),0))} -> #N/A | J98: {=INDEX(DVHC!$E$65:$E$777,MATCH(1,(E98=DVHC!$C$65:$C$777)*(K98=DVHC!$H$65:$H$777),0))} -> 1047 | K98: =VLOOKUP(F98, DVHC!$C:$E, 3, 0) -> 23 | L98: =B98&", "&C98&", "&D98&", "&E98&", "&F98 -> Công Ty TNHH GRAND - PLACE Việt Nam, Khu công nghiệp VN - SINGAPORE, , Thuận An, Bình Dương
A99: =A98+1 -> 98 | B99: Công Ty TNHH I & I | C99: KCN Việt Nam - Singapore | E99: Thuận An | F99: Bình Dương | G99: Đầu tư nước ngoài | I99: {=INDEX(DVHC!$E$778:$E$11831,MATCH(1,(D99=DVHC!$C$778:$C$11831)*(J99=DVHC!$H$778:$H$11831),0))} -> #N/A | J99: {=INDEX(DVHC!$E$65:$E$777,MATCH(1,(E99=DVHC!$C$65:$C$777)*(K99=DVHC!$H$65:$H$777),0))} -> 1047 | K99: =VLOOKUP(F99, DVHC!$C:$E, 3, 0) -> 23 | L99: =B99&", "&C99&", "&D99&", "&E99&", "&F99 -> Công Ty TNHH I & I, KCN Việt Nam - Singapore, , Thuận An, Bình Dương
A100: =A99+1 -> 99 | B100: Công ty TNHH Bia ANHEUSER- BUSCH INBEV Việt Nam | C100: số 2 VSIP II-A đường số 28, KCN VSIP II-A | E100: Tân Uyên | F100: Bình Dương | G100: Đầu tư nước ngoài | I100: {=INDEX(DVHC!$E$778:$E$11831,MATCH(1,(D100=DVHC!$C$778:$C$11831)*(J100=DVHC!$H$778:$H$11831),0))} -> #N/A | J100: {=INDEX(DVHC!$E$65:$E$777,MATCH(1,(E100=DVHC!$C$65:$C$777)*(K100=DVHC!$H$65:$H$777),0))} -> 791 | K100: =VLOOKUP(F100, DVHC!$C:$E, 3, 0) -> 23 | L100: =B100&", "&C100&", "&D100&", "&E100&", "&F100 -> Công ty TNHH Bia ANHEUSER- BUSCH INBEV Việt Nam, số 2 VSIP II-A đường số 28, KCN VSIP II-A, , Tân Uyên, Bình Dương
...

Sheet Hưng Yên- Lỗi
A1: STT | B1: Tên doanh nghiệp | C1: Số nhà | D1: Phường/Xã | E1: Quận/Huyện | F1: Tỉnh/ | G1: Loại hình | H1: Liên hệ | I1: ID | J1: ID QH | K1: ID TP | L1: ĐIạ chỉ lấy lat-long
A2: 555 | B2: Công Ty Tnhh Sản Xuất Và Dịch Vụ Thương Mại Thành Đạt | C2: Đông Trại | E2: Văn Lâm | F2: Hưng Yên | G2: DN | H2: 988844950 | I2: {=INDEX(DVHC!$E$778:$E$11831,MATCH(1,(D2=DVHC!$C$778:$C$11831)*(J2=DVHC!$H$778:$H$11831),0))} -> #N/A | J2: {=INDEX(DVHC!$E$65:$E$777,MATCH(1,(E2=DVHC!$C$65:$C$777)*(K2=DVHC!$H$65:$H$777),0))} -> 2345 | K2: =VLOOKUP(F2, DVHC!$C:$E, 3, 0) -> 41 | L2: =B2&", "&C2&", "&D2&", "&E2&", "&F2 -> Công Ty Tnhh Sản Xuất Và Dịch Vụ Thương Mại Thành Đạt, Đông Trại, , Văn Lâm, Hưng Yên
A3: 558 | B3: Công Ty Tnhh Công Nghệ Kin Tec Việt Nam | C3: Đường B3 Khu B, Kcn Phố Nối A | E3: Văn Lâm | F3: Hưng Yên | G3: DN | I3: {=INDEX(DVHC!$E$778:$E$11831,MATCH(1,(D3=DVHC!$C$778:$C$11831)*(J3=DVHC!$H$778:$H$11831),0))} -> #N/A | J3: {=INDEX(DVHC!$E$65:$E$777,MATCH(1,(E3=DVHC!$C$65:$C$777)*(K3=DVHC!$H$65:$H$777),0))} -> 2345 | K3: =VLOOKUP(F3, DVHC!$C:$E, 3, 0) -> 41 | L3: =B3&", "&C3&", "&D3&", "&E3&", "&F3 -> Công Ty Tnhh Công Nghệ Kin Tec Việt Nam, Đường B3 Khu B, Kcn Phố Nối A, , Văn Lâm, Hưng Yên
A4: 598 | B4: Công Ty Tnhh Tân An | C4: Cát Lư | E4: Văn Lâm | F4: Hưng Yên | G4: DN | H4: 904273339 | I4: {=INDEX(DVHC!$E$778:$E$11831,MATCH(1,(D4=DVHC!$C$778:$C$11831)*(J4=DVHC!$H$778:$H$11831),0))} -> #N/A | J4: {=INDEX(DVHC!$E$65:$E$777,MATCH(1,(E4=DVHC!$C$65:$C$777)*(K4=DVHC!$H$65:$H$777),0))} -> 2345 | K4: =VLOOKUP(F4, DVHC!$C:$E, 3, 0) -> 41 | L4: =B4&", "&C4&", "&D4&", "&E4&", "&F4 -> Công Ty Tnhh Tân An, Cát Lư, , Văn Lâm, Hưng Yên
A5: 603 | B5: Công Ty Cổ Phần Thép Nam Phong | C5: Thôn Thị Trung | E5: Văn Lâm | F5: Hưng Yên | G5: DN | I5: {=INDEX(DVHC!$E$778:$E$11831,MATCH(1,(D5=DVHC!$C$778:$C$11831)*(J5=DVHC!$H$778:$H$11831),0))} -> #N/A | J5: {=INDEX(DVHC!$E$65:$E$777,MATCH(1,(E5=DVHC!$C$65:$C$777)*(K5=DVHC!$H$65:$H$777),0))} -> 2345 | K5: =VLOOKUP(F5, DVHC!$C:$E, 3, 0) -> 41 | L5: =B5&", "&C5&", "&D5&", "&E5&", "&F5 -> Công Ty Cổ Phần Thép Nam Phong, Thôn Thị Trung, , Văn Lâm, Hưng Yên
A6: 604 | B6: Hợp Tác D~ch Vụ Tổng Hợp Việt Hưng | C6: Thanh Miou | E6: Văn Lâm | F6: Hưng Yên | G6: DN | H6: 969039589 | I6: {=INDEX(DVHC!$E$778:$E$11831,MATCH(1,(D6=DVHC!$C$778:$C$11831)*(J6=DVHC!$H$778:$H$11831),0))} -> #N/A | J6: {=INDEX(DVHC!$E$65:$E$777,MATCH(1,(E6=DVHC!$C$65:$C$777)*(K6=DVHC!$H$65:$H$777),0))} -> 2345 | K6: =VLOOKUP(F6, DVHC!$C:$E, 3, 0) -> 41 | L6: =B6&", "&C6&", "&D6&", "&E6&", "&F6 -> Hợp Tác D~ch Vụ Tổng Hợp Việt Hưng, Thanh Miou, , Văn Lâm, Hưng Yên
A7: 606 | B7: Doanh Nghiệp Tư Nhân Huyên Hùng | C7: Khuyến Thiện | E7: Văn Lâm | F7: Hưng Yên | G7: DN | H7: 974712403 | I7: {=INDEX(DVHC!$E$778:$E$11831,MATCH(1,(D7=DVHC!$C$778:$C$11831)*(J7=DVHC!$H$778:$H$11831),0))} -> #N/A | J7: {=INDEX(DVHC!$E$65:$E$777,MATCH(1,(E7=DVHC!$C$65:$C$777)*(K7=DVHC!$H$65:$H$777),0))} -> 2345 | K7: =VLOOKUP(F7, DVHC!$C:$E, 3, 0) -> 41 | L7: =B7&", "&C7&", "&D7&", "&E7&", "&F7 -> Doanh Nghiệp Tư Nhân Huyên Hùng, Khuyến Thiện, , Văn Lâm, Hưng Yên
A8: 638 | B8: Công Ty CP Gỗ Ván Ép Hoài Nam | C8: Đường B5, Khu B, KCN Phố Nối A | E8: Văn Lâm | F8: Hưng Yên | G8: DN | H8: 988817941 | I8: {=INDEX(DVHC!$E$778:$E$11831,MATCH(1,(D8=DVHC!$C$778:$C$11831)*(J8=DVHC!$H$778:$H$11831),0))} -> #N/A | J8: {=INDEX(DVHC!$E$65:$E$777,MATCH(1,(E8=DVHC!$C$65:$C$777)*(K8=DVHC!$H$65:$H$777),0))} -> 2345 | K8: =VLOOKUP(F8, DVHC!$C:$E, 3, 0) -> 41 | L8: =B8&", "&C8&", "&D8&", "&E8&", "&F8 -> Công Ty CP Gỗ Ván Ép Hoài Nam, Đường B5, Khu B, KCN Phố Nối A, , Văn Lâm, Hưng Yên
A9: 642 | B9: Công Ty Cổ Phần Xây Dựng Và Thương Mại Đông Á | C9: Phố Dầu | E9: Văn Lâm | F9: Hưng Yên | G9: DN | H9: 902198388 | I9: {=INDEX(DVHC!$E$778:$E$11831,MATCH(1,(D9=DVHC!$C$778:$C$11831)*(J9=DVHC!$H$778:$H$11831),0))} -> #N/A | J9: {=INDEX(DVHC!$E$65:$E$777,MATCH(1,(E9=DVHC!$C$65:$C$777)*(K9=DVHC!$H$65:$H$777),0))} -> 2345 | K9: =VLOOKUP(F9, DVHC!$C:$E, 3, 0) -> 41 | L9: =B9&", "&C9&", "&D9&", "&E9&", "&F9 -> Công Ty Cổ Phần Xây Dựng Và Thương Mại Đông Á, Phố Dầu, , Văn Lâm, Hưng Yên
A10: 647 | B10: Công Ty Cổ Phần Thương Mại Minh Châu | C10: Đường 206 | E10: Văn Lâm | F10: Hưng Yên | G10: DN | H10: 986626919 | I10: {=INDEX(DVHC!$E$778:$E$11831,MATCH(1,(D10=DVHC!$C$778:$C$11831)*(J10=DVHC!$H$778:$H$11831),0))} -> #N/A | J10: {=INDEX(DVHC!$E$65:$E$777,MATCH(1,(E10=DVHC!$C$65:$C$777)*(K10=DVHC!$H$65:$H$777),0))} -> 2345 | K10: =VLOOKUP(F10, DVHC!$C:$E, 3, 0) -> 41 | L10: =B10&", "&C10&", "&D10&", "&E10&", "&F10 -> Công Ty Cổ Phần Thương Mại Minh Châu, Đường 206, , Văn Lâm, Hưng Yên
A11: 653 | B11: CÔNG TY TNHH CƠ KHÍ P<P | C11: Đường E3,KCN Phố nối A | E11: Văn Lâm | F11: Hưng Yên | G11: DN | H11: 2213781188 | I11: {=INDEX(DVHC!$E$778:$E$11831,MATCH(1,(D11=DVHC!$C$778:$C$11831)*(J11=DVHC!$H$778:$H$11831),0))} -> #N/A | J11: {=INDEX(DVHC!$E$65:$E$777,MATCH(1,(E11=DVHC!$C$65:$C$777)*(K11=DVHC!$H$65:$H$777),0))} -> 2345 | K11: =VLOOKUP(F11, DVHC!$C:$E, 3, 0) -> 41 | L11: =B11&", "&C11&", "&D11&", "&E11&", "&F11 -> CÔNG TY TNHH CƠ KHÍ P<P, Đường E3,KCN Phố nối A, , Văn Lâm, Hưng Yên
A12: 654 | B12: Công Ty Trách Nhiệm Hữu Hạn Hạnh Đức Anh | C12: Thọ Khang | E12: Văn Lâm | F12: Hưng Yên | G12: DN | H12: 947722014 | I12: {=INDEX(DVHC!$E$778:$E$11831,MATCH(1,(D12=DVHC!$C$778:$C$11831)*(J12=DVHC!$H$778:$H$11831),0))} -> #N/A | J12: {=INDEX(DVHC!$E$65:$E$777,MATCH(1,(E12=DVHC!$C$65:$C$777)*(K12=DVHC!$H$65:$H$777),0))} -> 2345 | K12: =VLOOKUP(F12, DVHC!$C:$E, 3, 0) -> 41 | L12: =B12&", "&C12&", "&D12&", "&E12&", "&F12 -> Công Ty Trách Nhiệm Hữu Hạn Hạnh Đức Anh, Thọ Khang, , Văn Lâm, Hưng Yên
A13: 656 | B13: Công Ty Tnhh Dịch Vụ Kỹ Thuật Và Bảo Hành Thiết Bị Avc | C13: Đường 206 | E13: Văn Lâm | F13: Hưng Yên | G13: DN | H13: 974584439 | I13: {=INDEX(DVHC!$E$778:$E$11831,MATCH(1,(D13=DVHC!$C$778:$C$11831)*(J13=DVHC!$H$778:$H$11831),0))} -> #N/A | J13: {=INDEX(DVHC!$E$65:$E$777,MATCH(1,(E13=DVHC!$C$65:$C$777)*(K13=DVHC!$H$65:$H$777),0))} -> 2345 | K13: =VLOOKUP(F13, DVHC!$C:$E, 3, 0) -> 41 | L13: =B13&", "&C13&", "&D13&", "&E13&", "&F13 -> Công Ty Tnhh Dịch Vụ Kỹ Thuật Và Bảo Hành Thiết Bị Avc, Đường 206, , Văn Lâm, Hưng Yên
A14: 658 | B14: Công Ty Cổ Phần Thương Mại Và Dịch Vụ Sao Phương Đông Hưng Yên | C14: Khu Cn phố nối A | E14: Văn Lâm | F14: Hưng Yên | G14: DN | H14: 983127564 | I14: {=INDEX(DVHC!$E$778:$E$11831,MATCH(1,(D14=DVHC!$C$778:$C$11831)*(J14=DVHC!$H$778:$H$11831),0))} -> #N/A | J14: {=INDEX(DVHC!$E$65:$E$777,MATCH(1,(E14=DVHC!$C$65:$C$777)*(K14=DVHC!$H$65:$H$777),0))} -> 2345 | K14: =VLOOKUP(F14, DVHC!$C:$E, 3, 0) -> 41 | L14: =B14&", "&C14&", "&D14&", "&E14&", "&F14 -> Công Ty Cổ Phần Thương Mại Và Dịch Vụ Sao Phương Đông Hưng Yên, Khu Cn phố nối A, , Văn Lâm, Hưng Yên
A15: 665 | B15: CÔNG TY TNHH SẢN XUẤT- THƯƠNG MẠI CPT VIỆT NAM | C15: Đường B4- Khu B- KCN Phố Nối A | E15: Văn Lâm | F15: Hưng Yên | G15: DN | H15: 2213587270 | I15: {=INDEX(DVHC!$E$778:$E$11831,MATCH(1,(D15=DVHC!$C$778:$C$11831)*(J15=DVHC!$H$778:$H$11831),0))} -> #N/A | J15: {=INDEX(DVHC!$E$65:$E$777,MATCH(1,(E15=DVHC!$C$65:$C$777)*(K15=DVHC!$H$65:$H$777),0))} -> 2345 | K15: =VLOOKUP(F15, DVHC!$C:$E, 3, 0) -> 41 | L15: =B15&", "&C15&", "&D15&", "&E15&", "&F15 -> CÔNG TY TNHH SẢN XUẤT- THƯƠNG MẠI CPT VIỆT NAM, Đường B4- Khu B- KCN Phố Nối A, , Văn Lâm, Hưng Yên
A16: 669 | B16: Công ty cổ phần thực phẩm Otran | C16: Đường D3, Khu D, KCN Phố Nối A | E16: Văn Lâm | F16: Hưng Yên | G16: DN | I16: {=INDEX(DVHC!$E$778:$E$11831,MATCH(1,(D16=DVHC!$C$778:$C$11831)*(J16=DVHC!$H$778:$H$11831),0))} -> #N/A | J16: {=INDEX(DVHC!$E$65:$E$777,MATCH(1,(E16=DVHC!$C$65:$C$777)*(K16=DVHC!$H$65:$H$777),0))} -> 2345 | K16: =VLOOKUP(F16, DVHC!$C:$E, 3, 0) -> 41 | L16: =B16&", "&C16&", "&D16&", "&E16&", "&F16 -> Công ty cổ phần thực phẩm Otran, Đường D3, Khu D, KCN Phố Nối A, , Văn Lâm, Hưng Yên
A17: 677 | B17: Công Ty Tnhh Một Thành Viên Inox Hưng Thịnh | C17: Đường A2 Kcn Phố Nối A | E17: Văn Lâm | F17: Hưng Yên | G17: DN | H17: 2436500990 | I17: {=INDEX(DVHC!$E$778:$E$11831,MATCH(1,(D17=DVHC!$C$778:$C$11831)*(J17=DVHC!$H$778:$H$11831),0))} -> #N/A | J17: {=INDEX(DVHC!$E$65:$E$777,MATCH(1,(E17=DVHC!$C$65:$C$777)*(K17=DVHC!$H$65:$H$777),0))} -> 2345 | K17: =VLOOKUP(F17, DVHC!$C:$E, 3, 0) -> 41 | L17: =B17&", "&C17&", "&D17&", "&E17&", "&F17 -> Công Ty Tnhh Một Thành Viên Inox Hưng Thịnh, Đường A2 Kcn Phố Nối A, , Văn Lâm, Hưng Yên
A18: 690 | B18: CÔNG TY CỔ PHÀN CƠ ĐIỆN LẠNH TOÀN PHÁT | C18: Đường 206, Khu D, Kcn Phố Nối A | E18: Văn Lâm | F18: Hưng Yên | G18: DN | H18: 989313681 | I18: {=INDEX(DVHC!$E$778:$E$11831,MATCH(1,(D18=DVHC!$C$778:$C$11831)*(J18=DVHC!$H$778:$H$11831),0))} -> #N/A | J18: {=INDEX(DVHC!$E$65:$E$777,MATCH(1,(E18=DVHC!$C$65:$C$777)*(K18=DVHC!$H$65:$H$777),0))} -> 2345 | K18: =VLOOKUP(F18, DVHC!$C:$E, 3, 0) -> 41 | L18: =B18&", "&C18&", "&D18&", "&E18&", "&F18 -> CÔNG TY CỔ PHÀN CƠ ĐIỆN LẠNH TOÀN PHÁT, Đường 206, Khu D, Kcn Phố Nối A, , Văn Lâm, Hưng Yên
A19: 693 | B19: Công Ty Tnhh Phát Triển Nông Nghiệp Trường Sa | C19: Phố Đầu | E19: Văn Lâm | F19: Hưng Yên | G19: DN | H19: 985585278 | I19: {=INDEX(DVHC!$E$778:$E$11831,MATCH(1,(D19=DVHC!$C$778:$C$11831)*(J19=DVHC!$H$778:$H$11831),0))} -> #N/A | J19: {=INDEX(DVHC!$E$65:$E$777,MATCH(1,(E19=DVHC!$C$65:$C$777)*(K19=DVHC!$H$65:$H$777),0))} -> 2345 | K19: =VLOOKUP(F19, DVHC!$C:$E, 3, 0) -> 41 | L19: =B19&", "&C19&", "&D19&", "&E19&", "&F19 -> Công Ty Tnhh Phát Triển Nông Nghiệp Trường Sa, Phố Đầu, , Văn Lâm, Hưng Yên
A20: 697 | B20: Công Ty Tnhh Adp Quốc Tế | C20: Đông Trại | E20: Văn Lâm | F20: Hưng Yên | G20: DN | H20: 2213998069 | I20: {=INDEX(DVHC!$E$778:$E$11831,MATCH(1,(D20=DVHC!$C$778:$C$11831)*(J20=DVHC!$H$778:$H$11831),0))} -> #N/A | J20: {=INDEX(DVHC!$E$65:$E$777,MATCH(1,(E20=DVHC!$C$65:$C$777)*(K20=DVHC!$H$65:$H$777),0))} -> 2345 | K20: =VLOOKUP(F20, DVHC!$C:$E, 3, 0) -> 41 | L20: =B20&", "&C20&", "&D20&", "&E20&", "&F20 -> Công Ty Tnhh Adp Quốc Tế, Đông Trại, , Văn Lâm, Hưng Yên
A22: 701 | B22: Công Ty Tnhh Thương Mại Thời Trang Tiến Thành | C22: Phả Lê | E22: Văn Lâm | F22: Hưng Yên | G22: DN | H22: 983589985 | I22: {=INDEX(DVHC!$E$778:$E$11831,MATCH(1,(D22=DVHC!$C$778:$C$11831)*(J22=DVHC!$H$778:$H$11831),0))} -> #N/A | J22: {=INDEX(DVHC!$E$65:$E$777,MATCH(1,(E22=DVHC!$C$65:$C$777)*(K22=DVHC!$H$65:$H$777),0))} -> 2345 | K22: =VLOOKUP(F22, DVHC!$C:$E, 3, 0) -> 41 | L22: =B22&", "&C22&", "&D22&", "&E22&", "&F22 -> Công Ty Tnhh Thương Mại Thời Trang Tiến Thành, Phả Lê, , Văn Lâm, Hưng Yên
A23: 711 | B23: Công Ty Tnhh Thương Mại Và Dịch Vụ Vận Tải Việt Anh Hưng Yên | C23: Quốc Lộ 5a | E23: Văn Lâm | F23: Hưng Yên | G23: DN | H23: 387632989 | I23: {=INDEX(DVHC!$E$778:$E$11831,MATCH(1,(D23=DVHC!$C$778:$C$11831)*(J23=DVHC!$H$778:$H$11831),0))} -> #N/A | J23: {=INDEX(DVHC!$E$65:$E$777,MATCH(1,(E23=DVHC!$C$65:$C$777)*(K23=DVHC!$H$65:$H$777),0))} -> 2345 | K23: =VLOOKUP(F23, DVHC!$C:$E, 3, 0) -> 41 | L23: =B23&", "&C23&", "&D23&", "&E23&", "&F23 -> Công Ty Tnhh Thương Mại Và Dịch Vụ Vận Tải Việt Anh Hưng Yên, Quốc Lộ 5a, , Văn Lâm, Hưng Yên
A24: 722 | B24: CÔNG TY TNHH C.H.I HƯNG YÊN | C24: đường d3, khu d, kcn phố nối a | E24: Văn Lâm | F24: Hưng Yên | G24: DN | H24: 22137881311 | I24: {=INDEX(DVHC!$E$778:$E$11831,MATCH(1,(D24=DVHC!$C$778:$C$11831)*(J24=DVHC!$H$778:$H$11831),0))} -> #N/A | J24: {=INDEX(DVHC!$E$65:$E$777,MATCH(1,(E24=DVHC!$C$65:$C$777)*(K24=DVHC!$H$65:$H$777),0))} -> 2345 | K24: =VLOOKUP(F24, DVHC!$C:$E, 3, 0) -> 41 | L24: =B24&", "&C24&", "&D24&", "&E24&", "&F24 -> CÔNG TY TNHH C.H.I HƯNG YÊN, đường d3, khu d, kcn phố nối a, , Văn Lâm, Hưng Yên
A25: 724 | B25: Công Ty Tnhh Thương Mại Tổng Hợp Và Xuất Nhập Khẩu Đại Phú | C25: Phố Dầu | E25: Văn Lâm | F25: Hưng Yên | G25: DN | H25: 944502502 | I25: {=INDEX(DVHC!$E$778:$E$11831,MATCH(1,(D25=DVHC!$C$778:$C$11831)*(J25=DVHC!$H$778:$H$11831),0))} -> #N/A | J25: {=INDEX(DVHC!$E$65:$E$777,MATCH(1,(E25=DVHC!$C$65:$C$777)*(K25=DVHC!$H$65:$H$777),0))} -> 2345 | K25: =VLOOKUP(F25, DVHC!$C:$E, 3, 0) -> 41 | L25: =B25&", "&C25&", "&D25&", "&E25&", "&F25 -> Công Ty Tnhh Thương Mại Tổng Hợp Và Xuất Nhập Khẩu Đại Phú, Phố Dầu, , Văn Lâm, Hưng Yên
A26: 725 | B26: Công Ty Tnhh Xây Dựng Khiêm Thành Linh | C26: Tân Ấp | E26: Văn Lâm | F26: Hưng Yên | G26: DN | H26: 396080188 | I26: {=INDEX(DVHC!$E$778:$E$11831,MATCH(1,(D26=DVHC!$C$778:$C$11831)*(J26=DVHC!$H$778:$H$11831),0))} -> #N/A | J26: {=INDEX(DVHC!$E$65:$E$777,MATCH(1,(E26=DVHC!$C$65:$C$777)*(K26=DVHC!$H$65:$H$777),0))} -> 2345 | K26: =VLOOKUP(F26, DVHC!$C:$E, 3, 0) -> 41 | L26: =B26&", "&C26&", "&D26&", "&E26&", "&F26 -> Công Ty Tnhh Xây Dựng Khiêm Thành Linh, Tân Ấp, , Văn Lâm, Hưng Yên
A27: 727 | B27: Công Ty Tnhh Cơ Điện Đức Trung | C27: Thôn Hướng Đạo | E27: Văn Lâm | F27: Hưng Yên | G27: DN | H27: 988467529 | I27: {=INDEX(DVHC!$E$778:$E$11831,MATCH(1,(D27=DVHC!$C$778:$C$11831)*(J27=DVHC!$H$778:$H$11831),0))} -> #N/A | J27: {=INDEX(DVHC!$E$65:$E$777,MATCH(1,(E27=DVHC!$C$65:$C$777)*(K27=DVHC!$H$65:$H$777),0))} -> 2345 | K27: =VLOOKUP(F27, DVHC!$C:$E, 3, 0) -> 41 | L27: =B27&", "&C27&", "&D27&", "&E27&", "&F27 -> Công Ty Tnhh Cơ Điện Đức Trung, Thôn Hướng Đạo, , Văn Lâm, Hưng Yên
A28: 730 | B28: Công Ty Tnhh Sản Xuất Và Thương Mại Đức Thiện | C28: Thôn Ngo | E28: Văn Lâm | F28: Hưng Yên | G28: DN | H28: 977992746 | I28: {=INDEX(DVHC!$E$778:$E$11831,MATCH(1,(D28=DVHC!$C$778:$C$11831)*(J28=DVHC!$H$778:$H$11831),0))} -> #N/A | J28: {=INDEX(DVHC!$E$65:$E$777,MATCH(1,(E28=DVHC!$C$65:$C$777)*(K28=DVHC!$H$65:$H$777),0))} -> 2345 | K28: =VLOOKUP(F28, DVHC!$C:$E, 3, 0) -> 41 | L28: =B28&", "&C28&", "&D28&", "&E28&", "&F28 -> Công Ty Tnhh Sản Xuất Và Thương Mại Đức Thiện, Thôn Ngo, , Văn Lâm, Hưng Yên
A29: 732 | B29: Công Ty Tnhh Vận Tải Và Thương Mại Hòa Hải Vina | C29: Tăng Bảo | E29: Văn Lâm | F29: Hưng Yên | G29: DN | H29: 985325959 | I29: {=INDEX(DVHC!$E$778:$E$11831,MATCH(1,(D29=DVHC!$C$778:$C$11831)*(J29=DVHC!$H$778:$H$11831),0))} -> #N/A | J29: {=INDEX(DVHC!$E$65:$E$777,MATCH(1,(E29=DVHC!$C$65:$C$777)*(K29=DVHC!$H$65:$H$777),0))} -> 2345 | K29: =VLOOKUP(F29, DVHC!$C:$E, 3, 0) -> 41 | L29: =B29&", "&C29&", "&D29&", "&E29&", "&F29 -> Công Ty Tnhh Vận Tải Và Thương Mại Hòa Hải Vina, Tăng Bảo, , Văn Lâm, Hưng Yên
... A31: 740 | B31: Công Ty Cổ Phần Xử Lý Dữ Liệu Toàn Cầu | C31: Km19, Quốc Lộ 5a | E31: Văn Lâm | F31: Hưng Yên | G31: DN | H31: 904186999 | I31: {=INDEX(DVHC!$E$778:$E$11831,MATCH(1,(D31=DVHC!$C$778:$C$11831)*(J31=DVHC!$H$778:$H$11831),0))} -> #N/A | J31: {=INDEX(DVHC!$E$65:$E$777,MATCH(1,(E31=DVHC!$C$65:$C$777)*(K31=DVHC!$H$65:$H$777),0))} -> 2345 | K31: =VLOOKUP(F31, DVHC!$C:$E, 3, 0) -> 41 | L31: =B31&", "&C31&", "&D31&", "&E31&", "&F31 -> Công Ty Cổ Phần Xử Lý Dữ Liệu Toàn Cầu, Km19, Quốc Lộ 5a, , Văn Lâm, Hưng Yên
A32: 741 | B32: CÔNG TY TNHH SẢN XUẤT THƯƠNG MẠI VÀ DỊCH VỤ HƯNG VIỆT HƯNG YÊN | C32: Thôn Thanh Xá | E32: Văn Lâm | F32: Hưng Yên | G32: DN | H32: 0978 052776 | I32: {=INDEX(DVHC!$E$778:$E$11831,MATCH(1,(D32=DVHC!$C$778:$C$11831)*(J32=DVHC!$H$778:$H$11831),0))} -> #N/A | J32: {=INDEX(DVHC!$E$65:$E$777,MATCH(1,(E32=DVHC!$C$65:$C$777)*(K32=DVHC!$H$65:$H$777),0))} -> 2345 | K32: =VLOOKUP(F32, DVHC!$C:$E, 3, 0) -> 41 | L32: =B32&", "&C32&", "&D32&", "&E32&", "&F32 -> CÔNG TY TNHH SẢN XUẤT THƯƠNG MẠI VÀ DỊCH VỤ HƯNG VIỆT HƯNG YÊN, Thôn Thanh Xá, , Văn Lâm, Hưng Yên
A33: 763 | B33: Công Ty Tnhh Thương Mại Và Dịch Vụ Phương Linh Vina | C33: Thôn Tăng Bảo | E33: Văn Lâm | F33: Hưng Yên | G33: DN | H33: 985163667 | I33: {=INDEX(DVHC!$E$778:$E$11831,MATCH(1,(D33=DVHC!$C$778:$C$11831)*(J33=DVHC!$H$778:$H$11831),0))} -> #N/A | J33: {=INDEX(DVHC!$E$65:$E$777,MATCH(1,(E33=DVHC!$C$65:$C$777)*(K33=DVHC!$H$65:$H$777),0))} -> 2345 | K33: =VLOOKUP(F33, DVHC!$C:$E, 3, 0) -> 41 | L33: =B33&", "&C33&", "&D33&", "&E33&", "&F33 -> Công Ty Tnhh Thương Mại Và Dịch Vụ Phương Linh Vina, Thôn Tăng Bảo, , Văn Lâm, Hưng Yên
A34: 805 | B34: Công Ty Tnhh Thương Mại Và Kỹ Thuật Minh Sang | C34: Đội 10 | E34: Văn Lâm | F34: Hưng Yên | G34: DN | H34: 2213987456 | I34: {=INDEX(DVHC!$E$778:$E$11831,MATCH(1,(D34=DVHC!$C$778:$C$11831)*(J34=DVHC!$H$778:$H$11831),0))} -> #N/A | J34: {=INDEX(DVHC!$E$65:$E$777,MATCH(1,(E34=DVHC!$C$65:$C$777)*(K34=DVHC!$H$65:$H$777),0))} -> 2345 | K34: =VLOOKUP(F34, DVHC!$C:$E, 3, 0) -> 41 | L34: =B34&", "&C34&", "&D34&", "&E34&", "&F34 -> Công Ty Tnhh Thương Mại Và Kỹ Thuật Minh Sang, Đội 10, , Văn Lâm, Hưng Yên
A35: 809 | B35: Công Ty Tnhh Hà My Vina | C35: Khu Cty Xây Lắp I | E35: Văn Lâm | F35: Hưng Yên | G35: DN | H35: 2213788203 | I35: {=INDEX(DVHC!$E$778:$E$11831,MATCH(1,(D35=DVHC!$C$778:$C$11831)*(J35=DVHC!$H$778:$H$11831),0))} -> #N/A | J35: {=INDEX(DVHC!$E$65:$E$777,MATCH(1,(E35=DVHC!$C$65:$C$777)*(K35=DVHC!$H$65:$H$777),0))} -> 2345 | K35: =VLOOKUP(F35, DVHC!$C:$E, 3, 0) -> 41 | L35: =B35&", "&C35&", "&D35&", "&E35&", "&F35 -> Công Ty Tnhh Hà My Vina, Khu Cty Xây Lắp I, , Văn Lâm, Hưng Yên
A36: 820 | B36: Công Ty Cổ Phần Dinh Dưỡng Việt Nhật Hưng Yên | C36: Khu CN Phố Nối A | E36: Văn Lâm | F36: Hưng Yên | G36: DN | H36: 2213789555 | I36: {=INDEX(DVHC!$E$778:$E$11831,MATCH(1,(D36=DVHC!$C$778:$C$11831)*(J36=DVHC!$H$778:$H$11831),0))} -> #N/A | J36: {=INDEX(DVHC!$E$65:$E$777,MATCH(1,(E36=DVHC!$C$65:$C$777)*(K36=DVHC!$H$65:$H$777),0))} -> 2345 | K36: =VLOOKUP(F36, DVHC!$C:$E, 3, 0) -> 41 | L36: =B36&", "&C36&", "&D36&", "&E36&", "&F36 -> Công Ty Cổ Phần Dinh Dưỡng Việt Nhật Hưng Yên, Khu CN Phố Nối A, , Văn Lâm, Hưng Yên
A37: 821 | B37: Công Ty Tnhh Kinh Doanh Thiết Bị Y Tế Omiga | C37: Km 22, Quốc Lộ 5 | E37: Văn Lâm | F37: Hưng Yên | G37: DN | H37: 989210908 | I37: {=INDEX(DVHC!$E$778:$E$11831,MATCH(1,(D37=DVHC!$C$778:$C$11831)*(J37=DVHC!$H$778:$H$11831),0))} -> #N/A | J37: {=INDEX(DVHC!$E$65:$E$777,MATCH(1,(E37=DVHC!$C$65:$C$777)*(K37=DVHC!$H$65:$H$777),0))} -> 2345 | K37: =VLOOKUP(F37, DVHC!$C:$E, 3, 0) -> 41 | L37: =B37&", "&C37&", "&D37&", "&E37&", "&F37 -> Công Ty Tnhh Kinh Doanh Thiết Bị Y Tế Omiga, Km 22, Quốc Lộ 5, , Văn Lâm, Hưng Yên
A38: 822 | B38: Công Ty Tnhh Satavico | C38: Quốc Lộ 5a | E38: Văn Lâm | F38: Hưng Yên | G38: DN | H38: 977884779 | I38: {=INDEX(DVHC!$E$778:$E$11831,MATCH(1,(D38=DVHC!$C$778:$C$11831)*(J38=DVHC!$H$778:$H$11831),0))} -> #N/A | J38: {=INDEX(DVHC!$E$65:$E$777,MATCH(1,(E38=DVHC!$C$65:$C$777)*(K38=DVHC!$H$65:$H$777),0))} -> 2345 | K38: =VLOOKUP(F38, DVHC!$C:$E, 3, 0) -> 41 | L38: =B38&", "&C38&", "&D38&", "&E38&", "&F38 -> Công Ty Tnhh Satavico, Quốc Lộ 5a, , Văn Lâm, Hưng Yên
A39: 826 | B39: Công Ty Cổ Phần Phát Triển Dịch Vụ Công Nghiệp Châu Á | C39: Lô 151 | E39: Văn Lâm | F39: Hưng Yên | G39: DN | H39: 965221777 | I39: {=INDEX(DVHC!$E$778:$E$11831,MATCH(1,(D39=DVHC!$C$778:$C$11831)*(J39=DVHC!$H$778:$H$11831),0))} -> #N/A | J39: {=INDEX(DVHC!$E$65:$E$777,MATCH(1,(E39=DVHC!$C$65:$C$777)*(K39=DVHC!$H$65:$H$777),0))} -> 2345 | K39: =VLOOKUP(F39, DVHC!$C:$E, 3, 0) -> 41 | L39: =B39&", "&C39&", "&D39&", "&E39&", "&F39 -> Công Ty Cổ Phần Phát Triển Dịch Vụ Công Nghiệp Châu Á, Lô 151 , , Văn Lâm, Hưng Yên
A40: 847 | B40: Công Ty Tnhh Smart Paint | C40: Kim 15 +600 Quốc Lộ 5 | E40: Văn Lâm | F40: Hưng Yên | G40: DN | H40: 987804036 | I40: {=INDEX(DVHC!$E$778:$E$11831,MATCH(1,(D40=DVHC!$C$778:$C$11831)*(J40=DVHC!$H$778:$H$11831),0))} -> #N/A | J40: {=INDEX(DVHC!$E$65:$E$777,MATCH(1,(E40=DVHC!$C$65:$C$777)*(K40=DVHC!$H$65:$H$777),0))} -> 2345 | K40: =VLOOKUP(F40, DVHC!$C:$E, 3, 0) -> 41 | L40: =B40&", "&C40&", "&D40&", "&E40&", "&F40 -> Công Ty Tnhh Smart Paint, Kim 15 +600 Quốc Lộ 5, , Văn Lâm, Hưng Yên
A41: 883 | B41: Công Ty Tnhh Tư Vấn Ktkt Hưng Yên | C41: Khu Đường Sắt | E41: Văn Lâm | F41: Hưng Yên | G41: DN | H41: 988952568 | I41: {=INDEX(DVHC!$E$778:$E$11831,MATCH(1,(D41=DVHC!$C$778:$C$11831)*(J41=DVHC!$H$778:$H$11831),0))} -> #N/A | J41: {=INDEX(DVHC!$E$65:$E$777,MATCH(1,(E41=DVHC!$C$65:$C$777)*(K41=DVHC!$H$65:$H$777),0))} -> 2345 | K41: =VLOOKUP(F41, DVHC!$C:$E, 3, 0) -> 41 | L41: =B41&", "&C41&", "&D41&", "&E41&", "&F41 -> Công Ty Tnhh Tư Vấn Ktkt Hưng Yên, Khu Đường Sắt, , Văn Lâm, Hưng Yên
A42: 889 | B42: Công Ty Cổ Phần Quốc Tế Thái Dương Xanh | C42: Khu Công nghiệp Phố Nối A | E42: Văn Lâm | F42: Hưng Yên | G42: DN | H42: 968724190 | I42: {=INDEX(DVHC!$E$778:$E$11831,MATCH(1,(D42=DVHC!$C$778:$C$11831)*(J42=DVHC!$H$778:$H$11831),0))} -> #N/A | J42: {=INDEX(DVHC!$E$65:$E$777,MATCH(1,(E42=DVHC!$C$65:$C$777)*(K42=DVHC!$H$65:$H$777),0))} -> 2345 | K42: =VLOOKUP(F42, DVHC!$C:$E, 3, 0) -> 41 | L42: =B42&", "&C42&", "&D42&", "&E42&", "&F42 -> Công Ty Cổ Phần Quốc Tế Thái Dương Xanh, Khu Công nghiệp Phố Nối A, , Văn Lâm, Hưng Yên
A43: 890 | B43: Công Ty Tnhh Asia Doors | C43: Phả Lê | E43: Văn Lâm | F43: Hưng Yên | G43: DN | H43: 983589985 | I43: {=INDEX(DVHC!$E$778:$E$11831,MATCH(1,(D43=DVHC!$C$778:$C$11831)*(J43=DVHC!$H$778:$H$11831),0))} -> #N/A | J43: {=INDEX(DVHC!$E$65:$E$777,MATCH(1,(E43=DVHC!$C$65:$C$777)*(K43=DVHC!$H$65:$H$777),0))} -> 2345 | K43: =VLOOKUP(F43, DVHC!$C:$E, 3, 0) -> 41 | L43: =B43&", "&C43&", "&D43&", "&E43&", "&F43 -> Công Ty Tnhh Asia Doors, Phả Lê, , Văn Lâm, Hưng Yên
A44: 905 | B44: Công Ty Tnhh Sản Xuất - Thương Mại Nam Thanh | C44: Đường 206, Khu Công Nghiệp Phố Nối A | E44: Văn Lâm | F44: Hưng Yên | G44: DN | H44: 2213997161 | I44: {=INDEX(DVHC!$E$778:$E$11831,MATCH(1,(D44=DVHC!$C$778:$C$11831)*(J44=DVHC!$H$778:$H$11831),0))} -> #N/A | J44: {=INDEX(DVHC!$E$65:$E$777,MATCH(1,(E44=DVHC!$C$65:$C$777)*(K44=DVHC!$H$65:$H$777),0))} -> 2345 | K44: =VLOOKUP(F44, DVHC!$C:$E, 3, 0) -> 41 | L44: =B44&", "&C44&", "&D44&", "&E44&", "&F44 -> Công Ty Tnhh Sản Xuất - Thương Mại Nam Thanh, Đường 206, Khu Công Nghiệp Phố Nối A, , Văn Lâm, Hưng Yên
... A61: 1124 | B61: Công Ty Tnhh Ifly | C61: Nhà Số 8, Khu Dân Cư Mới Số 1 | E61: Văn Lâm | F61: Hưng Yên | G61: DN | H61: 2213785886 | I61: {=INDEX(DVHC!$E$778:$E$11831,MATCH(1,(D61=DVHC!$C$778:$C$11831)*(J61=DVHC!$H$778:$H$11831),0))} -> #N/A | J61: {=INDEX(DVHC!$E$65:$E$777,MATCH(1,(E61=DVHC!$C$65:$C$777)*(K61=DVHC!$H$65:$H$777),0))} -> 2345 | K61: =VLOOKUP(F61, DVHC!$C:$E, 3, 0) -> 41 | L61: =B61&", "&C61&", "&D61&", "&E61&", "&F61 -> Công Ty Tnhh Ifly, Nhà Số 8, Khu Dân Cư Mới Số 1, , Văn Lâm, Hưng Yên
A62: 1143 | B62: Công Ty Tnhh Một Thành Viên Khoáng Sản Thành Phát Đông Bắc | C62: Thôn Phú Nhuận | D62: Ào | E62: Văn Lâm | F62: Hưng Yên | G62: DN | H62: 968868865 | I62: {=INDEX(DVHC!$E$778:$E$11831,MATCH(1,(D62=DVHC!$C$778:$C$11831)*(J62=DVHC!$H$778:$H$11831),0))} -> #N/A | J62: {=INDEX(DVHC!$E$65:$E$777,MATCH(1,(E62=DVHC!$C$65:$C$777)*(K62=DVHC!$H$65:$H$777),0))} -> 2345 | K62: =VLOOKUP(F62, DVHC!$C:$E, 3, 0) -> 41 | L62: =B62&", "&C62&", "&D62&", "&E62&", "&F62 -> Công Ty Tnhh Một Thành Viên Khoáng Sản Thành Phát Đông Bắc, Thôn Phú Nhuận, Ào, Văn Lâm, Hưng Yên
A63: 1148 | B63: Công Ty Tnhh Thương Mại Dịch Vụ Và Xây Dựng Minh Vĩ | C63: Thôn Đồng Chung | E63: Văn Lâm | F63: Hưng Yên | G63: DN | H63: 983589985 | I63: {=INDEX(DVHC!$E$778:$E$11831,MATCH(1,(D63=DVHC!$C$778:$C$11831)*(J63=DVHC!$H$778:$H$11831),0))} -> #N/A | J63: {=INDEX(DVHC!$E$65:$E$777,MATCH(1,(E63=DVHC!$C$65:$C$777)*(K63=DVHC!$H$65:$H$777),0))} -> 2345 | K63: =VLOOKUP(F63, DVHC!$C:$E, 3, 0) -> 41 | L63: =B63&", "&C63&", "&D63&", "&E63&", "&F63 -> Công Ty Tnhh Thương Mại Dịch Vụ Và Xây Dựng Minh Vĩ, Thôn Đồng Chung, , Văn Lâm, Hưng Yên
A64: 1149 | B64: Công Ty Cổ Phần Tm Và Dv Hóa Chất Việt Nam | C64: Km 17, Quốc Lộ 5 | E64: Văn Lâm | F64: Hưng Yên | G64: DN | H64: 903247638 | I64: {=INDEX(DVHC!$E$778:$E$11831,MATCH(1,(D64=DVHC!$C$778:$C$11831)*(J64=DVHC!$H$778:$H$11831),0))} -> #N/A | J64: {=INDEX(DVHC!$E$65:$E$777,MATCH(1,(E64=DVHC!$C$65:$C$777)*(K64=DVHC!$H$65:$H$777),0))} -> 2345 | K64: =VLOOKUP(F64, DVHC!$C:$E, 3, 0) -> 41 | L64: =B64&", "&C64&", "&D64&", "&E64&", "&F64 -> Công Ty Cổ Phần Tm Và Dv Hóa Chất Việt Nam, Km 17, Quốc Lộ 5, , Văn Lâm, Hưng Yên
A65: 1162 | B65: Công Ty Tnhh Máy Bán Hàng 24h | C65: Km 15, Quốc Lộ 5 | E65: Văn Lâm | F65: Hưng Yên | G65: DN | H65: 983500955 | I65: {=INDEX(DVHC!$E$778:$E$11831,MATCH(1,(D65=DVHC!$C$778:$C$11831)*(J65=DVHC!$H$778:$H$11831),0))} -> #N/A | J65: {=INDEX(DVHC!$E$65:$E$777,MATCH(1,(E65=DVHC!$C$65:$C$777)*(K65=DVHC!$H$65:$H$777),0))} -> 2345 | K65: =VLOOKUP(F65, DVHC!$C:$E, 3, 0) -> 41 | L65: =B65&", "&C65&", "&D65&", "&E65&", "&F65 -> Công Ty Tnhh Máy Bán Hàng 24h, Km 15, Quốc Lộ 5, , Văn Lâm, Hưng Yên
A66: 1165 | B66: Công Ty Tnhh Phát Triển Xây Dựng Asia | C66: Thôn Phả Lê | E66: Văn Lâm | F66: Hưng Yên | G66: DN | H66: 983589985 | I66: {=INDEX(DVHC!$E$778:$E$11831,MATCH(1,(D66=DVHC!$C$778:$C$11831)*(J66=DVHC!$H$778:$H$11831),0))} -> #N/A | J66: {=INDEX(DVHC!$E$65:$E$777,MATCH(1,(E66=DVHC!$C$65:$C$777)*(K66=DVHC!$H$65:$H$777),0))} -> 2345 | K66: =VLOOKUP(F66, DVHC!$C:$E, 3, 0) -> 41 | L66: =B66&", "&C66&", "&D66&", "&E66&", "&F66 -> Công Ty Tnhh Phát Triển Xây Dựng Asia, Thôn Phả Lê, , Văn Lâm, Hưng Yên
A67: 1167 | B67: Công Ty Tnhh Newriver Việt Nam | C67: Lô A 18 - 19 Khu Dân Cư Mới | E67: Văn Lâm | F67: Hưng Yên | G67: DN | H67: 979104080 | I67: {=INDEX(DVHC!$E$778:$E$11831,MATCH(1,(D67=DVHC!$C$778:$C$11831)*(J67=DVHC!$H$778:$H$11831),0))} -> #N/A | J67: {=INDEX(DVHC!$E$65:$E$777,MATCH(1,(E67=DVHC!$C$65:$C$777)*(K67=DVHC!$H$65:$H$777),0))} -> 2345 | K67: =VLOOKUP(F67, DVHC!$C:$E, 3, 0) -> 41 | L67: =B67&", "&C67&", "&D67&", "&E67&", "&F67 -> Công Ty Tnhh Newriver Việt Nam, Lô A 18 - 19 Khu Dân Cư Mới, , Văn Lâm, Hưng Yên
A68: 1196 | B68: Công Ty Tnhh Xây Dựng Vững Mạnh | C68: Phố Tài | E68: Văn Lâm | F68: Hưng Yên | G68: DN | H68: 396080188 | I68: {=INDEX(DVHC!$E$778:$E$11831,MATCH(1,(D68=DVHC!$C$778:$C$11831)*(J68=DVHC!$H$778:$H$11831),0))} -> #N/A | J68: {=INDEX(DVHC!$E$65:$E$777,MATCH(1,(E68=DVHC!$C$65:$C$777)*(K68=DVHC!$H$65:$H$777),0))} -> 2345 | K68: =VLOOKUP(F68, DVHC!$C:$E, 3, 0) -> 41 | L68: =B68&", "&C68&", "&D68&", "&E68&", "&F68 -> Công Ty Tnhh Xây Dựng Vững Mạnh, Phố Tài, , Văn Lâm, Hưng Yên
A69: 1204 | B69: Công Ty Tnhh Thương Mại Dịch Vụ Và Xây Dựng Tùng Dương Ntd | E69: Văn Lâm | F69: Hưng Yên | G69: DN | H69: 967367784 | I69: {=INDEX(DVHC!$E$778:$E$11831,MATCH(1,(D69=DVHC!$C$778:$C$11831)*(J69=DVHC!$H$778:$H$11831),0))} -> #N/A | J69: {=INDEX(DVHC!$E$65:$E$777,MATCH(1,(E69=DVHC!$C$65:$C$777)*(K69=DVHC!$H$65:$H$777),0))} -> 2345 | K69: =VLOOKUP(F69, DVHC!$C:$E, 3, 0) -> 41 | L69: =B69&", "&C69&", "&D69&", "&E69&", "&F69 -> Công Ty Tnhh Thương Mại Dịch Vụ Và Xây Dựng Tùng Dương Ntd, , , Văn Lâm, Hưng Yên
A70: 1208 | B70: Công Ty Tnhh Mtv Nbc Pacific | C70: Đường A2 - Khu A - Khu Công Nghiệp Phố Nối A | E70: Văn Lâm | F70: Hưng Yên | G70: DN | H70: 1685623732 | I70: {=INDEX(DVHC!$E$778:$E$11831,MATCH(1,(D70=DVHC!$C$778:$C$11831)*(J70=DVHC!$H$778:$H$11831),0))} -> #N/A | J70: {=INDEX(DVHC!$E$65:$E$777,MATCH(1,(E70=DVHC!$C$65:$C$777)*(K70=DVHC!$H$65:$H$777),0))} -> 2345 | K70: =VLOOKUP(F70, DVHC!$C:$E, 3, 0) -> 41 | L70: =B70&", "&C70&", "&D70&", "&E70&", "&F70 -> Công Ty Tnhh Mtv Nbc Pacific, Đường A2 - Khu A - Khu Công Nghiệp Phố Nối A, , Văn Lâm, Hưng Yên
