Workbook
Name GeocodeAddressColumn_AnGiang: #REF!
Name GeocodeAddressColumn_BcGiang: #REF!
Name GeocodeAddressColumn_BcKn: #REF!
Name GeocodeAddressColumn_BcLiu: #REF!
Name GeocodeAddressColumn_BcNinh: #REF!
Name GeocodeAddressColumn_BnhDng: #REF!
Name GeocodeAddressColumn_BnhDngthm: #REF!
Name GeocodeAddressColumn_BnhPhc: #REF!
Name GeocodeAddressColumn_BnTre: #REF!
Name GeocodeAddressColumn_BnTre2: #REF!
Name GeocodeAddressColumn_BRVT: #REF!
Name GeocodeAddressColumn_CnTh: #REF!
Name GeocodeAddressColumn_GiaLai: #REF!
Name GeocodeAddressColumn_HaBnh: #REF!
Name GeocodeAddressColumn_HNam: #REF!
Name GeocodeAddressColumn_HngYn: #REF!
Name GeocodeAddressColumn_HNi: #REF!
Name GeocodeAddressColumn_HTnh: #REF!
Name GeocodeAddressColumn_inBin: #REF!
Name GeocodeAddressColumn_KhnhHa: #REF!
Name GeocodeAddressColumn_kNng: #REF!
Name GeocodeAddressColumn_KonTum: #REF!
Name GeocodeAddressColumn_LaiChu: #REF!
Name GeocodeAddressColumn_Lmng: #REF!
Name GeocodeAddressColumn_LngSn: #REF!
Name GeocodeAddressColumn_LoCai: #REF!
Name GeocodeAddressColumn_ngNai: #REF!
Name GeocodeAddressColumn_ngNaiLi: #REF!
Name GeocodeAddressColumn_NinhBnh: #REF!
Name GeocodeAddressColumn_Nng: #REF!
Name GeocodeAddressColumn_Nngnhp: #REF!
Name GeocodeAddressColumn_PhTh: #REF!
Name GeocodeAddressColumn_QungNam: #REF!
Name GeocodeAddressColumn_QungNgi: #REF!
Name GeocodeAddressColumn_QungNinh: #REF!
Name GeocodeAddressColumn_ScTrng: #REF!
Name GeocodeAddressColumn_SnLa: #REF!
Name GeocodeAddressColumn_ThiBnh: #REF!
Name GeocodeAddressColumn_ThiNguyn: #REF!
Name GeocodeAddressColumn_TinGiang: #REF!
Name GeocodeAddressColumn_TPHChMinh: #REF!
Name GeocodeAddressColumn_Trangtnh65: #REF!
Name GeocodeAddressColumn_Trangtnh74: #REF!
Name GeocodeAddressColumn_TuynQuang: #REF!
Name GeocodeAddressColumn_TyNinh: #REF!
Name GeocodeAddressColumn_VnhLong: #REF!
Name GeocodeAddressColumn_VnhPhc: #REF!
Name GeocodeAddressColumn_YnBi: #REF!

Sheet Sheet
A1: STT | B1: Cơ sở | C1: Địa chỉ | D1: Phường/xã | E1: Quận/Huyện | F1: Tỉnh/Thành phố | G1: Loại hình | H1: Liên hệ | I1: ID Phường | J1: ID QH | K1: ID TP | L1: Địa chỉ lấy lat-long | M1: Latitude | N1: Longitude | O1: Username | P1: Password
A2: 1 | B2: Nhà máy phân vi sinh (Chi nhánh Cty Mía đường La Ngà) | C2: Lô 4H KCN Định Quán | D2: La Ngà | E2: Định Quán | F2: Đồng Nai | G2: Nhà máy | I2: 198176 | J2: 1568 | K2: 32 | L2: Nhà máy phân vi sinh (Chi nhánh Cty Mía đường La Ngà), Lô 4H KCN Định Quán, La Ngà, Định Quán, Đồng Nai | M2: 111565086 | N2: 1072502282 | O2: CSSX320001 | P2: 231457
A3: 2 | B3: Chi nhánh Cty TNHH thương mại dịch vụ xây dựng cơ khí thiết bị nâng Anh Tuấn (trước là Cty CP CK-XD Quốc Vương ) | C3: Lô 5G KCN Định Quán | D3: La Ngà | E3: Định Quán | F3: Đồng Nai | G3: Nhà máy | I3: 198176 | J3: 1568 | K3: 32 | L3: Chi nhánh Cty TNHH thương mại dịch vụ xây dựng cơ khí thiết bị nâng Anh Tuấn (trước là Cty CP CK-XD Quốc Vương ), Lô 5G KCN Định Quán, La Ngà, Định Quán, Đồng Nai | M3: 1115445 | N3: 1072474303 | O3: CSSX320002 | P3: 203101
A4: 3 | B4: Cty CP Sx - TM Phú Lộc Thành (trước là Cty CP sản xuất Thương mại A-H-H ) | C4: Lô 24D KCN Định Quán | D4: La Ngà | E4: Định Quán | F4: Đồng Nai | G4: Nhà máy | I4: 198176 | J4: 1568 | K4: 32 | L4: Cty CP Sx - TM Phú Lộc Thành (trước là Cty CP sản xuất Thương mại A-H-H ), Lô 24D KCN Định Quán, La Ngà, Định Quán, Đồng Nai | M4: 162714658 | N4: 1078840377 | O4: CSSX320003 | P4: 266500
A5: 4 | B5: Cty CP Tôn Hoa Sen | C5: Lô 1A KCN Định Quán | D5: La Ngà | E5: Định Quán | F5: Đồng Nai | G5: Nhà máy | I5: 198176 | J5: 1568 | K5: 32 | L5: Cty CP Tôn Hoa Sen, Lô 1A KCN Định Quán, La Ngà, Định Quán, Đồng Nai | M5: 111574344 | N5: 1072486776 | O5: CSSX320004 | P5: 514300
A6: 5 | B6: Cty Phát triển Hạ tầng KCN Định Quán | C6: Lô 1C KCN Định Quán | D6: La Ngà | E6: Định Quán | F6: Đồng Nai | G6: Nhà máy | I6: 198176 | J6: 1568 | K6: 32 | L6: Cty Phát triển Hạ tầng KCN Định Quán, Lô 1C KCN Định Quán, La Ngà, Định Quán, Đồng Nai | M6: 1115445 | N6: 1072474303 | O6: CSSX320005 | P6: 586385
A7: 6 | B7: Cty TNHH Hoàng Văn | C7: Lô 15G KCN Định Quán | D7: La Ngà | E7: Định Quán | F7: Đồng Nai | G7: Nhà máy | I7: 198176 | J7: 1568 | K7: 32 | L7: Cty TNHH Hoàng Văn, Lô 15G KCN Định Quán, La Ngà, Định Quán, Đồng Nai | M7: 1115445 | N7: 1072474303 | O7: CSSX320006 | P7: 255633
A8: 7 | B8: Dự án Công ty CP Đầu tư Phát triển xây dựng Số Tám - Chi nhánh Đồng Nai | C8: Lô 5G KCN Định Quán | D8: La Ngà | E8: Định Quán | F8: Đồng Nai | G8: Nhà máy | I8: 198176 | J8: 1568 | K8: 32 | L8: Dự án Công ty CP Đầu tư Phát triển xây dựng Số Tám - Chi nhánh Đồng Nai, Lô 5G KCN Định Quán, La Ngà, Định Quán, Đồng Nai | M8: 1115445 | N8: 1072474303 | O8: CSSX320007 | P8: 379832
A9: 8 | B9: Công ty CP SX XD Đất Phát | C9: Lô 12A KCN Định Quán | D9: La Ngà | E9: Định Quán | F9: Đồng Nai | G9: Nhà máy | I9: 198176 | J9: 1568 | K9: 32 | L9: Công ty CP SX XD Đất Phát, Lô 12A KCN Định Quán, La Ngà, Định Quán, Đồng Nai | M9: 1115445 | N9: 1072474303 | O9: CSSX320008 | P9: 008731
A10: 9 | B10: Cty CP SX - XD Đất Phát | C10: Lô 23A KCN Định Quán | D10: La Ngà | E10: Định Quán | F10: Đồng Nai | G10: Nhà máy | I10: 198176 | J10: 1568 | K10: 32 | L10: Cty CP SX - XD Đất Phát, Lô 23A KCN Định Quán, La Ngà, Định Quán, Đồng Nai | M10: 1115445 | N10: 1072474303 | O10: CSSX320009 | P10: 507250
A11: 10 | B11: Cty TNHH Như Hưng | C11: Lô 11C KCN Định Quán | D11: La Ngà | E11: Định Quán | F11: Đồng Nai | G11: Nhà máy | I11: 198176 | J11: 1568 | K11: 32 | L11: Cty TNHH Như Hưng, Lô 11C KCN Định Quán, La Ngà, Định Quán, Đồng Nai | M11: 1115445 | N11: 1072474303 | O11: CSSX320010 | P11: 447980
A12: 11 | B12: Cty TNHH A.P Sài Gòn | C12: Lô 20G KCN Định Quán | D12: La Ngà | E12: Định Quán | F12: Đồng Nai | G12: Nhà máy | I12: 198176 | J12: 1568 | K12: 32 | L12: Cty TNHH A.P Sài Gòn, Lô 20G KCN Định Quán, La Ngà, Định Quán, Đồng Nai | M12: 1115445 | N12: 1072474303 | O12: CSSX320011 | P12: 805395
A13: 12 | B13: HTX chế biến xoài trái xuất khẩu La Ngà | C13: Lô 20D KCN Định Quán | D13: La Ngà | E13: Định Quán | F13: Đồng Nai | G13: Nhà máy | I13: 198176 | J13: 1568 | K13: 32 | L13: HTX chế biến xoài trái xuất khẩu La Ngà, Lô 20D KCN Định Quán, La Ngà, Định Quán, Đồng Nai | M13: 111585531 | N13: 1072690889 | O13: CSSX320012 | P13: 473579
... A16: 15 | B16: Chi nhánh miền Nam - Cty Cp Bach'chambard | C16: Lô 4G KCN Định Quán | D16: La Ngà | E16: Định Quán | F16: Đồng Nai | G16: Nhà máy | I16: 198176 | J16: 1568 | K16: 32 | L16: Chi nhánh miền Nam - Cty Cp Bach'chambard, Lô 4G KCN Định Quán, La Ngà, Định Quán, Đồng Nai | M16: 1115445 | N16: 1072474303 | O16: CSSX320015 | P16: 268068
A17: 16 | B17: Dự án Đầu tư kinh doanh hạ tầng KCN An Phước | C17: Lô 23B KCN An Phước | D17: An Phước | E17: Long Thành | F17: Đồng Nai | G17: Nhà máy | H17: 028-8459375 | I17: 132128 | J17: 1056 | K17: 32 | L17: Dự án Đầu tư kinh doanh hạ tầng KCN An Phước, Lô 23B KCN An Phước, An Phước, Long Thành, Đồng Nai | M17: 10853688 | N17: 1069618341 | O17: CSSX320016 | P17: 104884
A18: 17 | B18: Dự án Chi nhánh Cty TNHH Vĩnh Cường | C18: Lô 17E KCN An Phước | D18: An Phước | E18: Long Thành | F18: Đồng Nai | G18: Nhà máy | I18: 132128 | J18: 1056 | K18: 32 | L18: Dự án Chi nhánh Cty TNHH Vĩnh Cường, Lô 17E KCN An Phước, An Phước, Long Thành, Đồng Nai | M18: 10853688 | N18: 1069618341 | O18: CSSX320017 | P18: 249370
A19: 18 | B19: Dự án Chi nhánh Công ty CP Nguyên Cường | C19: Lô 18H KCN An Phước | D19: An Phước | E19: Long Thành | F19: Đồng Nai | G19: Nhà máy | I19: 132128 | J19: 1056 | K19: 32 | L19: Dự án Chi nhánh Công ty CP Nguyên Cường, Lô 18H KCN An Phước, An Phước, Long Thành, Đồng Nai | M19: 108534427 | N19: 1069617517 | O19: CSSX320018 | P19: 278916
A20: 19 | B20: Cty CP Trung Đông - chi nhánh An Phước | C20: Lô 21D KCN An Phước | D20: An Phước | E20: Long Thành | F20: Đồng Nai | G20: Nhà máy | I20: 132128 | J20: 1056 | K20: 32 | L20: Cty CP Trung Đông - chi nhánh An Phước, Lô 21D KCN An Phước, An Phước, Long Thành, Đồng Nai | M20: 292985278 | N20: 425509603 | O20: CSSX320019 | P20: 016619
A21: 20 | B21: Cty CP đầu tư Nam An Việt | C21: Lô 24G KCN An Phước | D21: An Phước | E21: Long Thành | F21: Đồng Nai | G21: Nhà máy | I21: 132128 | J21: 1056 | K21: 32 | L21: Cty CP đầu tư Nam An Việt, Lô 24G KCN An Phước, An Phước, Long Thành, Đồng Nai | M21: 10853688 | N21: 1069618341 | O21: CSSX320020 | P21: 791831
A22: 21 | B22: Dự án Nhà máy chế biến cà phê Intimex Long Thành | C22: Lô 2C KCN An Phước | D22: An Phước | E22: Long Thành | F22: Đồng Nai | G22: Nhà máy | I22: 132128 | J22: 1056 | K22: 32 | L22: Dự án Nhà máy chế biến cà phê Intimex Long Thành, Lô 2C KCN An Phước, An Phước, Long Thành, Đồng Nai | M22: 108507448 | N22: 1069654044 | O22: CSSX320021 | P22: 698494
A23: 22 | B23: Cty TNHH Cơ khí chính xác Nhật Bảo Nam (thuê nhà xưởng với tổng diện tích 670 m2 của Công ty TNHH Vĩnh Cường trong thời hạn 05 (năm) năm kể từ ngày được cấp Giấy chứng nhận đăng ký đầu tư) | C23: Lô 21C KCN An Phước | D23: An Phước | E23: Long Thành | F23: Đồng Nai | G23: Nhà máy | H23: 0937.202.310/ 0932.718863 (A Tuấn Anh) | I23: 132128 | J23: 1056 | K23: 32 | L23: Cty TNHH Cơ khí chính xác Nhật Bảo Nam (thuê nhà xưởng với tổng diện tích 670 m2 của Công ty TNHH Vĩnh Cường trong thời hạn 05 (năm) năm kể từ ngày được cấp Giấy chứng nhận đăng ký đầu tư), Lô 21C KCN An Phước, An Phước, Long Thành, Đồng Nai | M23: 186795848 | N23: 1056813333 | O23: CSSX320022 | P23: 426454
A24: 23 | B24: CHI NHÁNH LONG THÀNH - CÔNG TY TNHH THẠCH VIỆT | C24: Lô 6A KCN An Phước | D24: An Phước | E24: Long Thành | F24: Đồng Nai | G24: Nhà máy | H24: 0251-3686998/ 0903.365195 | I24: 132128 | J24: 1056 | K24: 32 | L24: CHI NHÁNH LONG THÀNH - CÔNG TY TNHH THẠCH VIỆT, Lô 6A KCN An Phước, An Phước, Long Thành, Đồng Nai | M24: 108715867 | N24: 106946497 | O24: CSSX320023 | P24: 013299
A25: 24 | B25: CÔNG TY TNHH SUẤT ĂN CÔNG NGHIỆP KIM XUÂN | C25: Lô 24F KCN An Phước | D25: An Phước | E25: Long Thành | F25: Đồng Nai | G25: Nhà máy | H25: 906736377 | I25: 132128 | J25: 1056 | K25: 32 | L25: CÔNG TY TNHH SUẤT ĂN CÔNG NGHIỆP KIM XUÂN, Lô 24F KCN An Phước, An Phước, Long Thành, Đồng Nai | M25: 10853688 | N25: 1069618341 | O25: CSSX320024 | P25: 169985
A26: 25 | B26: NHÀ MÁY SẢN XUẤT CỦA CÔNG TY TNHH THƯƠNG MẠI RỒNG PHƯƠNG BẮC | C26: Lô 14B KCN An Phước | D26: An Phước | E26: Long Thành | F26: Đồng Nai | G26: Nhà máy | I26: 132128 | J26: 1056 | K26: 32 | L26: NHÀ MÁY SẢN XUẤT CỦA CÔNG TY TNHH THƯƠNG MẠI RỒNG PHƯƠNG BẮC, Lô 14B KCN An Phước, An Phước, Long Thành, Đồng Nai | M26: 108436928 | N26: 1069536199 | O26: CSSX320025 | P26: 413792
A27: 26 | B27: CÔNG TY TNHH MINH HIỆP ĐỒNG NAI | C27: Lô 19C KCN An Phước | D27: An Phước | E27: Long Thành | F27: Đồng Nai | G27: Nhà máy | H27: 989420415 | I27: 132128 | J27: 1056 | K27: 32 | L27: CÔNG TY TNHH MINH HIỆP ĐỒNG NAI, Lô 19C KCN An Phước, An Phước, Long Thành, Đồng Nai | M27: 108505029 | N27: 1069555092 | O27: CSSX320026 | P27: 421246
A28: 27 | B28: Cty TNHH Seogwang VN | C28: Lô 14A KCN An Phước | D28: An Phước | E28: Long Thành | F28: Đồng Nai | G28: Nhà máy | H28: 0913927113 / 0902952646 (A Huy) | I28: 132128 | J28: 1056 | K28: 32 | L28: Cty TNHH Seogwang VN, Lô 14A KCN An Phước, An Phước, Long Thành, Đồng Nai | M28: 10853688 | N28: 1069618341 | O28: CSSX320027 | P28: 408140
A29: 28 | C29: Lô 16E KCN An Phước | D29: An Phước | E29: Long Thành | F29: Đồng Nai | G29: Nhà máy | H29: 0251-3528109 | I29: 132128 | J29: 1056 | K29: 32 | L29: , Lô 16E KCN An Phước, An Phước, Long Thành, Đồng Nai | M29: 10853688 | N29: 1069618341 | O29: CSSX320028 | P29: 415529
A30: 29 | B30: Cty TNHH Ueno Tekko Việt Nam | C30: Lô 18G KCN An Phước | D30: An Phước | E30: Long Thành | F30: Đồng Nai | G30: Nhà máy | H30: 0128.5093820 (Ms Hạnh) | I30: 132128 | J30: 1056 | K30: 32 | L30: Cty TNHH Ueno Tekko Việt Nam, Lô 18G KCN An Phước, An Phước, Long Thành, Đồng Nai | M30: 108217816 | N30: 1069166589 | O30: CSSX320029 | P30: 806303
A31: 30 | B31: CÔNG TY TNHH NEW CHEMICAL VIỆT NAM | C31: Lô 21A KCN An Phước | D31: An Phước | E31: Long Thành | F31: Đồng Nai | G31: Nhà máy | H31: 0909533914 (Hạnh) | I31: 132128 | J31: 1056 | K31: 32 | L31: CÔNG TY TNHH NEW CHEMICAL VIỆT NAM, Lô 21A KCN An Phước, An Phước, Long Thành, Đồng Nai | M31: 10853688 | N31: 1069618341 | O31: CSSX320030 | P31: 075535
A32: 31 | C32: Lô 25F KCN An Phước | D32: An Phước | E32: Long Thành | F32: Đồng Nai | G32: Nhà máy | H32: 0251-3686659/ 0988562479 (Ms Nhiên) | I32: 132128 | J32: 1056 | K32: 32 | L32: , Lô 25F KCN An Phước, An Phước, Long Thành, Đồng Nai | M32: 10853688 | N32: 1069618341 | O32: CSSX320031 | P32: 945646
A33: 32 | B33: CÔNG TY TNHH VIỆT NAM UMANO | C33: Lô 6D KCN An Phước | D33: An Phước | E33: Long Thành | F33: Đồng Nai | G33: Nhà máy | H33: 0978756599 (Ms Nhi) | I33: 132128 | J33: 1056 | K33: 32 | L33: CÔNG TY TNHH VIỆT NAM UMANO, Lô 6D KCN An Phước, An Phước, Long Thành, Đồng Nai | M33: 108490277 | N33: 1069628263 | O33: CSSX320032 | P33: 438756
A34: 33 | B34: CÔNG TY TNHH CA SYSTEM DONGNAI VIETNAM. | C34: Lô 8C KCN An Phước | D34: An Phước | E34: Long Thành | F34: Đồng Nai | G34: Nhà máy | I34: 132128 | J34: 1056 | K34: 32 | L34: CÔNG TY TNHH CA SYSTEM DONGNAI VIETNAM., Lô 8C KCN An Phước, An Phước, Long Thành, Đồng Nai | M34: 10853688 | N34: 1069618341 | O34: CSSX320033 | P34: 185543
A35: 34 | B35: CÔNG TY TNHH ARTISAN PLANET INTERNATIONAL | C35: Lô 22D KCN An Phước | D35: An Phước | E35: Long Thành | F35: Đồng Nai | G35: Nhà máy | I35: 132128 | J35: 1056 | K35: 32 | L35: CÔNG TY TNHH ARTISAN PLANET INTERNATIONAL, Lô 22D KCN An Phước, An Phước, Long Thành, Đồng Nai | M35: 10853688 | N35: 1069618341 | O35: CSSX320034 | P35: 023935
A36: 35 | B36: Cty CP Sonadezi Long Bình (trước đây là Xí nghiệp Dịch vụ KCN Sonadezi) | C36: Lô 19B KCN Gò Dầu | D36: Phước Bình | E36: Long Thành | F36: Đồng Nai | G36: Nhà máy | H36: 0251-841826 | I36: 721952 | J36: 1056 | K36: 32 | L36: Cty CP Sonadezi Long Bình (trước đây là Xí nghiệp Dịch vụ KCN Sonadezi), Lô 19B KCN Gò Dầu, Phước Bình, Long Thành, Đồng Nai | M36: 109075606 | N36: 1068548804 | O36: CSSX320035 | P36: 222817
A37: 36 | B37: Nhà máy Supe Phosphat Long Thành | C37: Lô 15A KCN Gò Dầu | D37: Phước Bình | E37: Long Thành | F37: Đồng Nai | G37: Nhà máy | H37: 0251-3841188 | I37: 721952 | J37: 1056 | K37: 32 | L37: Nhà máy Supe Phosphat Long Thành, Lô 15A KCN Gò Dầu, Phước Bình, Long Thành, Đồng Nai | M37: 106591977 | N37: 1070364009 | O37: CSSX320036 | P37: 389060
A38: 37 | B38: Cty TNHH Gas Sài Gòn | C38: Lô 15A KCN Gò Dầu | D38: Phước Bình | E38: Long Thành | F38: Đồng Nai | G38: Nhà máy | H38: 0251-542577 | I38: 721952 | J38: 1056 | K38: 32 | L38: Cty TNHH Gas Sài Gòn, Lô 15A KCN Gò Dầu, Phước Bình, Long Thành, Đồng Nai | M38: 106591977 | N38: 1070364009 | O38: CSSX320037 | P38: 394075
A39: 38 | B39: Cty TNHH Gas Công nghiệp | C39: Lô 15H KCN Gò Dầu | D39: Phước Bình | E39: Long Thành | F39: Đồng Nai | G39: Nhà máy | I39: 721952 | J39: 1056 | K39: 32 | L39: Cty TNHH Gas Công nghiệp, Lô 15H KCN Gò Dầu, Phước Bình, Long Thành, Đồng Nai | M39: 106591977 | N39: 1070364009 | O39: CSSX320038 | P39: 826222
A40: 39 | B40: Chi nhánh Cty Cổ phần Thương mại và sản xuất Đại Phát | C40: Lô 12A KCN Gò Dầu | D40: Phước Bình | E40: Long Thành | F40: Đồng Nai | G40: Nhà máy | H40: 090-3817189 | I40: 721952 | J40: 1056 | K40: 32 | L40: Chi nhánh Cty Cổ phần Thương mại và sản xuất Đại Phát, Lô 12A KCN Gò Dầu, Phước Bình, Long Thành, Đồng Nai | M40: 106591977 | N40: 1070364009 | O40: CSSX320039 | P40: 177718
A41: 40 | B41: Cty TNHH Hóa chất & phân bón Việt Tân (1) | C41: Lô 25H KCN Gò Dầu | D41: Phước Bình | E41: Long Thành | F41: Đồng Nai | G41: Nhà máy | H41: 0251-3841463 | I41: 721952 | J41: 1056 | K41: 32 | L41: Cty TNHH Hóa chất & phân bón Việt Tân (1), Lô 25H KCN Gò Dầu, Phước Bình, Long Thành, Đồng Nai | M41: 106591977 | N41: 1070364009 | O41: CSSX320040 | P41: 482911
A42: 41 | B42: Chi nhánh Công ty TNHHGas Phoenix (trước là MTV Khí hóa lỏng Cội Nguồn ) | C42: Lô 7A KCN Gò Dầu | D42: Phước Bình | E42: Long Thành | F42: Đồng Nai | G42: Nhà máy | H42: 0251-3542744/08-62787882 | I42: 721952 | J42: 1056 | K42: 32 | L42: Chi nhánh Công ty TNHHGas Phoenix (trước là MTV Khí hóa lỏng Cội Nguồn ), Lô 7A KCN Gò Dầu, Phước Bình, Long Thành, Đồng Nai | M42: 334483771 | N42: -1120740373 | O42: CSSX320041 | P42: 371767
...

Sheet BR-VT (Lỗi)
A1: STT | B1: Tên doanh nghiệp | C1: Số nhà | D1: Xã/Phường | E1: Quận/ | F1: Tỉnh/ | G1: Loại hình | H1: Liên hệ | I1: ID | J1: ID QH | K1: ID TP | L1: ĐIạ chỉ lấy lat-long | M1: Latitude | N1: Longitude
A2: 966 | B2: Bánh mì Ngọc Nga | C2: Khu phố 7 | E2: Côn Đảo | F2: Bà Rịa - Vũng Tàu | G2: CSSX | H2: 907444471 | I2: {=INDEX(DVHC!$E$778:$E$11831,MATCH(1,(D2=DVHC!$C$778:$C$11831)*(J2=DVHC!$H$778:$H$11831),0))} -> #N/A | J2: {=INDEX(DVHC!$E$65:$E$777,MATCH(1,(E2=DVHC!$C$65:$C$777)*(K2=DVHC!$H$65:$H$777),0))} -> 1041 | K2: =VLOOKUP(F2, DVHC!$C:$E, 3, 0) -> 17
A3: 969 | B3: Lò bún Thanh Quý | C3: Khu 8 | E3: Côn Đảo | F3: Bà Rịa - Vũng Tàu | G3: CSSX | I3: {=INDEX(DVHC!$E$778:$E$11831,MATCH(1,(D3=DVHC!$C$778:$C$11831)*(J3=DVHC!$H$778:$H$11831),0))} -> #N/A | J3: {=INDEX(DVHC!$E$65:$E$777,MATCH(1,(E3=DVHC!$C$65:$C$777)*(K3=DVHC!$H$65:$H$777),0))} -> 1041 | K3: =VLOOKUP(F3, DVHC!$C:$E, 3, 0) -> 17
A4: 971 | B4: Cơ sở bánh mỳ Hương Trang | C4: Khu 6 | E4: Côn Đảo | F4: Bà Rịa - Vũng Tàu | G4: CSSX | I4: {=INDEX(DVHC!$E$778:$E$11831,MATCH(1,(D4=DVHC!$C$778:$C$11831)*(J4=DVHC!$H$778:$H$11831),0))} -> #N/A | J4: {=INDEX(DVHC!$E$65:$E$777,MATCH(1,(E4=DVHC!$C$65:$C$777)*(K4=DVHC!$H$65:$H$777),0))} -> 1041 | K4: =VLOOKUP(F4, DVHC!$C:$E, 3, 0) -> 17
A5: 974 | B5: Vựa hải sản Hương Đào | C5: Chợ Côn Đảo | E5: Côn Đảo | F5: Bà Rịa - Vũng Tàu | G5: CSSX | H5: 0643.508.337 0643.508.537 | I5: {=INDEX(DVHC!$E$778:$E$11831,MATCH(1,(D5=DVHC!$C$778:$C$11831)*(J5=DVHC!$H$778:$H$11831),0))} -> #N/A | J5: {=INDEX(DVHC!$E$65:$E$777,MATCH(1,(E5=DVHC!$C$65:$C$777)*(K5=DVHC!$H$65:$H$777),0))} -> 1041 | K5: =VLOOKUP(F5, DVHC!$C:$E, 3, 0) -> 17
A6: 977 | B6: Cơ sở Thu Hồng | C6: Đường Nguyễn Huệ, khu 8 | E6: Côn Đảo | F6: Bà Rịa - Vũng Tàu | G6: CSSX | H6: 901628206 | I6: {=INDEX(DVHC!$E$778:$E$11831,MATCH(1,(D6=DVHC!$C$778:$C$11831)*(J6=DVHC!$H$778:$H$11831),0))} -> #N/A | J6: {=INDEX(DVHC!$E$65:$E$777,MATCH(1,(E6=DVHC!$C$65:$C$777)*(K6=DVHC!$H$65:$H$777),0))} -> 1041 | K6: =VLOOKUP(F6, DVHC!$C:$E, 3, 0) -> 17
A7: 979 | B7: Hộ kinh doanh cửa hàng Phúc Tường | C7: Khu 4 | E7: Côn Đảo | F7: Bà Rịa - Vũng Tàu | G7: CSSX | H7: 908078877 | I7: {=INDEX(DVHC!$E$778:$E$11831,MATCH(1,(D7=DVHC!$C$778:$C$11831)*(J7=DVHC!$H$778:$H$11831),0))} -> #N/A | J7: {=INDEX(DVHC!$E$65:$E$777,MATCH(1,(E7=DVHC!$C$65:$C$777)*(K7=DVHC!$H$65:$H$777),0))} -> 1041 | K7: =VLOOKUP(F7, DVHC!$C:$E, 3, 0) -> 17
A8: 982 | B8: Vựa hải sản, sản phẩm sạch nhất Côn Đảo | C8: 8B Lê Hồng Phong | E8: Côn Đảo | F8: Bà Rịa - Vũng Tàu | G8: CSSX | H8: 643830918 | I8: {=INDEX(DVHC!$E$778:$E$11831,MATCH(1,(D8=DVHC!$C$778:$C$11831)*(J8=DVHC!$H$778:$H$11831),0))} -> #N/A | J8: {=INDEX(DVHC!$E$65:$E$777,MATCH(1,(E8=DVHC!$C$65:$C$777)*(K8=DVHC!$H$65:$H$777),0))} -> 1041 | K8: =VLOOKUP(F8, DVHC!$C:$E, 3, 0) -> 17
A9: 987 | B9: Cơ sở Thủy sản Hai Nga | C9: Số 8, Lê Hồng Phong | E9: Côn Đảo | F9: Bà Rịa - Vũng Tàu | G9: CSSX | H9: 643832060 | I9: {=INDEX(DVHC!$E$778:$E$11831,MATCH(1,(D9=DVHC!$C$778:$C$11831)*(J9=DVHC!$H$778:$H$11831),0))} -> #N/A | J9: {=INDEX(DVHC!$E$65:$E$777,MATCH(1,(E9=DVHC!$C$65:$C$777)*(K9=DVHC!$H$65:$H$777),0))} -> 1041 | K9: =VLOOKUP(F9, DVHC!$C:$E, 3, 0) -> 17
A10: 988 | B10: Cơ sở Hoàng Mai | C10: Đường Phạm Văn Đồng, Khu 7 | E10: Côn Đảo | F10: Bà Rịa - Vũng Tàu | G10: CSSX | H10: 945642234 | I10: {=INDEX(DVHC!$E$778:$E$11831,MATCH(1,(D10=DVHC!$C$778:$C$11831)*(J10=DVHC!$H$778:$H$11831),0))} -> #N/A | J10: {=INDEX(DVHC!$E$65:$E$777,MATCH(1,(E10=DVHC!$C$65:$C$777)*(K10=DVHC!$H$65:$H$777),0))} -> 1041 | K10: =VLOOKUP(F10, DVHC!$C:$E, 3, 0) -> 17

Sheet Bắc Giang(lỗi)
A1: STT | B1: Tên doanh nghiệp | C1: Số nhà | D1: Xã, phường | E1: Quận/ | F1: Tỉnh/ | G1: Loại hình | H1: Liên hệ | I1: ID | J1: ID QH | K1: ID TP | L1: ĐIạ chỉ lấy lat-long
A2: 60 | B2: Công ty TNHH Keo San Vina Electronics | C2: Một phần lô CN5, Cụm công nghiệp Hợp Thịnh | D2: Hợp Thịnh | E2: Việt Yên | F2: Bắc Giang | G2: NM sx, lắp ráp các loại máy, thiết bị điện tử kiểm tra các tính năng của điện thoại | I2: {=INDEX(DVHC!$E$778:$E$11831,MATCH(1,(D2=DVHC!$C$778:$C$11831)*(J2=DVHC!$H$778:$H$11831),0))} -> #N/A | J2: {=INDEX(DVHC!$E$65:$E$777,MATCH(1,(E2=DVHC!$C$65:$C$777)*(K2=DVHC!$H$65:$H$777),0))} -> 2067 | K2: =VLOOKUP(F2, DVHC!$C:$E, 3, 0) -> 19 | L2: =B2&", "&C2&", "&D2&", "&E2&", "&F2 -> Công ty TNHH Keo San Vina Electronics, Một phần lô CN5, Cụm công nghiệp Hợp Thịnh, Hợp Thịnh, Việt Yên, Bắc Giang
A3: 352 | B3: Công ty Hạ quốc | F3: Bắc Giang | G3: Sản xuất gang tay | I3: {=INDEX(DVHC!$E$778:$E$11831,MATCH(1,(D3=DVHC!$C$778:$C$11831)*(J3=DVHC!$H$778:$H$11831),0))} -> #N/A | J3: {=INDEX(DVHC!$E$65:$E$777,MATCH(1,(E3=DVHC!$C$65:$C$777)*(K3=DVHC!$H$65:$H$777),0))} -> #N/A | K3: =VLOOKUP(F3, DVHC!$C:$E, 3, 0) -> 19 | L3: =B3&", "&C3&", "&D3&", "&E3&", "&F3 -> Công ty Hạ quốc, , , , Bắc Giang
A4: 413 | B4: DNTN Nguyễn Văn Hà | F4: Bắc Giang | G4: TM tổng hợp | I4: {=INDEX(DVHC!$E$778:$E$11831,MATCH(1,(D4=DVHC!$C$778:$C$11831)*(J4=DVHC!$H$778:$H$11831),0))} -> #N/A | J4: {=INDEX(DVHC!$E$65:$E$777,MATCH(1,(E4=DVHC!$C$65:$C$777)*(K4=DVHC!$H$65:$H$777),0))} -> #N/A | K4: =VLOOKUP(F4, DVHC!$C:$E, 3, 0) -> 19 | L4: =B4&", "&C4&", "&D4&", "&E4&", "&F4 -> DNTN Nguyễn Văn Hà, , , , Bắc Giang
A5: 413 | B5: DNTN Nguyễn Văn Hà | F5: Bắc Giang | G5: TM tổng hợp | I5: {=INDEX(DVHC!$E$778:$E$11831,MATCH(1,(D5=DVHC!$C$778:$C$11831)*(J5=DVHC!$H$778:$H$11831),0))} -> #N/A | J5: {=INDEX(DVHC!$E$65:$E$777,MATCH(1,(E5=DVHC!$C$65:$C$777)*(K5=DVHC!$H$65:$H$777),0))} -> #N/A | K5: =VLOOKUP(F5, DVHC!$C:$E, 3, 0) -> 19 | L5: =B5&", "&C5&", "&D5&", "&E5&", "&F5 -> DNTN Nguyễn Văn Hà, , , , Bắc Giang
A6: 457 | B6: Công ty CP chăn nuôi và chế biến gia cầm Trường Anh | C6: Liên Cơ | D6: NT Yên Thế | E6: Yên Thế | F6: Bắc Giang | H6: 2403524138 | I6: {=INDEX(DVHC!$E$778:$E$11831,MATCH(1,(D6=DVHC!$C$778:$C$11831)*(J6=DVHC!$H$778:$H$11831),0))} -> #N/A | J6: {=INDEX(DVHC!$E$65:$E$777,MATCH(1,(E6=DVHC!$C$65:$C$777)*(K6=DVHC!$H$65:$H$777),0))} -> 2579 | K6: =VLOOKUP(F6, DVHC!$C:$E, 3, 0) -> 19 | L6: =B6&", "&C6&", "&D6&", "&E6&", "&F6 -> Công ty CP chăn nuôi và chế biến gia cầm Trường Anh, Liên Cơ, NT Yên Thế, Yên Thế, Bắc Giang

Sheet Bắc Kạn (lỗi)
A1: STT | B1: Cơ sở | C1: Địa chỉ | D1: Phường/xã | E1: Quận/Huyện | F1: Tỉnh/Thành phố | G1: Loại hình | H1: Liên hệ | I1: ID Phường | J1: ID QH | K1: ID TP | L1: Địa chỉ lấy lat-long | M1: Latitude | N1: Longitude
A2: 20 | B2: Công ty TNHH Bình Thanh | C2: Pò Chẹt | D2: Sơn Thành | E2: Na Rì | F2: Bắc Kạn | G2: CSSX | H2: 0974.663.206; 0914.767.326 | I2: {=INDEX(DVHC!$E$778:$E$11831,MATCH(1,(D2=DVHC!$C$778:$C$11831)*(J2=DVHC!$H$778:$H$11831),0))} -> #N/A | J2: {=INDEX(DVHC!$E$65:$E$777,MATCH(1,(E2=DVHC!$C$65:$C$777)*(K2=DVHC!$H$65:$H$777),0))} -> 1556 | K2: =VLOOKUP(F2, DVHC!$C:$E, 3, 0) -> 20 | L2: =B2&", "&C2&", "&D2&", "&E2&", "&F2 -> Công ty TNHH Bình Thanh, Pò Chẹt, Sơn Thành, Na Rì, Bắc Kạn | M2: 221938556 | N2: 106156179
A3: 38 | B3: Công ty TNHH Sản xuất và Thương mại Hồng Ngọc | C3: KCN Thanh Bình | D3: Thanh Bình | E3: Chợ Mới | F3: Bắc Kạn | G3: NM | H3: 0912048293 (a.Nam – PGĐ) hoặc 0985975488 (c.Thiềm) | I3: {=INDEX(DVHC!$E$778:$E$11831,MATCH(1,(D3=DVHC!$C$778:$C$11831)*(J3=DVHC!$H$778:$H$11831),0))} -> #N/A | J3: {=INDEX(DVHC!$E$65:$E$777,MATCH(1,(E3=DVHC!$C$65:$C$777)*(K3=DVHC!$H$65:$H$777),0))} -> #N/A | K3: =VLOOKUP(F3, DVHC!$C:$E, 3, 0) -> 20 | L3: =B3&", "&C3&", "&D3&", "&E3&", "&F3 -> Công ty TNHH Sản xuất và Thương mại Hồng Ngọc, KCN Thanh Bình, Thanh Bình, Chợ Mới, Bắc Kạn | M3: 219362229 | N3: 1058042474

Sheet Lâm Đồng(lỗi)
A1: 415 | B1: Công Ty Trách Nhiệm Hữu Hạn Bình Thuận | E1: Di Linh | F1: Lâm Đồng | G1: Sản Xuất Chế Biến Gỗ | H1: 937519699 | I1: {=INDEX(DVHC!$E$778:$E$11831,MATCH(1,(D1=DVHC!$C$778:$C$11831)*(J1=DVHC!$H$778:$H$11831),0))} -> #N/A | J1: {=INDEX(DVHC!$E$65:$E$777,MATCH(1,(E1=DVHC!$C$65:$C$777)*(K1=DVHC!$H$65:$H$777),0))} -> 1326 | K1: =VLOOKUP(F1, DVHC!$C:$E, 3, 0) -> 46
A2: 593 | B2: Công ty CP Thủy điện Đa Dâng 3 | C2: Số 7/1 Thành Thái | D2: 14 | E2: Quận 10 Hồ Chí Minh | F2: Lâm Đồng | G2: Sản Xuất Điện | H2: 908162950 | I2: {=INDEX(DVHC!$E$778:$E$11831,MATCH(1,(D2=DVHC!$C$778:$C$11831)*(J2=DVHC!$H$778:$H$11831),0))} -> #N/A | J2: {=INDEX(DVHC!$E$65:$E$777,MATCH(1,(E2=DVHC!$C$65:$C$777)*(K2=DVHC!$H$65:$H$777),0))} -> #N/A | K2: =VLOOKUP(F2, DVHC!$C:$E, 3, 0) -> 46
A3: 596 | B3: Công ty CP Đầu tư và Phát triển điện Cao Nguyên | C3: 194/9 Lê Văn Quới | D3: Bình Hưng Hòa 3 | E3: Quận Bình Tân, Hồ Chí Minh | F3: Lâm Đồng | G3: Sản Xuất Điện | H3: 903839879 | I3: {=INDEX(DVHC!$E$778:$E$11831,MATCH(1,(D3=DVHC!$C$778:$C$11831)*(J3=DVHC!$H$778:$H$11831),0))} -> #N/A | J3: {=INDEX(DVHC!$E$65:$E$777,MATCH(1,(E3=DVHC!$C$65:$C$777)*(K3=DVHC!$H$65:$H$777),0))} -> #N/A | K3: =VLOOKUP(F3, DVHC!$C:$E, 3, 0) -> 46

Sheet Bạc Liêu(lỗi)
A1: STT | B1: Tên doanh nghiệp | C1: Số nhà | D1: Xã/phường | E1: Quận/ | F1: Tỉnh/Thành phố | G1: Loại hình | H1: Liên hệ | I1: ID | J1: ID QH | K1: ID TP | L1: ĐIạ chỉ lấy lat-long
A2: 17 | B2: Cty CP thuỷ sản Bạc Liêu | C2: Ấp 2 | D2: Giá Rai | E2: Giá Rai | F2: Bạc Liêu | G2: NM | H2: 2913849567 | I2: {=INDEX(DVHC!$E$778:$E$11831,MATCH(1,(D2=DVHC!$C$778:$C$11831)*(J2=DVHC!$H$778:$H$11831),0))} -> #N/A | J2: {=INDEX(DVHC!$E$65:$E$777,MATCH(1,(E2=DVHC!$C$65:$C$777)*(K2=DVHC!$H$65:$H$777),0))} -> 530 | K2: =VLOOKUP(F2, DVHC!$C:$E, 3, 0) -> 18 | L2: =B2&", "&C2&", "&D2&", "&E2&", "&F2 -> Cty CP thuỷ sản Bạc Liêu, Ấp 2, Giá Rai, Giá Rai, Bạc Liêu | M2: 9242902 | N2: 1054793803
A3: 74 | B3: DNTN Ngäc Oanh | C3: 1/214 Êp VÜnh An | D3: X· VÜnh Tr¹ch | E3: Bạc Liêu | F3: Bạc Liêu | G3: NM | H3: 2913980010 | I3: {=INDEX(DVHC!$E$778:$E$11831,MATCH(1,(D3=DVHC!$C$778:$C$11831)*(J3=DVHC!$H$778:$H$11831),0))} -> #N/A | J3: {=INDEX(DVHC!$E$65:$E$777,MATCH(1,(E3=DVHC!$C$65:$C$777)*(K3=DVHC!$H$65:$H$777),0))} -> 274 | K3: =VLOOKUP(F3, DVHC!$C:$E, 3, 0) -> 18 | L3: =B3&", "&C3&", "&D3&", "&E3&", "&F3 -> DNTN Ngäc Oanh, 1/214 Êp VÜnh An, X· VÜnh Tr¹ch, Bạc Liêu, Bạc Liêu | M3: 93090846 | N3: 1057938069
A4: 78 | B4: DNTN Hång S¬n | C4: Sè 96/3, Êp 15 | D4: X· VÜnh Mü B | E4: Hòa Bình | F4: Bạc Liêu | G4: NM | H4: 2913880471 | I4: {=INDEX(DVHC!$E$778:$E$11831,MATCH(1,(D4=DVHC!$C$778:$C$11831)*(J4=DVHC!$H$778:$H$11831),0))} -> #N/A | J4: {=INDEX(DVHC!$E$65:$E$777,MATCH(1,(E4=DVHC!$C$65:$C$777)*(K4=DVHC!$H$65:$H$777),0))} -> 1042 | K4: =VLOOKUP(F4, DVHC!$C:$E, 3, 0) -> 18 | L4: =B4&", "&C4&", "&D4&", "&E4&", "&F4 -> DNTN Hång S¬n, Sè 96/3, Êp 15, X· VÜnh Mü B, Hòa Bình, Bạc Liêu
A5: 79 | B5: DNTN Tấn Phát | C5: Êp C¸i trµm B | D5: Hoµ B×nh | E5: Hòa Bình | F5: Bạc Liêu | G5: NM | H5: 2913880224 | I5: {=INDEX(DVHC!$E$778:$E$11831,MATCH(1,(D5=DVHC!$C$778:$C$11831)*(J5=DVHC!$H$778:$H$11831),0))} -> #N/A | J5: {=INDEX(DVHC!$E$65:$E$777,MATCH(1,(E5=DVHC!$C$65:$C$777)*(K5=DVHC!$H$65:$H$777),0))} -> 1042 | K5: =VLOOKUP(F5, DVHC!$C:$E, 3, 0) -> 18 | L5: =B5&", "&C5&", "&D5&", "&E5&", "&F5 -> DNTN Tấn Phát, Êp C¸i trµm B, Hoµ B×nh, Hòa Bình, Bạc Liêu | M5: 92734758 | N5: 105629523
A6: 80 | B6: DNTN Hoµng Phó | C6: Êp VÜnh L¹c | D6: X· VÜnh ThÞnh | E6: Hòa Bình | F6: Bạc Liêu | G6: NM | H6: 2913892787 | I6: {=INDEX(DVHC!$E$778:$E$11831,MATCH(1,(D6=DVHC!$C$778:$C$11831)*(J6=DVHC!$H$778:$H$11831),0))} -> #N/A | J6: {=INDEX(DVHC!$E$65:$E$777,MATCH(1,(E6=DVHC!$C$65:$C$777)*(K6=DVHC!$H$65:$H$777),0))} -> 1042 | K6: =VLOOKUP(F6, DVHC!$C:$E, 3, 0) -> 18 | L6: =B6&", "&C6&", "&D6&", "&E6&", "&F6 -> DNTN Hoµng Phó, Êp VÜnh L¹c, X· VÜnh ThÞnh, Hòa Bình, Bạc Liêu | M6: 92835317 | N6: 1056300312
A7: 81 | B7: Hång Nga - Chi Nh¸nh DNTN Xu©n Th¾ng | C7: Êp VÜnh L¹c | D7: x· VÜnh ThÞnh | E7: Hòa Bình | F7: Bạc Liêu | G7: NM | H7: 2913892787 | I7: {=INDEX(DVHC!$E$778:$E$11831,MATCH(1,(D7=DVHC!$C$778:$C$11831)*(J7=DVHC!$H$778:$H$11831),0))} -> #N/A | J7: {=INDEX(DVHC!$E$65:$E$777,MATCH(1,(E7=DVHC!$C$65:$C$777)*(K7=DVHC!$H$65:$H$777),0))} -> 1042 | K7: =VLOOKUP(F7, DVHC!$C:$E, 3, 0) -> 18 | L7: =B7&", "&C7&", "&D7&", "&E7&", "&F7 -> Hång Nga - Chi Nh¸nh DNTN Xu©n Th¾ng, Êp VÜnh L¹c, x· VÜnh ThÞnh, Hòa Bình, Bạc Liêu | M7: 92835317 | N7: 1056300312
A8: 83 | B8: DNTN H­ng Ph¸t I | C8: 206 H­¬ng Lé 6 Êp Cï Lao | D8: x· H­ng Héi | E8: Vĩnh Lợi | F8: Bạc Liêu | G8: NM | H8: 2913820710 | I8: {=INDEX(DVHC!$E$778:$E$11831,MATCH(1,(D8=DVHC!$C$778:$C$11831)*(J8=DVHC!$H$778:$H$11831),0))} -> #N/A | J8: {=INDEX(DVHC!$E$65:$E$777,MATCH(1,(E8=DVHC!$C$65:$C$777)*(K8=DVHC!$H$65:$H$777),0))} -> 1810 | K8: =VLOOKUP(F8, DVHC!$C:$E, 3, 0) -> 18 | L8: =B8&", "&C8&", "&D8&", "&E8&", "&F8 -> DNTN H­ng Ph¸t I, 206 H­¬ng Lé 6 Êp Cï Lao, x· H­ng Héi, Vĩnh Lợi, Bạc Liêu | M8: 9.2515555e+15 | N8: 1055136472
A9: 88 | B9: DNTN Hải Hưng | C9: Khu III | D9: Gành Hào | E9: Giá Rai | F9: Bạc Liêu | G9: NM | H9: 2913845123 | I9: {=INDEX(DVHC!$E$778:$E$11831,MATCH(1,(D9=DVHC!$C$778:$C$11831)*(J9=DVHC!$H$778:$H$11831),0))} -> #N/A | J9: {=INDEX(DVHC!$E$65:$E$777,MATCH(1,(E9=DVHC!$C$65:$C$777)*(K9=DVHC!$H$65:$H$777),0))} -> 530 | K9: =VLOOKUP(F9, DVHC!$C:$E, 3, 0) -> 18 | L9: =B9&", "&C9&", "&D9&", "&E9&", "&F9 -> DNTN Hải Hưng, Khu III, Gành Hào, Giá Rai, Bạc Liêu | M9: 92291195 | N9: 1054603922
A10: 89 | B10: DNTN Thµnh Lîi | C10: Êp 1 | D10: Hé Phßng | E10: Giá Rai | F10: Bạc Liêu | G10: NM | H10: 0291.3850018; 0919434256 | I10: {=INDEX(DVHC!$E$778:$E$11831,MATCH(1,(D10=DVHC!$C$778:$C$11831)*(J10=DVHC!$H$778:$H$11831),0))} -> #N/A | J10: {=INDEX(DVHC!$E$65:$E$777,MATCH(1,(E10=DVHC!$C$65:$C$777)*(K10=DVHC!$H$65:$H$777),0))} -> 530 | K10: =VLOOKUP(F10, DVHC!$C:$E, 3, 0) -> 18 | L10: =B10&", "&C10&", "&D10&", "&E10&", "&F10 -> DNTN Thµnh Lîi, Êp 1, Hé Phßng, Giá Rai, Bạc Liêu | M10: 92213584 | N10: 105348246
A11: 90 | B11: DNTN Thµnh H­ng | C11: Êp 1 | D11: X· T©n Phong | E11: Giá Rai | F11: Bạc Liêu | G11: NM | H11: 2913851375 | I11: {=INDEX(DVHC!$E$778:$E$11831,MATCH(1,(D11=DVHC!$C$778:$C$11831)*(J11=DVHC!$H$778:$H$11831),0))} -> #N/A | J11: {=INDEX(DVHC!$E$65:$E$777,MATCH(1,(E11=DVHC!$C$65:$C$777)*(K11=DVHC!$H$65:$H$777),0))} -> 530 | K11: =VLOOKUP(F11, DVHC!$C:$E, 3, 0) -> 18 | L11: =B11&", "&C11&", "&D11&", "&E11&", "&F11 -> DNTN Thµnh H­ng, Êp 1, X· T©n Phong, Giá Rai, Bạc Liêu | M11: 9260136 | N11: 1053753129
A12: 91 | B12: DNTN Hoµng Nam | C12: QL 1A, Êp Xãm Míi | D12: X· T©n Th¹nh | E12: Giá Rai | F12: Bạc Liêu | G12: NM | H12: 2913506001 | I12: {=INDEX(DVHC!$E$778:$E$11831,MATCH(1,(D12=DVHC!$C$778:$C$11831)*(J12=DVHC!$H$778:$H$11831),0))} -> #N/A | J12: {=INDEX(DVHC!$E$65:$E$777,MATCH(1,(E12=DVHC!$C$65:$C$777)*(K12=DVHC!$H$65:$H$777),0))} -> 530 | K12: =VLOOKUP(F12, DVHC!$C:$E, 3, 0) -> 18 | L12: =B12&", "&C12&", "&D12&", "&E12&", "&F12 -> DNTN Hoµng Nam, QL 1A, Êp Xãm Míi, X· T©n Th¹nh, Giá Rai, Bạc Liêu | M12: 9.2517495e+15 | N12: 1055136224
A13: 93 | B13: DNTN TuÊn Thµnh | C13: Êp 5 | D13: Giá Rai | E13: Giá Rai | F13: Bạc Liêu | G13: NM | H13: 2913849426 | I13: {=INDEX(DVHC!$E$778:$E$11831,MATCH(1,(D13=DVHC!$C$778:$C$11831)*(J13=DVHC!$H$778:$H$11831),0))} -> #N/A | J13: {=INDEX(DVHC!$E$65:$E$777,MATCH(1,(E13=DVHC!$C$65:$C$777)*(K13=DVHC!$H$65:$H$777),0))} -> 530 | K13: =VLOOKUP(F13, DVHC!$C:$E, 3, 0) -> 18 | L13: =B13&", "&C13&", "&D13&", "&E13&", "&F13 -> DNTN TuÊn Thµnh, Êp 5, Giá Rai, Giá Rai, Bạc Liêu | M13: 92420549 | N13: 1054691899
A14: 94 | B14: DNTN Kim C­¬ng | C14: L¸ng Trßn | D14: X· Phong Th¹nh §«ng A | E14: Giá Rai | F14: Bạc Liêu | G14: NM | H14: 2913852714 | I14: {=INDEX(DVHC!$E$778:$E$11831,MATCH(1,(D14=DVHC!$C$778:$C$11831)*(J14=DVHC!$H$778:$H$11831),0))} -> #N/A | J14: {=INDEX(DVHC!$E$65:$E$777,MATCH(1,(E14=DVHC!$C$65:$C$777)*(K14=DVHC!$H$65:$H$777),0))} -> 530 | K14: =VLOOKUP(F14, DVHC!$C:$E, 3, 0) -> 18 | L14: =B14&", "&C14&", "&D14&", "&E14&", "&F14 -> DNTN Kim C­¬ng, L¸ng Trßn, X· Phong Th¹nh §«ng A, Giá Rai, Bạc Liêu | M14: 9260136 | N14: 1053753129
A15: 95 | B15: DNTN ViÖt TiÕn (Việt Thảo) | C15: 263 Êp 2 | D15: X· Phong Th¹nh §«ng A | E15: Giá Rai | F15: Bạc Liêu | G15: NM | H15: 2913852639 | I15: {=INDEX(DVHC!$E$778:$E$11831,MATCH(1,(D15=DVHC!$C$778:$C$11831)*(J15=DVHC!$H$778:$H$11831),0))} -> #N/A | J15: {=INDEX(DVHC!$E$65:$E$777,MATCH(1,(E15=DVHC!$C$65:$C$777)*(K15=DVHC!$H$65:$H$777),0))} -> 530 | K15: =VLOOKUP(F15, DVHC!$C:$E, 3, 0) -> 18 | L15: =B15&", "&C15&", "&D15&", "&E15&", "&F15 -> DNTN ViÖt TiÕn (Việt Thảo), 263 Êp 2, X· Phong Th¹nh §«ng A, Giá Rai, Bạc Liêu | M15: 9.317087e+15 | N15: 105494688
A16: 98 | B16: DNTN Chí Thành | C16: Ấp 2 | D16: Giá Rai | E16: Giá Rai | F16: Bạc Liêu | G16: NM | H16: 0291.3850804 | I16: {=INDEX(DVHC!$E$778:$E$11831,MATCH(1,(D16=DVHC!$C$778:$C$11831)*(J16=DVHC!$H$778:$H$11831),0))} -> #N/A | J16: {=INDEX(DVHC!$E$65:$E$777,MATCH(1,(E16=DVHC!$C$65:$C$777)*(K16=DVHC!$H$65:$H$777),0))} -> 530 | K16: =VLOOKUP(F16, DVHC!$C:$E, 3, 0) -> 18 | L16: =B16&", "&C16&", "&D16&", "&E16&", "&F16 -> DNTN Chí Thành, Ấp 2, Giá Rai, Giá Rai, Bạc Liêu | M16: 92383008 | N16: 1054579407
A17: 106 | B17: DNTN Tr­¬ng Thanh | C17: Ấp Hßa 2 | D17: X· Long §iÒn | E17: Đông Hải | F17: Bạc Liêu | G17: NM | H17: 0291.3840569; 0291.2244288 | I17: {=INDEX(DVHC!$E$778:$E$11831,MATCH(1,(D17=DVHC!$C$778:$C$11831)*(J17=DVHC!$H$778:$H$11831),0))} -> #N/A | J17: {=INDEX(DVHC!$E$65:$E$777,MATCH(1,(E17=DVHC!$C$65:$C$777)*(K17=DVHC!$H$65:$H$777),0))} -> 1298 | K17: =VLOOKUP(F17, DVHC!$C:$E, 3, 0) -> 18 | L17: =B17&", "&C17&", "&D17&", "&E17&", "&F17 -> DNTN Tr­¬ng Thanh, Ấp Hßa 2, X· Long §iÒn, Đông Hải, Bạc Liêu | M17: 91487573 | N17: 1055357139
A18: 107 | B18: DNTN T­ TriÖu | C18: Ấp C¸i Keo | D18: An Phóc | E18: Đông Hải | F18: Bạc Liêu | G18: NM | H18: 1237098111 | I18: {=INDEX(DVHC!$E$778:$E$11831,MATCH(1,(D18=DVHC!$C$778:$C$11831)*(J18=DVHC!$H$778:$H$11831),0))} -> #N/A | J18: {=INDEX(DVHC!$E$65:$E$777,MATCH(1,(E18=DVHC!$C$65:$C$777)*(K18=DVHC!$H$65:$H$777),0))} -> 1298 | K18: =VLOOKUP(F18, DVHC!$C:$E, 3, 0) -> 18 | L18: =B18&", "&C18&", "&D18&", "&E18&", "&F18 -> DNTN T­ TriÖu, Ấp C¸i Keo, An Phóc, Đông Hải, Bạc Liêu | M18: 9104407 | N18: 10529897
A19: 108 | B19: DNTN YÕn Ph¸t | C19: Êp Böu 2 | D19: X· Long §iÒn §«ng | E19: Đông Hải | F19: Bạc Liêu | G19: NM | H19: 2913840623 | I19: {=INDEX(DVHC!$E$778:$E$11831,MATCH(1,(D19=DVHC!$C$778:$C$11831)*(J19=DVHC!$H$778:$H$11831),0))} -> #N/A | J19: {=INDEX(DVHC!$E$65:$E$777,MATCH(1,(E19=DVHC!$C$65:$C$777)*(K19=DVHC!$H$65:$H$777),0))} -> 1298 | K19: =VLOOKUP(F19, DVHC!$C:$E, 3, 0) -> 18 | L19: =B19&", "&C19&", "&D19&", "&E19&", "&F19 -> DNTN YÕn Ph¸t, Êp Böu 2, X· Long §iÒn §«ng, Đông Hải, Bạc Liêu | M19: 91487573 | N19: 1055357139
A20: 109 | B20: DNTN ChÝ NguyÖn | C20: Êp Mü §iÒn | D20: X· Long §iÒn §«ng | E20: Đông Hải | F20: Bạc Liêu | G20: NM | H20: 0291.3858034; 0291.3892184 | I20: {=INDEX(DVHC!$E$778:$E$11831,MATCH(1,(D20=DVHC!$C$778:$C$11831)*(J20=DVHC!$H$778:$H$11831),0))} -> #N/A | J20: {=INDEX(DVHC!$E$65:$E$777,MATCH(1,(E20=DVHC!$C$65:$C$777)*(K20=DVHC!$H$65:$H$777),0))} -> 1298 | K20: =VLOOKUP(F20, DVHC!$C:$E, 3, 0) -> 18 | L20: =B20&", "&C20&", "&D20&", "&E20&", "&F20 -> DNTN ChÝ NguyÖn, Êp Mü §iÒn, X· Long §iÒn §«ng, Đông Hải, Bạc Liêu | M20: 91624336 | N20: 1054563904
A21: 110 | B21: DNTN H¶i §¨ng | C21: Khu vùc 4 | D21: Gµnh Hµo | E21: Đông Hải | F21: Bạc Liêu | G21: NM | H21: 2913844036 | I21: {=INDEX(DVHC!$E$778:$E$11831,MATCH(1,(D21=DVHC!$C$778:$C$11831)*(J21=DVHC!$H$778:$H$11831),0))} -> #N/A | J21: {=INDEX(DVHC!$E$65:$E$777,MATCH(1,(E21=DVHC!$C$65:$C$777)*(K21=DVHC!$H$65:$H$777),0))} -> 1298 | K21: =VLOOKUP(F21, DVHC!$C:$E, 3, 0) -> 18 | L21: =B21&", "&C21&", "&D21&", "&E21&", "&F21 -> DNTN H¶i §¨ng, Khu vùc 4, Gµnh Hµo, Đông Hải, Bạc Liêu | M21: 9.1630642e+15 | N21: 1054536718
A22: 111 | B22: DNTN NguyÔn V¨n ThuËn | C22: Khu vùc 4 | D22: Gµnh Hµo | E22: Đông Hải | F22: Bạc Liêu | G22: NM | H22: 0918209711; 0291.2214234 | I22: {=INDEX(DVHC!$E$778:$E$11831,MATCH(1,(D22=DVHC!$C$778:$C$11831)*(J22=DVHC!$H$778:$H$11831),0))} -> #N/A | J22: {=INDEX(DVHC!$E$65:$E$777,MATCH(1,(E22=DVHC!$C$65:$C$777)*(K22=DVHC!$H$65:$H$777),0))} -> 1298 | K22: =VLOOKUP(F22, DVHC!$C:$E, 3, 0) -> 18 | L22: =B22&", "&C22&", "&D22&", "&E22&", "&F22 -> DNTN NguyÔn V¨n ThuËn, Khu vùc 4, Gµnh Hµo, Đông Hải, Bạc Liêu | M22: 9.0390314e+15 | N22: 1054289297
A23: 112 | B23: DNTN Phóc Lîi | C23: Êp Lung S×nh | D23: X· §Þnh Thµnh | E23: Đông Hải | F23: Bạc Liêu | G23: NM | H23: 919345679 | I23: {=INDEX(DVHC!$E$778:$E$11831,MATCH(1,(D23=DVHC!$C$778:$C$11831)*(J23=DVHC!$H$778:$H$11831),0))} -> #N/A | J23: {=INDEX(DVHC!$E$65:$E$777,MATCH(1,(E23=DVHC!$C$65:$C$777)*(K23=DVHC!$H$65:$H$777),0))} -> 1298 | K23: =VLOOKUP(F23, DVHC!$C:$E, 3, 0) -> 18 | L23: =B23&", "&C23&", "&D23&", "&E23&", "&F23 -> DNTN Phóc Lîi, Êp Lung S×nh, X· §Þnh Thµnh, Đông Hải, Bạc Liêu | M23: 91323056 | N23: 1052955575
A24: 122 | B24: DNTN Nh©n Tµi 2 | C24: Sè 14 Êp Ph­íc Thành, | D24: X· Ph­íc Long | E24: phước Long | F24: Bạc Liêu | G24: NM | H24: 2913866676 | I24: {=INDEX(DVHC!$E$778:$E$11831,MATCH(1,(D24=DVHC!$C$778:$C$11831)*(J24=DVHC!$H$778:$H$11831),0))} -> #N/A | J24: {=INDEX(DVHC!$E$65:$E$777,MATCH(1,(E24=DVHC!$C$65:$C$777)*(K24=DVHC!$H$65:$H$777),0))} -> 1554 | K24: =VLOOKUP(F24, DVHC!$C:$E, 3, 0) -> 18 | L24: =B24&", "&C24&", "&D24&", "&E24&", "&F24 -> DNTN Nh©n Tµi 2, Sè 14 Êp Ph­íc Thành,, X· Ph­íc Long, phước Long, Bạc Liêu | M24: 94006715 | N24: 1054302383
A25: 126 | B25: DNTN H­ng Thµnh | C25: Ấp 15 | D25: X· VÜnh Mü B, | E25: Hòa Bình | F25: Bạc Liêu | G25: NM | H25: 291.38816 | I25: {=INDEX(DVHC!$E$778:$E$11831,MATCH(1,(D25=DVHC!$C$778:$C$11831)*(J25=DVHC!$H$778:$H$11831),0))} -> #N/A | J25: {=INDEX(DVHC!$E$65:$E$777,MATCH(1,(E25=DVHC!$C$65:$C$777)*(K25=DVHC!$H$65:$H$777),0))} -> 1042 | K25: =VLOOKUP(F25, DVHC!$C:$E, 3, 0) -> 18 | L25: =B25&", "&C25&", "&D25&", "&E25&", "&F25 -> DNTN H­ng Thµnh, Ấp 15, X· VÜnh Mü B,, Hòa Bình, Bạc Liêu
A26: 127 | B26: DNTN §øc Lîi | C26: Ấp 18 | D26: X· VÜnh Mü B, | E26: Hòa Bình | F26: Bạc Liêu | G26: NM | H26: 2913830316 | I26: {=INDEX(DVHC!$E$778:$E$11831,MATCH(1,(D26=DVHC!$C$778:$C$11831)*(J26=DVHC!$H$778:$H$11831),0))} -> #N/A | J26: {=INDEX(DVHC!$E$65:$E$777,MATCH(1,(E26=DVHC!$C$65:$C$777)*(K26=DVHC!$H$65:$H$777),0))} -> 1042 | K26: =VLOOKUP(F26, DVHC!$C:$E, 3, 0) -> 18 | L26: =B26&", "&C26&", "&D26&", "&E26&", "&F26 -> DNTN §øc Lîi, Ấp 18, X· VÜnh Mü B,, Hòa Bình, Bạc Liêu
A27: 131 | B27: DNTN T©n H­ng | C27: Ấp Trung H­ng 3 | D27: X· VÜnh H­ng | E27: Vĩnh Lợi | F27: Bạc Liêu | G27: NM | H27: 0291.3890510; 0917151224 | I27: {=INDEX(DVHC!$E$778:$E$11831,MATCH(1,(D27=DVHC!$C$778:$C$11831)*(J27=DVHC!$H$778:$H$11831),0))} -> #N/A | J27: {=INDEX(DVHC!$E$65:$E$777,MATCH(1,(E27=DVHC!$C$65:$C$777)*(K27=DVHC!$H$65:$H$777),0))} -> 1810 | K27: =VLOOKUP(F27, DVHC!$C:$E, 3, 0) -> 18 | L27: =B27&", "&C27&", "&D27&", "&E27&", "&F27 -> DNTN T©n H­ng, Ấp Trung H­ng 3, X· VÜnh H­ng, Vĩnh Lợi, Bạc Liêu | M27: 93871631 | N27: 1056119301
A28: 132 | B28: DNTN Tµi Lîi | C28: Ấp XÎo ChÝch | D28: X· Ch©u Thíi | E28: Vĩnh Lợi | F28: Bạc Liêu | G28: NM | H28: 0291.3830318; 0913892318 | I28: {=INDEX(DVHC!$E$778:$E$11831,MATCH(1,(D28=DVHC!$C$778:$C$11831)*(J28=DVHC!$H$778:$H$11831),0))} -> #N/A | J28: {=INDEX(DVHC!$E$65:$E$777,MATCH(1,(E28=DVHC!$C$65:$C$777)*(K28=DVHC!$H$65:$H$777),0))} -> 1810 | K28: =VLOOKUP(F28, DVHC!$C:$E, 3, 0) -> 18 | L28: =B28&", "&C28&", "&D28&", "&E28&", "&F28 -> DNTN Tµi Lîi, Ấp XÎo ChÝch, X· Ch©u Thíi, Vĩnh Lợi, Bạc Liêu | M28: 9358423 | N28: 105652983
A29: 133 | B29: DNTN §øc Lîi | C29: Ấp XÎo ChÝch | D29: X· Ch©u Thíi | E29: Vĩnh Lợi | F29: Bạc Liêu | G29: NM | H29: 0291.3830316; 091714099 | I29: {=INDEX(DVHC!$E$778:$E$11831,MATCH(1,(D29=DVHC!$C$778:$C$11831)*(J29=DVHC!$H$778:$H$11831),0))} -> #N/A | J29: {=INDEX(DVHC!$E$65:$E$777,MATCH(1,(E29=DVHC!$C$65:$C$777)*(K29=DVHC!$H$65:$H$777),0))} -> 1810 | K29: =VLOOKUP(F29, DVHC!$C:$E, 3, 0) -> 18 | L29: =B29&", "&C29&", "&D29&", "&E29&", "&F29 -> DNTN §øc Lîi, Ấp XÎo ChÝch, X· Ch©u Thíi, Vĩnh Lợi, Bạc Liêu | M29: 9358423 | N29: 105652983
A30: 134 | B30: DNTN H­ng Ph¸t | C30: Số 246 ấp cái Dầy | D30: X· Ch©u H­ng | E30: Vĩnh Lợi | F30: Bạc Liêu | G30: NM | H30: 2913830317 | I30: {=INDEX(DVHC!$E$778:$E$11831,MATCH(1,(D30=DVHC!$C$778:$C$11831)*(J30=DVHC!$H$778:$H$11831),0))} -> #N/A | J30: {=INDEX(DVHC!$E$65:$E$777,MATCH(1,(E30=DVHC!$C$65:$C$777)*(K30=DVHC!$H$65:$H$777),0))} -> 1810 | K30: =VLOOKUP(F30, DVHC!$C:$E, 3, 0) -> 18 | L30: =B30&", "&C30&", "&D30&", "&E30&", "&F30 -> DNTN H­ng Ph¸t, Số 246 ấp cái Dầy, X· Ch©u H­ng, Vĩnh Lợi, Bạc Liêu | M30: 93871631 | N30: 1056119301
A31: 135 | B31: DNTN Ích H­ng | C31: Ấp T©n T¹o | D31: X· Ch©u H­ng | E31: Vĩnh Lợi | F31: Bạc Liêu | G31: NM | H31: 0291.3821054; 0913990204 | I31: {=INDEX(DVHC!$E$778:$E$11831,MATCH(1,(D31=DVHC!$C$778:$C$11831)*(J31=DVHC!$H$778:$H$11831),0))} -> #N/A | J31: {=INDEX(DVHC!$E$65:$E$777,MATCH(1,(E31=DVHC!$C$65:$C$777)*(K31=DVHC!$H$65:$H$777),0))} -> 1810 | K31: =VLOOKUP(F31, DVHC!$C:$E, 3, 0) -> 18 | L31: =B31&", "&C31&", "&D31&", "&E31&", "&F31 -> DNTN Ích H­ng, Ấp T©n T¹o, X· Ch©u H­ng, Vĩnh Lợi, Bạc Liêu | M31: 3709024 | N31: -95712891
A32: 136 | B32: DNTN Anh XuyÕn | C32: Ấp XÎo ChÝch | D32: Ch©u Thíi | E32: Vĩnh Lợi | F32: Bạc Liêu | G32: NM | H32: 2913830315 | I32: {=INDEX(DVHC!$E$778:$E$11831,MATCH(1,(D32=DVHC!$C$778:$C$11831)*(J32=DVHC!$H$778:$H$11831),0))} -> #N/A | J32: {=INDEX(DVHC!$E$65:$E$777,MATCH(1,(E32=DVHC!$C$65:$C$777)*(K32=DVHC!$H$65:$H$777),0))} -> 1810 | K32: =VLOOKUP(F32, DVHC!$C:$E, 3, 0) -> 18 | L32: =B32&", "&C32&", "&D32&", "&E32&", "&F32 -> DNTN Anh XuyÕn, Ấp XÎo ChÝch, Ch©u Thíi, Vĩnh Lợi, Bạc Liêu | M32: 9358423 | N32: 105652983
A33: 137 | B33: DNTN Phong H­ng | C33: Sè 227 Êp C¸i Trµm I | D33: X· Ch©u H­ng A | E33: Vĩnh Lợi | F33: Bạc Liêu | G33: NM | H33: 2913830365 | I33: {=INDEX(DVHC!$E$778:$E$11831,MATCH(1,(D33=DVHC!$C$778:$C$11831)*(J33=DVHC!$H$778:$H$11831),0))} -> #N/A | J33: {=INDEX(DVHC!$E$65:$E$777,MATCH(1,(E33=DVHC!$C$65:$C$777)*(K33=DVHC!$H$65:$H$777),0))} -> 1810 | K33: =VLOOKUP(F33, DVHC!$C:$E, 3, 0) -> 18 | L33: =B33&", "&C33&", "&D33&", "&E33&", "&F33 -> DNTN Phong H­ng, Sè 227 Êp C¸i Trµm I, X· Ch©u H­ng A, Vĩnh Lợi, Bạc Liêu | M33: 93995064 | N33: 1055767493
A34: 138 | B34: DNTN Tµi Nguyªn II | C34: Ấp Cï Lao | D34: X· H­ng Héi | E34: Vĩnh Lợi | F34: Bạc Liêu | G34: NM | H34: 0291.3505559; 0918777634 | I34: {=INDEX(DVHC!$E$778:$E$11831,MATCH(1,(D34=DVHC!$C$778:$C$11831)*(J34=DVHC!$H$778:$H$11831),0))} -> #N/A | J34: {=INDEX(DVHC!$E$65:$E$777,MATCH(1,(E34=DVHC!$C$65:$C$777)*(K34=DVHC!$H$65:$H$777),0))} -> 1810 | K34: =VLOOKUP(F34, DVHC!$C:$E, 3, 0) -> 18 | L34: =B34&", "&C34&", "&D34&", "&E34&", "&F34 -> DNTN Tµi Nguyªn II, Ấp Cï Lao, X· H­ng Héi, Vĩnh Lợi, Bạc Liêu | M34: 93372716 | N34: 1057644596
A35: 145 | B35: DNTN Lâm Quèc Th¾ng | C35: Êp Long Thµnh | D35: TT .Ph­íc Long | E35: Phước Long | F35: Bạc Liêu | G35: NM | H35: 2913864105 | I35: {=INDEX(DVHC!$E$778:$E$11831,MATCH(1,(D35=DVHC!$C$778:$C$11831)*(J35=DVHC!$H$778:$H$11831),0))} -> #N/A | J35: {=INDEX(DVHC!$E$65:$E$777,MATCH(1,(E35=DVHC!$C$65:$C$777)*(K35=DVHC!$H$65:$H$777),0))} -> 1554 | K35: =VLOOKUP(F35, DVHC!$C:$E, 3, 0) -> 18 | L35: =B35&", "&C35&", "&D35&", "&E35&", "&F35 -> DNTN Lâm Quèc Th¾ng, Êp Long Thµnh, TT .Ph­íc Long, Phước Long, Bạc Liêu | M35: 94386589 | N35: 1054645171
A36: 146 | B36: DNTN Hßang Nam | C36: Êp VÜnh Mü | D36: x· VÜnh Phó §«ng | E36: Phước Long | F36: Bạc Liêu | G36: NM | H36: 2913864979 | I36: {=INDEX(DVHC!$E$778:$E$11831,MATCH(1,(D36=DVHC!$C$778:$C$11831)*(J36=DVHC!$H$778:$H$11831),0))} -> #N/A | J36: {=INDEX(DVHC!$E$65:$E$777,MATCH(1,(E36=DVHC!$C$65:$C$777)*(K36=DVHC!$H$65:$H$777),0))} -> 1554 | K36: =VLOOKUP(F36, DVHC!$C:$E, 3, 0) -> 18 | L36: =B36&", "&C36&", "&D36&", "&E36&", "&F36 -> DNTN Hßang Nam, Êp VÜnh Mü, x· VÜnh Phó §«ng, Phước Long, Bạc Liêu | M36: 94293187 | N36: 1055122694
A37: 147 | B37: DNTN Ph­¬ng TÝn | C37: Ấp VÜnh Hßa | D37: X· VÜnh Thanh | E37: Phước Long | F37: Bạc Liêu | G37: NM | H37: 2913869212 | I37: {=INDEX(DVHC!$E$778:$E$11831,MATCH(1,(D37=DVHC!$C$778:$C$11831)*(J37=DVHC!$H$778:$H$11831),0))} -> #N/A | J37: {=INDEX(DVHC!$E$65:$E$777,MATCH(1,(E37=DVHC!$C$65:$C$777)*(K37=DVHC!$H$65:$H$777),0))} -> 1554 | K37: =VLOOKUP(F37, DVHC!$C:$E, 3, 0) -> 18 | L37: =B37&", "&C37&", "&D37&", "&E37&", "&F37 -> DNTN Ph­¬ng TÝn, Ấp VÜnh Hßa, X· VÜnh Thanh, Phước Long, Bạc Liêu | M37: 9.3657651e+15 | N37: 105488828
A38: 148 | B38: DNTN C«ng Thµnh | C38: Ấp VÜnh §«ng | D38: X· VÜnh Thanh | E38: Phước Long | F38: Bạc Liêu | G38: NM | H38: 2913869237 | I38: {=INDEX(DVHC!$E$778:$E$11831,MATCH(1,(D38=DVHC!$C$778:$C$11831)*(J38=DVHC!$H$778:$H$11831),0))} -> #N/A | J38: {=INDEX(DVHC!$E$65:$E$777,MATCH(1,(E38=DVHC!$C$65:$C$777)*(K38=DVHC!$H$65:$H$777),0))} -> 1554 | K38: =VLOOKUP(F38, DVHC!$C:$E, 3, 0) -> 18 | L38: =B38&", "&C38&", "&D38&", "&E38&", "&F38 -> DNTN C«ng Thµnh, Ấp VÜnh §«ng, X· VÜnh Thanh, Phước Long, Bạc Liêu | M38: 9.3674588e+15 | N38: 1054809316
A39: 150 | B39: DNTN Toàn Ph¸t | C39: Êp 3 | D39: x· VÜnh Phó §«ng | E39: Phước Long | F39: Bạc Liêu | G39: NM | H39: 2913864581 | I39: {=INDEX(DVHC!$E$778:$E$11831,MATCH(1,(D39=DVHC!$C$778:$C$11831)*(J39=DVHC!$H$778:$H$11831),0))} -> #N/A | J39: {=INDEX(DVHC!$E$65:$E$777,MATCH(1,(E39=DVHC!$C$65:$C$777)*(K39=DVHC!$H$65:$H$777),0))} -> 1554 | K39: =VLOOKUP(F39, DVHC!$C:$E, 3, 0) -> 18 | L39: =B39&", "&C39&", "&D39&", "&E39&", "&F39 -> DNTN Toàn Ph¸t, Êp 3, x· VÜnh Phó §«ng, Phước Long, Bạc Liêu | M39: 94006715 | N39: 1054302383
A40: 151 | B40: DNTN §ång TiÕn | C40: Ấp Long Hậu | D40: Ph­íc Long | E40: Phước Long | F40: Bạc Liêu | G40: NM | H40: 2913864724 | I40: {=INDEX(DVHC!$E$778:$E$11831,MATCH(1,(D40=DVHC!$C$778:$C$11831)*(J40=DVHC!$H$778:$H$11831),0))} -> #N/A | J40: {=INDEX(DVHC!$E$65:$E$777,MATCH(1,(E40=DVHC!$C$65:$C$777)*(K40=DVHC!$H$65:$H$777),0))} -> 1554 | K40: =VLOOKUP(F40, DVHC!$C:$E, 3, 0) -> 18 | L40: =B40&", "&C40&", "&D40&", "&E40&", "&F40 -> DNTN §ång TiÕn, Ấp Long Hậu, Ph­íc Long, Phước Long, Bạc Liêu | M40: 9.4359613e+15 | N40: 1054627382
...

Sheet Ninh Bình (lỗi)
A1: STT | B1: Cơ sở | C1: Địa chỉ | D1: Phường/xã | E1: Quận/Huyện | F1: Tỉnh/Thành phố | G1: Loại hình | H1: Liên hệ | I1: ID Phường | J1: ID QH | K1: ID TP | L1: Địa chỉ lấy lat-long | M1: Latitude | N1: Longitude | O1: Username | P1: Password
A2: 91 | B2: Dự án ĐTXD cơ sở sản xuất kinh doanh hàng may mặc | C2: Xóm 2 | D2: Khánh Thuỷ | E2: Yên Khánh | F2: Ninh Bình | G2: Cơ sở | H2: 0913 217849 | I2: {=INDEX(DVHC!$E$778:$E$11831,MATCH(1,(D2=DVHC!$C$778:$C$11831)*(J2=DVHC!$H$778:$H$11831),0))} -> #N/A | J2: {=INDEX(DVHC!$E$65:$E$777,MATCH(1,(E2=DVHC!$C$65:$C$777)*(K2=DVHC!$H$65:$H$777),0))} -> 1844 | K2: =VLOOKUP(F2, DVHC!$C:$E, 3, 0) -> 52 | L2: =B2&", "&C2&", "&D2&", "&E2&", "&F2 -> Dự án ĐTXD cơ sở sản xuất kinh doanh hàng may mặc, Xóm 2, Khánh Thuỷ, Yên Khánh, Ninh Bình | M2: 201565318 | N2: 10612575

Sheet Lào Cai (lỗi)
A1: STT | B1: Tên doanh nghiệp | C1: Số nhà | D1: Xã/phường | E1: Quận/ | F1: Tỉnh/Thành phố | G1: Loại hình | H1: Liên hệ | I1: ID | J1: ID QH | K1: ID TP | L1: ĐIạ chỉ lấy lat-long
A2: 15 | B2: Công CP hóa chất Đức Giang | C2: Khu công nghiệp Tằng Loỏng | E2: Bảo Thắng | F2: Lào Cai | G2: Phốt pho, phân bón | H2: 2143774556 | I2: {=INDEX(DVHC!$E$778:$E$11831,MATCH(1,(D2=DVHC!$C$778:$C$11831)*(J2=DVHC!$H$778:$H$11831),0))} -> #N/A | J2: {=INDEX(DVHC!$E$65:$E$777,MATCH(1,(E2=DVHC!$C$65:$C$777)*(K2=DVHC!$H$65:$H$777),0))} -> 816 | K2: =VLOOKUP(F2, DVHC!$C:$E, 3, 0) -> 48 | L2: =B2&", "&C2&", "&D2&", "&E2&", "&F2 -> Công CP hóa chất Đức Giang, Khu công nghiệp Tằng Loỏng, , Bảo Thắng, Lào Cai | M2: 223330003 | N2: 104124819
A3: 16 | B3: Công ty CP rừng Lào Cai | C3: Số 370 Đường Nguyễn Huệ | D3: Lào Cai | F3: Lào Cai | G3: Gỗ các loại | H3: 989558266 | I3: {=INDEX(DVHC!$E$778:$E$11831,MATCH(1,(D3=DVHC!$C$778:$C$11831)*(J3=DVHC!$H$778:$H$11831),0))} -> #N/A | J3: {=INDEX(DVHC!$E$65:$E$777,MATCH(1,(E3=DVHC!$C$65:$C$777)*(K3=DVHC!$H$65:$H$777),0))} -> #N/A | K3: =VLOOKUP(F3, DVHC!$C:$E, 3, 0) -> 48 | L3: =B3&", "&C3&", "&D3&", "&E3&", "&F3 -> Công ty CP rừng Lào Cai, Số 370 Đường Nguyễn Huệ, Lào Cai, , Lào Cai | M3: 224892389 | N3: 1039791051
A4: 17 | B4: Công ty TNHH MTV Su pe lân APRO MACO Lào Cai | C4: Khu công nghiệp Tằng Loỏng | E4: Bảo Thắng | F4: Lào Cai | G4: Phân bón | H4: 2143867188 | I4: {=INDEX(DVHC!$E$778:$E$11831,MATCH(1,(D4=DVHC!$C$778:$C$11831)*(J4=DVHC!$H$778:$H$11831),0))} -> #N/A | J4: {=INDEX(DVHC!$E$65:$E$777,MATCH(1,(E4=DVHC!$C$65:$C$777)*(K4=DVHC!$H$65:$H$777),0))} -> 816 | K4: =VLOOKUP(F4, DVHC!$C:$E, 3, 0) -> 48 | L4: =B4&", "&C4&", "&D4&", "&E4&", "&F4 -> Công ty TNHH MTV Su pe lân APRO MACO Lào Cai, Khu công nghiệp Tằng Loỏng, , Bảo Thắng, Lào Cai | M4: 22291562 | N4: 1041492541
A5: 21 | B5: Công ty CP hoá chất Đức Giang | C5: Khu công nghiệp Tằng Loỏng | E5: Bảo Thắng | F5: Lào Cai | G5: Phốt pho vàng | H5: 02143.774.556 0974.030.753 | I5: {=INDEX(DVHC!$E$778:$E$11831,MATCH(1,(D5=DVHC!$C$778:$C$11831)*(J5=DVHC!$H$778:$H$11831),0))} -> #N/A | J5: {=INDEX(DVHC!$E$65:$E$777,MATCH(1,(E5=DVHC!$C$65:$C$777)*(K5=DVHC!$H$65:$H$777),0))} -> 816 | K5: =VLOOKUP(F5, DVHC!$C:$E, 3, 0) -> 48 | L5: =B5&", "&C5&", "&D5&", "&E5&", "&F5 -> Công ty CP hoá chất Đức Giang, Khu công nghiệp Tằng Loỏng, , Bảo Thắng, Lào Cai | M5: 223330003 | N5: 104124819
A6: 23 | B6: Công ty Cổ phần Nam Tiến Lào Cai | C6: Khu công nghiệp Tằng Loỏng | E6: Bảo Thắng | F6: Lào Cai | G6: Phốt pho vàng | H6: 21433820967 | I6: {=INDEX(DVHC!$E$778:$E$11831,MATCH(1,(D6=DVHC!$C$778:$C$11831)*(J6=DVHC!$H$778:$H$11831),0))} -> #N/A | J6: {=INDEX(DVHC!$E$65:$E$777,MATCH(1,(E6=DVHC!$C$65:$C$777)*(K6=DVHC!$H$65:$H$777),0))} -> 816 | K6: =VLOOKUP(F6, DVHC!$C:$E, 3, 0) -> 48 | L6: =B6&", "&C6&", "&D6&", "&E6&", "&F6 -> Công ty Cổ phần Nam Tiến Lào Cai, Khu công nghiệp Tằng Loỏng, , Bảo Thắng, Lào Cai | M6: 223330003 | N6: 104124819
A7: 28 | B7: Công ty TNHH VTXăng Dầu Quyết Thắng | C7: Thôn Làng Dạ | D7: Cam Đường | F7: Lào Cai | G7: Sản xuất gạch, thùng phi | H7: 2143752889 | I7: {=INDEX(DVHC!$E$778:$E$11831,MATCH(1,(D7=DVHC!$C$778:$C$11831)*(J7=DVHC!$H$778:$H$11831),0))} -> #N/A | J7: {=INDEX(DVHC!$E$65:$E$777,MATCH(1,(E7=DVHC!$C$65:$C$777)*(K7=DVHC!$H$65:$H$777),0))} -> #N/A | K7: =VLOOKUP(F7, DVHC!$C:$E, 3, 0) -> 48 | L7: =B7&", "&C7&", "&D7&", "&E7&", "&F7 -> Công ty TNHH VTXăng Dầu Quyết Thắng, Thôn Làng Dạ, Cam Đường, , Lào Cai | M7: 224016052 | N7: 1040246484
A8: 52 | B8: Công ty CP Linh Linh | C8: Số 6 - Tôn Đức Thắng - | E8: Đống Đa | F8: Hà Nội | G8: Sản xuất điện | H8: 0243 843 1753 | I8: {=INDEX(DVHC!$E$778:$E$11831,MATCH(1,(D8=DVHC!$C$778:$C$11831)*(J8=DVHC!$H$778:$H$11831),0))} -> #N/A | J8: {=INDEX(DVHC!$E$65:$E$777,MATCH(1,(E8=DVHC!$C$65:$C$777)*(K8=DVHC!$H$65:$H$777),0))} -> 2059 | K8: =VLOOKUP(F8, DVHC!$C:$E, 3, 0) -> 11 | L8: =B8&", "&C8&", "&D8&", "&E8&", "&F8 -> Công ty CP Linh Linh, Số 6 - Tôn Đức Thắng -, , Đống Đa, Hà Nội | M8: 210299697 | N8: 1058355037
A9: 58 | B9: Công ty CP NL Bắc Hà | C9: Tầng 2 - 19 Trúc Khê | E9: Đống Đa | F9: Hà Nội | G9: Sản xuất điện | H9: 0214 6294 668 | I9: {=INDEX(DVHC!$E$778:$E$11831,MATCH(1,(D9=DVHC!$C$778:$C$11831)*(J9=DVHC!$H$778:$H$11831),0))} -> #N/A | J9: {=INDEX(DVHC!$E$65:$E$777,MATCH(1,(E9=DVHC!$C$65:$C$777)*(K9=DVHC!$H$65:$H$777),0))} -> 2059 | K9: =VLOOKUP(F9, DVHC!$C:$E, 3, 0) -> 11 | L9: =B9&", "&C9&", "&D9&", "&E9&", "&F9 -> Công ty CP NL Bắc Hà, Tầng 2 - 19 Trúc Khê, , Đống Đa, Hà Nội | M9: 210157246 | N9: 1058082071
A10: 62 | B10: Công ty CP ĐTXD&PTNL Phúc Khánh | C10: Số 001 đường Nguyễn Huệ | D10: Phố Mới | F10: Lào Cai | G10: Sản xuất điện | H10: 02143 899 666 | I10: {=INDEX(DVHC!$E$778:$E$11831,MATCH(1,(D10=DVHC!$C$778:$C$11831)*(J10=DVHC!$H$778:$H$11831),0))} -> #N/A | J10: {=INDEX(DVHC!$E$65:$E$777,MATCH(1,(E10=DVHC!$C$65:$C$777)*(K10=DVHC!$H$65:$H$777),0))} -> #N/A | K10: =VLOOKUP(F10, DVHC!$C:$E, 3, 0) -> 48 | L10: =B10&", "&C10&", "&D10&", "&E10&", "&F10 -> Công ty CP ĐTXD&PTNL Phúc Khánh, Số 001 đường Nguyễn Huệ, Phố Mới, , Lào Cai | M10: 225001715 | N10: 1039718816
A11: 65 | B11: Công ty CPĐT&PTĐ Miền Bắc II (NEDI-2JSC) | C11: Số 64 B - Phan Đình Phùng | D11: Phố Mới | F11: Lào Cai | G11: Sản xuất điện | H11: 02143 501 540 | I11: {=INDEX(DVHC!$E$778:$E$11831,MATCH(1,(D11=DVHC!$C$778:$C$11831)*(J11=DVHC!$H$778:$H$11831),0))} -> #N/A | J11: {=INDEX(DVHC!$E$65:$E$777,MATCH(1,(E11=DVHC!$C$65:$C$777)*(K11=DVHC!$H$65:$H$777),0))} -> #N/A | K11: =VLOOKUP(F11, DVHC!$C:$E, 3, 0) -> 48 | L11: =B11&", "&C11&", "&D11&", "&E11&", "&F11 -> Công ty CPĐT&PTĐ Miền Bắc II (NEDI-2JSC), Số 64 B - Phan Đình Phùng, Phố Mới, , Lào Cai | M11: 224914692 | N11: 1039768034
A12: 71 | B12: Công ty CP Xây dựng và Thương mại 299 | C12: Thôn Nậm Lang B | D12: Suối Thầu | E12: Sa Pa | F12: Lào Cai | G12: Sản xuất điện | H12: 0243 576 5211 | I12: {=INDEX(DVHC!$E$778:$E$11831,MATCH(1,(D12=DVHC!$C$778:$C$11831)*(J12=DVHC!$H$778:$H$11831),0))} -> #N/A | J12: {=INDEX(DVHC!$E$65:$E$777,MATCH(1,(E12=DVHC!$C$65:$C$777)*(K12=DVHC!$H$65:$H$777),0))} -> 1840 | K12: =VLOOKUP(F12, DVHC!$C:$E, 3, 0) -> 48 | L12: =B12&", "&C12&", "&D12&", "&E12&", "&F12 -> Công ty CP Xây dựng và Thương mại 299, Thôn Nậm Lang B, Suối Thầu, Sa Pa, Lào Cai | M12: 222712667 | N12: 10404787

Sheet Phú Thọ(lỗi)
A1: STT | B1: Tên doanh nghiệp | C1: Số nhà | D1: Xã/phường | E1: Quận/ | F1: Tỉnh/Thành phố | G1: Loại hình | H1: Liên hệ | I1: ID | J1: ID QH | K1: ID TP | L1: ĐIạ chỉ lấy lat-long
A2: 857 | B2: CÔNG TY CỔ PHẦN GỐM XÂY DỰNG BA TRIỆU | C2: Khu 12 | D2: Vạn Xuân | E2: Tam Nông | F2: Phú Thọ | H2: 983144486 | I2: {=INDEX(DVHC!$E$778:$E$11831,MATCH(1,(D2=DVHC!$C$778:$C$11831)*(J2=DVHC!$H$778:$H$11831),0))} -> #N/A | J2: {=INDEX(DVHC!$E$65:$E$777,MATCH(1,(E2=DVHC!$C$65:$C$777)*(K2=DVHC!$H$65:$H$777),0))} -> 2358 | K2: =VLOOKUP(F2, DVHC!$C:$E, 3, 0) -> 54 | L2: =B2&", "&C2&", "&D2&", "&E2&", "&F2 -> CÔNG TY CỔ PHẦN GỐM XÂY DỰNG BA TRIỆU, Khu 12, Vạn Xuân, Tam Nông, Phú Thọ
A3: 857 | B3: CÔNG TY CỔ PHẦN GỐM XÂY DỰNG BA TRIỆU | C3: Khu 12 | D3: Vạn Xuân | E3: Tam Nông | F3: Phú Thọ | H3: 983144486 | I3: {=INDEX(DVHC!$E$778:$E$11831,MATCH(1,(D3=DVHC!$C$778:$C$11831)*(J3=DVHC!$H$778:$H$11831),0))} -> #N/A | J3: {=INDEX(DVHC!$E$65:$E$777,MATCH(1,(E3=DVHC!$C$65:$C$777)*(K3=DVHC!$H$65:$H$777),0))} -> 2358 | K3: =VLOOKUP(F3, DVHC!$C:$E, 3, 0) -> 54 | L3: =B3&", "&C3&", "&D3&", "&E3&", "&F3 -> CÔNG TY CỔ PHẦN GỐM XÂY DỰNG BA TRIỆU, Khu 12, Vạn Xuân, Tam Nông, Phú Thọ

Sheet Quảng Nam (lỗi)
A2: 247 | B2: Công ty TNHH CBTS Hải Thành Công Đại Lộc | C2: Đại An | E2: Đại Lộc | F2: Quảng Nam | G2: Nhà máy | H2: 0937 500 512 | I2: {=INDEX(DVHC!$E$778:$E$11831,MATCH(1,(D2=DVHC!$C$778:$C$11831)*(J2=DVHC!$H$778:$H$11831),0))} -> #N/A | J2: {=INDEX(DVHC!$E$65:$E$777,MATCH(1,(E2=DVHC!$C$65:$C$777)*(K2=DVHC!$H$65:$H$777),0))} -> 1849 | K2: =VLOOKUP(F2, DVHC!$C:$E, 3, 0) -> 57 | L2: =B2&", "&C2&", "&D2&", "&E2&", "&F2 -> Công ty TNHH CBTS Hải Thành Công Đại Lộc, Đại An, , Đại Lộc, Quảng Nam | M2: 159145632 | N2: 1081099558
A3: 292 | B3: Nhà hàng Tam Tam | C3: 110 Nguyễn Thái Học | E3: Hội An | F3: Quảng Nam | G3: CSSX | H3: 2353862212 | I3: {=INDEX(DVHC!$E$778:$E$11831,MATCH(1,(D3=DVHC!$C$778:$C$11831)*(J3=DVHC!$H$778:$H$11831),0))} -> #N/A | J3: {=INDEX(DVHC!$E$65:$E$777,MATCH(1,(E3=DVHC!$C$65:$C$777)*(K3=DVHC!$H$65:$H$777),0))} -> 313 | K3: =VLOOKUP(F3, DVHC!$C:$E, 3, 0) -> 57 | L3: =B3&", "&C3&", "&D3&", "&E3&", "&F3 -> Nhà hàng Tam Tam, 110 Nguyễn Thái Học, , Hội An, Quảng Nam | M3: 158766268 | N3: 1083275647
A4: 293 | B4: Nhà hàng Xưa Và Nay | C4: 15 Lê Lợi, | E4: Hội An | F4: Quảng Nam | G4: CSSX | H4: 0235 3910 599 | I4: {=INDEX(DVHC!$E$778:$E$11831,MATCH(1,(D4=DVHC!$C$778:$C$11831)*(J4=DVHC!$H$778:$H$11831),0))} -> #N/A | J4: {=INDEX(DVHC!$E$65:$E$777,MATCH(1,(E4=DVHC!$C$65:$C$777)*(K4=DVHC!$H$65:$H$777),0))} -> 313 | K4: =VLOOKUP(F4, DVHC!$C:$E, 3, 0) -> 57 | L4: =B4&", "&C4&", "&D4&", "&E4&", "&F4 -> Nhà hàng Xưa Và Nay, 15 Lê Lợi,, , Hội An, Quảng Nam | M4: 158768769 | N4: 1083287354

Sheet Gia Lai (lỗi)
A1: STT | B1: Tên doanh nghiệp | C1: Số nhà | D1: Xã, phường | E1: Quận/ | F1: Tỉnh/ | G1: Loại hình | H1: Liên hệ | I1: ID | J1: ID QH | K1: ID TP | L1: ĐIạ chỉ lấy lat-long | M1: Latitude | N1: Longitude
A2: 1 | B2: Nhà máy nước Đak Lốp | E2: Kbang | F2: Gia Lai | G2: NM | I2: {=INDEX(DVHC!$E$778:$E$11831,MATCH(1,(D2=DVHC!$C$778:$C$11831)*(J2=DVHC!$H$778:$H$11831),0))} -> #N/A | J2: {=INDEX(DVHC!$E$65:$E$777,MATCH(1,(E2=DVHC!$C$65:$C$777)*(K2=DVHC!$H$65:$H$777),0))} -> 2338 | K2: =VLOOKUP(F2, DVHC!$C:$E, 3, 0) -> 34 | L2: =B2&", "&C2&", "&D2&", "&E2&", "&F2 -> Nhà máy nước Đak Lốp, , , Kbang, Gia Lai | M2: 141455385 | N2: 1086024445
A3: 2 | B3: Nhà máy nước KBang | E3: Kbang | F3: Gia Lai | G3: NM | I3: {=INDEX(DVHC!$E$778:$E$11831,MATCH(1,(D3=DVHC!$C$778:$C$11831)*(J3=DVHC!$H$778:$H$11831),0))} -> #N/A | J3: {=INDEX(DVHC!$E$65:$E$777,MATCH(1,(E3=DVHC!$C$65:$C$777)*(K3=DVHC!$H$65:$H$777),0))} -> 2338 | K3: =VLOOKUP(F3, DVHC!$C:$E, 3, 0) -> 34 | L3: =B3&", "&C3&", "&D3&", "&E3&", "&F3 -> Nhà máy nước KBang, , , Kbang, Gia Lai | M3: 141433277 | N3: 1086001324
A4: 3 | B4: Nhà máy cấp nước sinh hoạt Kon Chro | E4: Kông Chro | F4: Gia Lai | G4: NM | I4: {=INDEX(DVHC!$E$778:$E$11831,MATCH(1,(D4=DVHC!$C$778:$C$11831)*(J4=DVHC!$H$778:$H$11831),0))} -> #N/A | J4: {=INDEX(DVHC!$E$65:$E$777,MATCH(1,(E4=DVHC!$C$65:$C$777)*(K4=DVHC!$H$65:$H$777),0))} -> 2594 | K4: =VLOOKUP(F4, DVHC!$C:$E, 3, 0) -> 34 | L4: =B4&", "&C4&", "&D4&", "&E4&", "&F4 -> Nhà máy cấp nước sinh hoạt Kon Chro, , , Kông Chro, Gia Lai | M4: 137751996 | N4: 1085258222
A5: 4 | B5: Nhà máy cấp nước sạch Chư Prông | E5: Chư Prông | F5: Gia Lai | G5: NM | I5: {=INDEX(DVHC!$E$778:$E$11831,MATCH(1,(D5=DVHC!$C$778:$C$11831)*(J5=DVHC!$H$778:$H$11831),0))} -> #N/A | J5: {=INDEX(DVHC!$E$65:$E$777,MATCH(1,(E5=DVHC!$C$65:$C$777)*(K5=DVHC!$H$65:$H$777),0))} -> 1314 | K5: =VLOOKUP(F5, DVHC!$C:$E, 3, 0) -> 34 | L5: =B5&", "&C5&", "&D5&", "&E5&", "&F5 -> Nhà máy cấp nước sạch Chư Prông, , , Chư Prông, Gia Lai | M5: 137567755 | N5: 1078975413
A6: 5 | B6: Nhà máy nước Ayun Pa | C6: 115 Hùng Vương | E6: AYun Pa | F6: Gia Lai | G6: NM | H6: 2693852450 | I6: {=INDEX(DVHC!$E$778:$E$11831,MATCH(1,(D6=DVHC!$C$778:$C$11831)*(J6=DVHC!$H$778:$H$11831),0))} -> #N/A | J6: {=INDEX(DVHC!$E$65:$E$777,MATCH(1,(E6=DVHC!$C$65:$C$777)*(K6=DVHC!$H$65:$H$777),0))} -> 802 | K6: =VLOOKUP(F6, DVHC!$C:$E, 3, 0) -> 34 | L6: =B6&", "&C6&", "&D6&", "&E6&", "&F6 -> Nhà máy nước Ayun Pa, 115 Hùng Vương, , AYun Pa, Gia Lai | M6: 134259656 | N6: 1084242665
A7: 6 | B7: NM Thuỷ điện Ayun Thượng 1A - Công ty CP Điện Gia Lai | E7: Mang Yang | F7: Gia Lai | G7: NM | H7: 2693823604 | I7: {=INDEX(DVHC!$E$778:$E$11831,MATCH(1,(D7=DVHC!$C$778:$C$11831)*(J7=DVHC!$H$778:$H$11831),0))} -> #N/A | J7: {=INDEX(DVHC!$E$65:$E$777,MATCH(1,(E7=DVHC!$C$65:$C$777)*(K7=DVHC!$H$65:$H$777),0))} -> 3106 | K7: =VLOOKUP(F7, DVHC!$C:$E, 3, 0) -> 34 | L7: =B7&", "&C7&", "&D7&", "&E7&", "&F7 -> NM Thuỷ điện Ayun Thượng 1A - Công ty CP Điện Gia Lai, , , Mang Yang, Gia Lai | M7: 138458359 | N7: 1081898896
A8: 7 | B8: NM thuỷ điện Đắk Srông 2A -Công ty TNHH Thủy điện Tây Nguyên | E8: Kông Chro | F8: Gia Lai | G8: NM | H8: 327890273 | I8: {=INDEX(DVHC!$E$778:$E$11831,MATCH(1,(D8=DVHC!$C$778:$C$11831)*(J8=DVHC!$H$778:$H$11831),0))} -> #N/A | J8: {=INDEX(DVHC!$E$65:$E$777,MATCH(1,(E8=DVHC!$C$65:$C$777)*(K8=DVHC!$H$65:$H$777),0))} -> 2594 | K8: =VLOOKUP(F8, DVHC!$C:$E, 3, 0) -> 34 | L8: =B8&", "&C8&", "&D8&", "&E8&", "&F8 -> NM thuỷ điện Đắk Srông 2A -Công ty TNHH Thủy điện Tây Nguyên, , , Kông Chro, Gia Lai | M8: 13776609 | N8: 108525539
