Workbook

Sheet Dtao va ra mat PA3
A1: Phụ lục 2.2 : DỰ TOÁN KINH PHÍ ĐÀO TẠO NGHIỆP VỤ KHUYẾN CÔNG CHO CTV GIAI ĐOẠN 2020- 2021 (PA2)
F3: Đơn vị tính: 1.000 đồng
A4: Số TT | B4: Nội dung | C4: Đơn vị tính | D4: Số lượng | E4: Đơn giá | F4: Thành tiền | G4: Ghi chú
A6: Tô chức đào tạo, tập huấn (65 đại biêu) | F6: =SUM(F7:F16) -> 56617 | G6: 04 lớp
A7: 1 | B7: Hội trường, âm thanh, ánh sáng, máy chiếu | C7: Ngày | D7: =2*2 -> 4 | E7: 3000 | F7: =E7*D7 -> 12000 | G7: Thực tế
A8: 2 | B8: Băng rôn | C8: Lớp | D8: =1*2 -> 2 | E8: 1000 | F8: =E8*D8 -> 2000 | G8: Thực tế
A9: 3 | B9: In ấn giáo trình tài liệu phục vụ lớp học | C9: Bộ | D9: ='dua toan ctv'!D30 -> 65 | E9: 50 | F9: =E9*D9 -> 3250 | G9: Thực tế
A10: 4 | B10: Chi thù lao giảng viên | C10: Ngày | D10: =2*2 -> 4 | E10: 2000 | F10: =E10*D10 -> 8000 | G10: TT số 36/2018/TT/BTC
A11: 5 | B11: Chi hỗ trợ một phần tiền ăn cho học viên | C11: Người | D11: =D9 -> 65 | E11: 50 | F11: =E11*D11 -> 3250 | G11: Thực tế
A12: 6 | B12: Nước uông cho đại biêu tham dự hội thảo | C12: Người | D12: =D11 -> 65 | E12: 30 | F12: =E12*D12 -> 1950 | G12: Thực tế
A13: 7 | B13: Tiên phụ câp lưu trú cho đại biểu tham dự tập huấn | C13: Người | D13: =D9 -> 65 | E13: 300 | F13: =E13*D13 -> 19500 | G13: QĐ 23/2018/QĐ-UBND
A14: 8 | B14: - Chi phí gửi thư | C14: Lớp | D14: =D9 -> 65 | E14: 8 | F14: =E14*D14 -> 520 | G14: Thực tế
A15: 9 | B15: - Chi phí điện thoại | C15: Lớp | D15: =1*2 -> 2 | E15: 500 | F15: =E15*D15 -> 1000 | G15: Thực tế
A16: 10 | B16: Chi quản lý lớp tập huấn (10%) | C16: Lớp | D16: =1*2 -> 2 | F16: =10%*SUM(F7:F15) -> 5147 | G16: TT số 36/2018/TT/BTC
A17: Bằng chữ: Năm mươi sáu triệu sáu trăm mười bảy ngàn đồng ./.
A19: Phụ lục 2.4 : DỰ TOÁN KINH PHÍ HỘI NGHỊ RA MẮT MẠNG LƯỚI CTV KHUYẾN CÔNG GIAI ĐOẠN 2020- 2021 (PA2)
F21: Đơn vị tính: 1.000 đồng
A22: Sô | B22: Nội dung | C22: Đơn vị tính | D22: Sô lượng | E22: Đơn giá | F22: Thành tiền | G22: Ghi chú
A23: TT
A24: Hội nghị ra mắt mạng lưới cộng tác viên khuyến công (80 đại biểu) | F24: =SUM(F25:F31) -> 33290
A25: 1 | B25: Hội trường, trang trí, máy chiêu | C25: Hội nghị | D25: 1 | E25: 6000 | F25: =E25*D25 -> 6000 | G25: Thực tế
A26: 2 | B26: Băng rôn | C26: Hội nghị | D26: 1 | E26: 1000 | F26: =E26*D26 -> 1000 | G26: Thực tế
A27: 3 | B27: Quà tặng công tác viên khuyên công (sổ, viết) | C27: Người | D27: =D9 -> 65 | E27: 100 | F27: =E27*D27 -> 6500 | G27: Thực tế
A28: 4 | B28: Chi tiền vé máy bay 02 đại biểu Cục Công Thương dự hội nghị (khứ hồi) | C28: Người | D28: 2 | E28: 6000 | F28: =E28*D28 -> 12000 | G28: Thực tế
A29: 5 | B29: Chi thuê xe đưa đón đại biểu | C29: Chuyến | D29: 2 | E29: 1500 | F29: =E29*D29 -> 3000 | G29: Thực tế
A30: 6 | B30: Chi nước uống đại biểu | C30: Người | D30: =D27+11+D28+10+5 -> 93 | E30: 30 | F30: =E30*D30 -> 2790
A31: 7 | B31: Chi thuê phòng nghĩ cho đại biểu | C31: Phòng | D31: 2 | E31: 1000 | F31: =E31*D31 -> 2000 | G31: QĐ 23/2018/QĐ-UBND
A32: Bằng chữ: Ba mươi ba triệu hai trăm chín mươi ngàn đồng./.
A34: Phụ lục 2.3 : DỰ TOÁN KINH PHÍ ĐÀO TẠO NGHIỆP VỤ KHUYẾN CÔNG CHO CTV GIAI ĐOẠN 2022- 2025 (PA2)
F36: Đơn vị tính: 1.000 đồng
A37: Sô | B37: Nội dung | C37: Đơn vị tính | D37: Sô | E37: Đơn | F37: Thành tiền | G37: Ghi chú
A38: TT | D38: lượng | E38: giá
A39: Tô chức đào tạo, tập huấn (156 đại biêu) | F39: =SUM(F40:F49) -> 125760.8 | G39: 04 lớp
A40: 1 | B40: Hội trường, âm thanh, ánh sáng, máy chiếu | C40: Ngày | D40: =2*4 -> 8 | E40: 3000 | F40: =E40*D40 -> 24000 | G40: Thực tế
A41: 2 | B41: Băng rôn | C41: Lớp | D41: =1*4 -> 4 | E41: 1000 | F41: =E41*D41 -> 4000 | G41: Thực tế
A42: 3 | B42: In ấn giáo trình tài liệu phục vụ lớp học | C42: Bộ | D42: ='dua toan ctv'!E30 -> 156 | E42: 50 | F42: =E42*D42 -> 7800 | G42: Thực tế
A43: 4 | B43: Chi thù lao giảng viên | C43: Ngày | D43: =2*4 -> 8 | E43: 2000 | F43: =E43*D43 -> 16000 | G43: TT số 36/2019/TT/BTC
A44: 5 | B44: Chi hỗ trợ một phần tiền ăn cho học viên | C44: Người | D44: =D42 -> 156 | E44: 50 | F44: =E44*D44 -> 7800 | G44: Thực tế
A45: 6 | B45: Nước uông cho đại biêu tham dự hội thảo | C45: Người | D45: =D42 -> 156 | E45: 30 | F45: =E45*D45 -> 4680 | G45: Thực tế
A46: 7 | B46: Tiên phụ câp lưu trú cho đại biểu tham dự tập huấn | C46: Người | D46: =D45 -> 156 | E46: 300 | F46: =E46*D46 -> 46800 | G46: QĐ 23/2018/QĐ-UBND
A47: 8 | B47: - Chi phí gửi thư | C47: Lớp | D47: =D42 -> 156 | E47: 8 | F47: =E47*D47 -> 1248 | G47: Thực tế
A48: 9 | B48: - Chi phí điện thoại | C48: Lớp | D48: =1*4 -> 4 | E48: 500 | F48: =E48*D48 -> 2000 | G48: Thực tế
A49: 10 | B49: Chi quản lý lớp tập huấn (10%) | C49: Lớp | D49: =1*4 -> 4 | F49: =10%*SUM(F40:F48) -> 11432.8 | G49: TT số 36/2018/TT/BTC
A50: Bằng chữ: Một trăm hai mươi lăm triệu, bảy trăm sáu mươi mốt ngàn đồng./.
A52: Phụ lục 3.5 : DỰ TOÁN KINH PHÍ HỘI NGHỊ RA MẮT MẠNG LƯỚI CTV KHUYẾN CÔNG GIAI ĐOẠN 2021- 2025 (PA3)
F54: Đơn vị tính: 1.000 đồng
A55: Sô | B55: Nội dung | C55: Đơn vị tính | D55: Sô lượng | E55: Đơn giá | F55: Thành tiền | G55: Ghi chú
A56: TT
A57: Hội nghị ra mắt mạng lưới cộng tác viên khuyến công (80 đại biểu) | F57: =SUM(F58:F64) -> 0
A58: 1 | B58: Hội trường, trang trí, máy chiêu | C58: Hội nghị | E58: 6000 | F58: =E58*D58 -> 0 | G58: Thực tế
A59: 2 | B59: Băng rôn | C59: Hội nghị | E59: 1000 | F59: =E59*D59 -> 0 | G59: Thực tế
A60: 3 | B60: Quà tặng công tác viên khuyên công (sổ, viết) | C60: Người | E60: 100 | F60: =E60*D60 -> 0 | G60: Thực tế
A61: 4 | B61: Chi tiền vé máy bay 02 đại biểu Cục Công Thương dự hội nghị (khứ hồi) | C61: Người | E61: 6000 | F61: =E61*D61 -> 0 | G61: Thực tế
A62: 5 | B62: Chi thuê xe đưa đón đại biểu | C62: Chuyến | E62: 1500 | F62: =E62*D62 -> 0 | G62: Thực tế
A63: 6 | B63: Chi nước uống đại biểu | C63: Người | E63: 30 | F63: =E63*D63 -> 0
A64: 7 | B64: Chi thuê phòng nghĩ cho đại biểu | C64: Phòng | E64: 1000 | F64: =E64*D64 -> 0 | G64: QĐ 23/2018/QĐ-UBND
A65: Bằng chữ: không đồng chẵn./.
A67: Phụ lục 2.5 : DỰ TOÁN KINH PHÍ HỘI NGHỊ RA MẮT MẠNG LƯỚI CTV KHUYẾN CÔNG GIAI ĐOẠN 2022- 2025 (PA2)
F69: Đơn vị tính: 1.000 đồng
A70: Sô | B70: Nội dung | C70: Đơn vị tính | D70: Sô lượng | E70: Đơn giá | F70: Thành tiền | G70: Ghi chú
A71: TT
A72: Hội nghị ra mắt mạng lưới cộng tác viên khuyến công (80 đại biểu) | F72: =SUM(F73:F79) -> 45120
A73: 1 | B73: Hội trường, trang trí, máy chiêu | C73: Hội nghị | D73: 1 | E73: 6000 | F73: =E73*D73 -> 6000 | G73: Thực tế
A74: 2 | B74: Băng rôn | C74: Hội nghị | D74: 1 | E74: 1000 | F74: =E74*D74 -> 1000 | G74: Thực tế
A75: 3 | B75: Quà tặng công tác viên khuyên công (sổ, viết) | C75: Người | D75: ='dua toan ctv'!E30 -> 156 | E75: 100 | F75: =E75*D75 -> 15600 | G75: Thực tế
A76: 4 | B76: Chi tiền vé máy bay 02 đại biểu Cục Công Thương dự hội nghị (khứ hồi) | C76: Người | D76: 2 | E76: 6000 | F76: =E76*D76 -> 12000 | G76: Thực tế
A77: 5 | B77: Chi thuê xe đưa đón đại biểu | C77: Chuyến | D77: 2 | E77: 1500 | F77: =E77*D77 -> 3000 | G77: Thực tế
A78: 6 | B78: Chi nước uống đại biểu | C78: Người | D78: =D75+11+D76+10+5 -> 184 | E78: 30 | F78: =E78*D78 -> 5520
A79: 7 | B79: Chi thuê phòng nghĩ cho đại biểu | C79: Phòng | D79: 2 | E79: 1000 | F79: =E79*D79 -> 2000 | G79: QĐ 23/2018/QĐ-UBND
A80: Bằng chữ: Bốn mươi lăm triệu, một trăm hai mươi ngàn đồng./.

Sheet dua toan ctv
A1: Phụ lục 2.1 : DỰ TOÁN THÙ LAO CỘNG TÁC VIÊN KHUYẾN CÔNG GIAI ĐOẠN 2020 -2025 (Phương án 2)
M3: Đơn vị tính: 1000 đồng
A4: STT | B4: Nội dung | C4: Cấp hoạt động | D4: Số lượng 2020 - 2021 | E4: Số lượng 2022 - 2025 | F4: Mức phụ cấp CTV/tháng | G4: Số tháng | N4: Tổng cộng
H5: 2020 | I5: 2021 | J5: 2022 | K5: 2023 | L5: 2024 | M5: 2025
A6: 1 | B6: TP. Biên Hòa | C6: Thành phố | D6: 1 | E6: 1 | F6: 1490 | G6: 12 | H6: =D6*F6*G6 -> 17880 | I6: =D6*F6*G6 -> 17880 | J6: =E6*F6*G6 -> 17880 | K6: =E6*F6*G6 -> 17880 | L6: =E6*F6*G6 -> 17880 | N6: =SUM(H6:M6) -> 89400
C7: xã | F7: 1490 | G7: 12 | H7: =D7*F7*G7 -> 0 | I7: =D7*F7*G7 -> 0 | J7: =E7*F7*G7 -> 0 | K7: =E7*F7*G7 -> 0 | L7: =E7*F7*G7 -> 0 | M7: =E7*F7*G7 -> 0 | N7: =SUM(H7:M7) -> 0
A8: 2 | B8: Thị xã Long Khánh | C8: Thị xã | D8: 1 | E8: 1 | F8: 1490 | G8: 12 | H8: =D8*F8*G8 -> 17880 | I8: =D8*F8*G8 -> 17880 | J8: =E8*F8*G8 -> 17880 | K8: =E8*F8*G8 -> 17880 | L8: =E8*F8*G8 -> 17880 | M8: =E8*F8*G8 -> 17880 | N8: =SUM(H8:M8) -> 107280
C9: xã | D9: 5 | E9: 15 | F9: 1490 | G9: 12 | H9: =D9*F9*G9 -> 89400 | I9: =D9*F9*G9 -> 89400 | J9: =E9*F9*G9 -> 268200 | K9: =E9*F9*G9 -> 268200 | L9: =E9*F9*G9 -> 268200 | M9: =E9*F9*G9 -> 268200 | N9: =SUM(H9:M9) -> 1251600
A10: 3 | B10: Huyện Trảng Bom | C10: Huyện | D10: 1 | E10: 1 | F10: 1490 | G10: 12 | H10: =D10*F10*G10 -> 17880 | I10: =D10*F10*G10 -> 17880 | J10: =E10*F10*G10 -> 17880 | K10: =E10*F10*G10 -> 17880 | L10: =E10*F10*G10 -> 17880 | M10: =E10*F10*G10 -> 17880 | N10: =SUM(H10:M10) -> 107280
C11: xã | D11: 6 | E11: 17 | F11: 1490 | G11: 12 | H11: =D11*F11*G11 -> 107280 | I11: =D11*F11*G11 -> 107280 | J11: =E11*F11*G11 -> 303960 | K11: =E11*F11*G11 -> 303960 | L11: =E11*F11*G11 -> 303960 | M11: =E11*F11*G11 -> 303960 | N11: =SUM(H11:M11) -> 1430400
A12: 4 | B12: Huyện Thống Nhất | C12: Huyện | D12: 1 | E12: 1 | F12: 1490 | G12: 12 | H12: =D12*F12*G12 -> 17880 | I12: =D12*F12*G12 -> 17880 | J12: =E12*F12*G12 -> 17880 | K12: =E12*F12*G12 -> 17880 | L12: =E12*F12*G12 -> 17880 | M12: =E12*F12*G12 -> 17880 | N12: =SUM(H12:M12) -> 107280
C13: xã | D13: 5 | E13: 10 | F13: 1490 | G13: 12 | H13: =D13*F13*G13 -> 89400 | I13: =D13*F13*G13 -> 89400 | J13: =E13*F13*G13 -> 178800 | K13: =E13*F13*G13 -> 178800 | L13: =E13*F13*G13 -> 178800 | M13: =E13*F13*G13 -> 178800 | N13: =SUM(H13:M13) -> 894000
A14: 5 | B14: Huyện Định Quán | C14: Huyện | D14: 1 | E14: 1 | F14: 1490 | G14: 12 | H14: =D14*F14*G14 -> 17880 | I14: =D14*F14*G14 -> 17880 | J14: =E14*F14*G14 -> 17880 | K14: =E14*F14*G14 -> 17880 | L14: =E14*F14*G14 -> 17880 | M14: =E14*F14*G14 -> 17880 | N14: =SUM(H14:M14) -> 107280
C15: xã | D15: 6 | E15: 14 | F15: 1490 | G15: 12 | H15: =D15*F15*G15 -> 107280 | I15: =D15*F15*G15 -> 107280 | J15: =E15*F15*G15 -> 250320 | K15: =E15*F15*G15 -> 250320 | L15: =E15*F15*G15 -> 250320 | M15: =E15*F15*G15 -> 250320 | N15: =SUM(H15:M15) -> 1215840
A16: 6 | B16: Huyện Tân Phú | C16: Huyện | D16: 1 | E16: 1 | F16: 1490 | G16: 12 | H16: =D16*F16*G16 -> 17880 | I16: =D16*F16*G16 -> 17880 | J16: =E16*F16*G16 -> 17880 | K16: =E16*F16*G16 -> 17880 | L16: =E16*F16*G16 -> 17880 | M16: =E16*F16*G16 -> 17880 | N16: =SUM(H16:M16) -> 107280
C17: xã | D17: 6 | E17: 18 | F17: 1490 | G17: 12 | H17: =D17*F17*G17 -> 107280 | I17: =D17*F17*G17 -> 107280 | J17: =E17*F17*G17 -> 321840 | K17: =E17*F17*G17 -> 321840 | L17: =E17*F17*G17 -> 321840 | M17: =E17*F17*G17 -> 321840 | N17: =SUM(H17:M17) -> 1501920
A18: 7 | B18: Huyện Vĩnh Cửu | C18: Huyện | D18: 1 | E18: 1 | F18: 1490 | G18: 12 | H18: =D18*F18*G18 -> 17880 | I18: =D18*F18*G18 -> 17880 | J18: =E18*F18*G18 -> 17880 | K18: =E18*F18*G18 -> 17880 | L18: =E18*F18*G18 -> 17880 | M18: =E18*F18*G18 -> 17880 | N18: =SUM(H18:M18) -> 107280
C19: xã | D19: 5 | E19: 12 | F19: 1490 | G19: 12 | H19: =D19*F19*G19 -> 89400 | I19: =D19*F19*G19 -> 89400 | J19: =E19*F19*G19 -> 214560 | K19: =E19*F19*G19 -> 214560 | L19: =E19*F19*G19 -> 214560 | M19: =E19*F19*G19 -> 214560 | N19: =SUM(H19:M19) -> 1037040
A20: 8 | B20: Huyện Nhơn Trạch | C20: Huyện | D20: 1 | E20: 1 | F20: 1490 | G20: 12 | H20: =D20*F20*G20 -> 17880 | I20: =D20*F20*G20 -> 17880 | J20: =E20*F20*G20 -> 17880 | K20: =E20*F20*G20 -> 17880 | L20: =E20*F20*G20 -> 17880 | M20: =E20*F20*G20 -> 17880 | N20: =SUM(H20:M20) -> 107280
C21: xã | D21: 5 | E21: 12 | F21: 1490 | G21: 12 | H21: =D21*F21*G21 -> 89400 | I21: =D21*F21*G21 -> 89400 | J21: =E21*F21*G21 -> 214560 | K21: =E21*F21*G21 -> 214560 | L21: =E21*F21*G21 -> 214560 | M21: =E21*F21*G21 -> 214560 | N21: =SUM(H21:M21) -> 1037040
A22: 9 | B22: Huyện Long Thành | C22: Huyện | D22: 1 | E22: 1 | F22: 1490 | G22: 12 | H22: =D22*F22*G22 -> 17880 | I22: =D22*F22*G22 -> 17880 | J22: =E22*F22*G22 -> 17880 | K22: =E22*F22*G22 -> 17880 | L22: =E22*F22*G22 -> 17880 | M22: =E22*F22*G22 -> 17880 | N22: =SUM(H22:M22) -> 107280
C23: xã | D23: 5 | E23: 19 | F23: 1490 | G23: 12 | H23: =D23*F23*G23 -> 89400 | I23: =D23*F23*G23 -> 89400 | J23: =E23*F23*G23 -> 339720 | K23: =E23*F23*G23 -> 339720 | L23: =E23*F23*G23 -> 339720 | M23: =E23*F23*G23 -> 339720 | N23: =SUM(H23:M23) -> 1537680
A24: 10 | B24: Huyện Xuân Lộc | C24: Huyện | D24: 1 | E24: 1 | F24: 1490 | G24: 12 | H24: =D24*F24*G24 -> 17880 | I24: =D24*F24*G24 -> 17880 | J24: =E24*F24*G24 -> 17880 | K24: =E24*F24*G24 -> 17880 | L24: =E24*F24*G24 -> 17880 | M24: =E24*F24*G24 -> 17880 | N24: =SUM(H24:M24) -> 107280
C25: xã | D25: 6 | E25: 15 | F25: 1490 | G25: 12 | H25: =D25*F25*G25 -> 107280 | I25: =D25*F25*G25 -> 107280 | J25: =E25*F25*G25 -> 268200 | K25: =E25*F25*G25 -> 268200 | L25: =E25*F25*G25 -> 268200 | M25: =E25*F25*G25 -> 268200 | N25: =SUM(H25:M25) -> 1287360
A26: 11 | B26: Huyện Cẩm Mỹ | C26: Huyện | D26: 1 | E26: 1 | F26: 1490 | G26: 12 | H26: =D26*F26*G26 -> 17880 | I26: =D26*F26*G26 -> 17880 | J26: =E26*F26*G26 -> 17880 | K26: =E26*F26*G26 -> 17880 | L26: =E26*F26*G26 -> 17880 | M26: =E26*F26*G26 -> 17880 | N26: =SUM(H26:M26) -> 107280
C27: xã | D27: 5 | E27: 13 | F27: 1490 | G27: 12 | H27: =D27*F27*G27 -> 89400 | I27: =D27*F27*G27 -> 89400 | J27: =E27*F27*G27 -> 232440 | K27: =E27*F27*G27 -> 232440 | L27: =E27*F27*G27 -> 232440 | M27: =E27*F27*G27 -> 232440 | N27: =SUM(H27:M27) -> 1108560
B28: CỘNG | C28: Huyện | D28: =D6+D8+D10+D12+D14+D16+D18+D20+D22+D24+D26 -> 11 | E28: =E6+E8+E10+E12+E14+E16+E18+E20+E22+E24+E26 -> 11 | H28: =H6+H8+H10+H12+H14+H16+H18+H20+H22+H24+H26 -> 196680 | I28: =I6+I8+I10+I12+I14+I16+I18+I20+I22+I24+I26 -> 196680 | J28: =J6+J8+J10+J12+J14+J16+J18+J20+J22+J24+J26 -> 196680 | K28: =K6+K8+K10+K12+K14+K16+K18+K20+K22+K24+K26 -> 196680 | L28: =L6+L8+L10+L12+L14+L16+L18+L20+L22+L24+L26 -> 196680 | M28: =M6+M8+M10+M12+M14+M16+M18+M20+M22+M24+M26 -> 178800 | N28: =SUM(H28:M28) -> 1162200
C29: xã | D29: =D7+D9+D11+D13+D15+D17+D19+D21+D23+D25+D27 -> 54 | E29: =E7+E9+E11+E13+E15+E17+E19+E21+E23+E25+E27 -> 145 | H29: =H7+H9+H11+H13+H15+H17+H19+H21+H23+H25+H27 -> 965520 | I29: =I7+I9+I11+I13+I15+I17+I19+I21+I23+I25+I27 -> 965520 | J29: =J7+J9+J11+J13+J15+J17+J19+J21+J23+J25+J27 -> 2592600 | K29: =K7+K9+K11+K13+K15+K17+K19+K21+K23+K25+K27 -> 2592600 | L29: =L7+L9+L11+L13+L15+L17+L19+L21+L23+L25+L27 -> 2592600 | M29: =M7+M9+M11+M13+M15+M17+M19+M21+M23+M25+M27 -> 2592600 | N29: =N7+N9+N11+N13+N15+N17+N19+N21+N23+N25+N27 -> 12301440
A30: TỔNG CỘNG | D30: =D29+D28 -> 65 | E30: =E29+E28 -> 156 | F30: =F29+F28 -> 0 | G30: =G29+G28 -> 0 | H30: =H29+H28 -> 1162200 | I30: =I29+I28 -> 1162200 | J30: =J29+J28 -> 2789280 | K30: =K29+K28 -> 2789280 | ... N30: =N29+N28 -> 13463640
A31: Bằng chữ: Mười ba tỷ, bốn trăm sáu mươi ba ngàn, sáu trăm bốn mươi đồng./.

Sheet DU TOAN DE AN
A1: Phụ lục 2: DỰ TOÁN KINH PHÍ ĐỀ ÁN THÀNH LẬP VÀ DUY TRÌ MẠNG LƯỚI CỘNG TÁC VIÊN KHUYẾN CÔNG GIAI ĐOẠN 2020 - 2025 (PA2)
M3: Đơn vị tính: 1000 đồng
A4: Số TT | B4: Nội dung | C4: Số lượng | E4: Hệ số | F4: Mức lương tối thiểu | G4: Tháng
H5: 2020 | I5: 2021 | J5: 2022 | K5: 2023 | L5: 2024 | M5: 2025 | N5: Tổng cộng
C6: 2020 - 2022 | D6: 2022-2025
A7: 1 | B7: Phụ cấp cộng tác viên | C7: ='dua toan ctv'!D30 -> 65 | D7: ='dua toan ctv'!E30 -> 156 | E7: 1 | F7: 1490 | G7: 12 | H7: =C7*G7*F7 -> 1162200 | I7: =C7*E7*F7*G7 -> 1162200 | J7: =D7*F7*G7 -> 2789280 | K7: =D7*G7*F7 -> 2789280 | L7: =D7*F7*G7 -> 2789280 | M7: =(D7-1)*F7*G7 -> 2771400 | N7: =SUM(H7:M7) -> 13463640
A8: 2 | B8: Kinh phí đào tạo | C8: =C7 -> 65 | D8: =D7 -> 156 | E8: - | F8: - | G8: - | H8: ='Dtao va ra mat PA3'!F6 -> 56617 | J8: ='Dtao va ra mat PA3'!F39 -> 125760.8 | K8: - | L8: - | M8: - | N8: =SUM(H8:M8) -> 182377.8
A9: 3 | B9: Hội nghị ra măt | C9: ='Dtao va ra mat PA3'!D30 -> 93 | D9: ='Dtao va ra mat PA3'!D78 -> 184 | E9: - | F9: - | G9: - | H9: ='Dtao va ra mat PA3'!F24 -> 33290 | J9: ='Dtao va ra mat PA3'!F72 -> 45120 | K9: - | L9: - | M9: - | N9: =SUM(H9:M9) -> 78410
A10: CỘNG | N10: =SUM(N7:N9) -> 13724428
A11: Bằng chữ: Mười ba tỷ, bảy trăm hai mươi bốn triệu, bốn trăm hai mươi tám ngàn đồng./.

Sheet Sheet1
