Workbook

Sheet Dtao va ra mat PA3
A1: Phụ lục 2.2 : DỰ TOÁN KINH PHÍ ĐÀO TẠO NGHIỆP VỤ KHUYẾN CÔNG CHO CTV GIAI ĐOẠN 2019- 2020 (PA2)
F3: Đơn vị tính: 1.000 đồng
A4: Số TT | B4: Nội dung | C4: Đơn vị tính | D4: Số lượng | E4: Đơn giá | F4: Thành tiền | G4: Ghi chú
A6: Tô chức đào tạo, tập huấn (162 đại biêu) | F6: =SUM(F7:F16) -> 128651.6 | G6: 04 lớp
A7: 1 | B7: Hội trường, âm thanh, ánh sáng, máy chiếu | C7: Ngày | D7: =2*4 -> 8 | E7: 3000 | F7: =E7*D7 -> 24000 | G7: Thực tế
A8: 2 | B8: Băng rôn | C8: Lớp | D8: =1*4 -> 4 | E8: 1000 | F8: =E8*D8 -> 4000 | G8: Thực tế
A9: 3 | B9: In ấn giáo trình tài liệu phục vụ lớp học | C9: Bộ | D9: 162 | E9: 50 | F9: =E9*D9 -> 8100 | G9: Thực tế
A10: 4 | B10: Chi thù lao giảng viên | C10: Ngày | D10: =2*4 -> 8 | E10: 2000 | F10: =E10*D10 -> 16000 | G10: TT số 36/2018/TT/BTC
A11: 5 | B11: Chi hỗ trợ một phần tiền ăn cho học viên | C11: Người | D11: =D9 -> 162 | E11: 50 | F11: =E11*D11 -> 8100 | G11: Thực tế
A12: 6 | B12: Nước uông cho đại biêu tham dự hội thảo | C12: Người | D12: =D11 -> 162 | E12: 30 | F12: =E12*D12 -> 4860 | G12: Thực tế
A13: 7 | B13: Tiên phụ câp lưu trú cho đại biểu tham dự tập huấn | C13: Người | D13: =D9 -> 162 | E13: 300 | F13: =E13*D13 -> 48600 | G13: QĐ 23/2018/QĐ-UBND
A14: 8 | B14: - Chi phí gửi thư | C14: Lớp | D14: =D9 -> 162 | E14: 8 | F14: =E14*D14 -> 1296 | G14: Thực tế
A15: 9 | B15: - Chi phí điện thoại | C15: Lớp | D15: =1*4 -> 4 | E15: 500 | F15: =E15*D15 -> 2000 | G15: Thực tế
A16: 10 | B16: Chi quản lý lớp tập huấn (10%) | C16: Lớp | D16: =1*4 -> 4 | F16: =10%*SUM(F7:F15) -> 11695.6 | G16: TT số 36/2018/TT/BTC
A17: Bằng chữ: Một trăm hai mươi tám triệu, sáu trăm năm mươi hai ngàn đồng./.
A19: Phụ lục 2.4 : DỰ TOÁN KINH PHÍ HỘI NGHỊ RA MẮT MẠNG LƯỚI CTV KHUYẾN CÔNG GIAI ĐOẠN 2019- 2025 (PA2)
F21: Đơn vị tính: 1.000 đồng
A22: Sô | B22: Nội dung | C22: Đơn vị tính | D22: Sô lượng | E22: Đơn giá | F22: Thành tiền | G22: Ghi chú
A23: TT
A24: Hội nghị ra mắt mạng lưới cộng tác viên khuyến công (80 đại biểu) | F24: =SUM(F25:F31) -> 45900
A25: 1 | B25: Hội trường, trang trí, máy chiêu | C25: Hội nghị | D25: 1 | E25: 6000 | F25: =E25*D25 -> 6000 | G25: Thực tế
A26: 2 | B26: Băng rôn | C26: Hội nghị | D26: 1 | E26: 1000 | F26: =E26*D26 -> 1000 | G26: Thực tế
A27: 3 | B27: Quà tặng công tác viên khuyên công (sổ, viết) | C27: Người | D27: =D9 -> 162 | E27: 100 | F27: =E27*D27 -> 16200 | G27: Thực tế
A28: 4 | B28: Chi tiền vé máy bay 02 đại biểu Cục Công Thương dự hội nghị (khứ hồi) | C28: Người | D28: 2 | E28: 6000 | F28: =E28*D28 -> 12000 | G28: Thực tế
A29: 5 | B29: Chi thuê xe đưa đón đại biểu | C29: Chuyến | D29: 2 | E29: 1500 | F29: =E29*D29 -> 3000 | G29: Thực tế
A30: 6 | B30: Chi nước uống đại biểu | C30: Người | D30: =D27+11+D28+10+5 -> 190 | E30: 30 | F30: =E30*D30 -> 5700
A31: 7 | B31: Chi thuê phòng nghĩ cho đại biểu | C31: Phòng | D31: 2 | E31: 1000 | F31: =E31*D31 -> 2000 | G31: QĐ 23/2018/QĐ-UBND
A32: Bằng chữ: Bốn mươi lăm triệu chín trăm ngàn đồng./.
A34: Phụ lục 2.3 : DỰ TOÁN KINH PHÍ ĐÀO TẠO NGHIỆP VỤ KHUYẾN CÔNG CHO CTV GIAI ĐOẠN 2021- 2025 (PA2)
F36: Đơn vị tính: 1.000 đồng
A37: Sô | B37: Nội dung | C37: Đơn vị tính | D37: Sô | E37: Đơn | F37: Thành tiền | G37: Ghi chú
A38: TT | D38: lượng | E38: giá
A39: Tô chức đào tạo, tập huấn (162 đại biêu) | F39: =SUM(F40:F49) -> 128651.6 | G39: 04 lớp
A40: 1 | B40: Hội trường, âm thanh, ánh sáng, máy chiếu | C40: Ngày | D40: =2*4 -> 8 | E40: 3000 | F40: =E40*D40 -> 24000 | G40: Thực tế
A41: 2 | B41: Băng rôn | C41: Lớp | D41: =1*4 -> 4 | E41: 1000 | F41: =E41*D41 -> 4000 | G41: Thực tế
A42: 3 | B42: In ấn giáo trình tài liệu phục vụ lớp học | C42: Bộ | D42: ='dua toan ctv'!E29+'dua toan ctv'!E28 -> 162 | E42: 50 | F42: =E42*D42 -> 8100 | G42: Thực tế
A43: 4 | B43: Chi thù lao giảng viên | C43: Ngày | D43: =2*4 -> 8 | E43: 2000 | F43: =E43*D43 -> 16000 | G43: TT số 36/2019/TT/BTC
A44: 5 | B44: Chi hỗ trợ một phần tiền ăn cho học viên | C44: Người | D44: =D42 -> 162 | E44: 50 | F44: =E44*D44 -> 8100 | G44: Thực tế
A45: 6 | B45: Nước uông cho đại biêu tham dự hội thảo | C45: Người | D45: =D42 -> 162 | E45: 30 | F45: =E45*D45 -> 4860 | G45: Thực tế
A46: 7 | B46: Tiên phụ câp lưu trú cho đại biểu tham dự tập huấn | C46: Người | D46: =D45 -> 162 | E46: 300 | F46: =E46*D46 -> 48600 | G46: QĐ 23/2018/QĐ-UBND
...

Sheet dua toan ctv
A1: Phụ lục 2.1 : DỰ TOÁN THÙ LAO CỘNG TÁC VIÊN KHUYẾN CÔNG GIAI ĐOẠN 2019 -2025 (Phương án 2)
N3: Đơn vị tính: 1000 đồng
A4: STT | B4: Nội dung | C4: Cấp hoạt động | D4: Số lượng 2019 - 2020 | E4: Số lượng 2021 - 2025 | F4: Mức phụ cấp CTV/tháng | G4: Số tháng | H4: Năm | O4: Tổng cộng
H5: 2019 | I5: 2020 | J5: 2021 | K5: 2022 | L5: 2023 | M5: 2024 | N5: 2025
A6: 1 | B6: TP. Biên Hòa | C6: Thành phố | D6: 1 | E6: 1 | F6: 1390 | G6: 12 | H6: =D6*F6*4 -> 5560 | I6: =D6*F6*G6 -> 16680 | J6: =E6*F6*G6 -> 16680 | K6: =E6*F6*G6 -> 16680 | L6: =E6*F6*G6 -> 16680 | M6: =E6*F6*G6 -> 16680 | N6: =E6*F6*G6 -> 16680 | O6: =SUM(H6:N6) -> 105640
C7: xã | D7: 6 | E7: 6 | F7: 1390 | G7: 12 | H7: =D7*F7*4 -> 33360 | I7: =D7*F7*G7 -> 100080 | J7: =E7*F7*G7 -> 100080 | K7: =E7*F7*G7 -> 100080 | L7: =E7*F7*G7 -> 100080 | M7: =E7*F7*G7 -> 100080 | N7: =E7*F7*G7 -> 100080 | O7: =SUM(H7:N7) -> 633840
A8: 2 | B8: Thị xã Long Khánh | C8: Thị xã | D8: 1 | E8: 1 | F8: 1390 | G8: 12 | H8: =D8*F8*4 -> 5560 | I8: =D8*F8*G8 -> 16680 | J8: =E8*F8*G8 -> 16680 | K8: =E8*F8*G8 -> 16680 | L8: =E8*F8*G8 -> 16680 | M8: =E8*F8*G8 -> 16680 | N8: =E8*F8*G8 -> 16680 | O8: =SUM(H8:N8) -> 105640
C9: xã | D9: 15 | E9: 15 | F9: 1390 | G9: 12 | H9: =D9*F9*4 -> 83400 | I9: =D9*F9*G9 -> 250200 | J9: =E9*F9*G9 -> 250200 | K9: =E9*F9*G9 -> 250200 | L9: =E9*F9*G9 -> 250200 | M9: =E9*F9*G9 -> 250200 | N9: =E9*F9*G9 -> 250200 | O9: =SUM(H9:N9) -> 1584600
A10: 3 | B10: Huyện Trảng Bom | C10: Huyện | D10: 1 | E10: 1 | F10: 1390 | G10: 12 | H10: =D10*F10*4 -> 5560 | I10: =D10*F10*G10 -> 16680 | J10: =E10*F10*G10 -> 16680 | K10: =E10*F10*G10 -> 16680 | L10: =E10*F10*G10 -> 16680 | M10: =E10*F10*G10 -> 16680 | N10: =E10*F10*G10 -> 16680 | O10: =SUM(H10:N10) -> 105640
C11: xã | D11: 17 | E11: 17 | F11: 1390 | G11: 12 | H11: =D11*F11*4 -> 94520 | I11: =D11*F11*G11 -> 283560 | J11: =E11*F11*G11 -> 283560 | K11: =E11*F11*G11 -> 283560 | L11: =E11*F11*G11 -> 283560 | M11: =E11*F11*G11 -> 283560 | N11: =E11*F11*G11 -> 283560 | O11: =SUM(H11:N11) -> 1795880
A12: 4 | B12: Huyện Thống Nhất | C12: Huyện | D12: 1 | E12: 1 | F12: 1390 | G12: 12 | H12: =D12*F12*4 -> 5560 | I12: =D12*F12*G12 -> 16680 | J12: =E12*F12*G12 -> 16680 | K12: =E12*F12*G12 -> 16680 | L12: =E12*F12*G12 -> 16680 | M12: =E12*F12*G12 -> 16680 | N12: =E12*F12*G12 -> 16680 | O12: =SUM(H12:N12) -> 105640
C13: xã | D13: 10 | E13: 10 | F13: 1390 | G13: 12 | H13: =D13*F13*4 -> 55600 | I13: =D13*F13*G13 -> 166800 | J13: =E13*F13*G13 -> 166800 | K13: =E13*F13*G13 -> 166800 | L13: =E13*F13*G13 -> 166800 | M13: =E13*F13*G13 -> 166800 | N13: =E13*F13*G13 -> 166800 | O13: =SUM(H13:N13) -> 1056400
A14: 5 | B14: Huyện Định Quán | C14: Huyện | D14: 1 | E14: 1 | F14: 1390 | G14: 12 | H14: =D14*F14*4 -> 5560 | I14: =D14*F14*G14 -> 16680 | J14: =E14*F14*G14 -> 16680 | K14: =E14*F14*G14 -> 16680 | L14: =E14*F14*G14 -> 16680 | M14: =E14*F14*G14 -> 16680 | N14: =E14*F14*G14 -> 16680 | O14: =SUM(H14:N14) -> 105640
C15: xã | D15: 14 | E15: 14 | F15: 1390 | G15: 12 | H15: =D15*F15*4 -> 77840 | I15: =D15*F15*G15 -> 233520 | J15: =E15*F15*G15 -> 233520 | K15: =E15*F15*G15 -> 233520 | L15: =E15*F15*G15 -> 233520 | M15: =E15*F15*G15 -> 233520 | N15: =E15*F15*G15 -> 233520 | O15: =SUM(H15:N15) -> 1478960
A16: 6 | B16: Huyện Tân Phú | C16: Huyện | D16: 1 | E16: 1 | F16: 1390 | G16: 12 | H16: =D16*F16*4 -> 5560 | I16: =D16*F16*G16 -> 16680 | J16: =E16*F16*G16 -> 16680 | K16: =E16*F16*G16 -> 16680 | L16: =E16*F16*G16 -> 16680 | M16: =E16*F16*G16 -> 16680 | N16: =E16*F16*G16 -> 16680 | O16: =SUM(H16:N16) -> 105640
C17: xã | D17: 18 | E17: 18 | F17: 1390 | G17: 12 | H17: =D17*F17*4 -> 100080 | I17: =D17*F17*G17 -> 300240 | J17: =E17*F17*G17 -> 300240 | K17: =E17*F17*G17 -> 300240 | L17: =E17*F17*G17 -> 300240 | M17: =E17*F17*G17 -> 300240 | N17: =E17*F17*G17 -> 300240 | O17: =SUM(H17:N17) -> 1901520
A18: 7 | B18: Huyện Vĩnh Cửu | C18: Huyện | D18: 1 | E18: 1 | F18: 1390 | G18: 12 | H18: =D18*F18*4 -> 5560 | I18: =D18*F18*G18 -> 16680 | J18: =E18*F18*G18 -> 16680 | K18: =E18*F18*G18 -> 16680 | L18: =E18*F18*G18 -> 16680 | M18: =E18*F18*G18 -> 16680 | N18: =E18*F18*G18 -> 16680 | O18: =SUM(H18:N18) -> 105640
C19: xã | D19: 12 | E19: 12 | F19: 1390 | G19: 12 | H19: =D19*F19*4 -> 66720 | I19: =D19*F19*G19 -> 200160 | J19: =E19*F19*G19 -> 200160 | K19: =E19*F19*G19 -> 200160 | L19: =E19*F19*G19 -> 200160 | M19: =E19*F19*G19 -> 200160 | N19: =E19*F19*G19 -> 200160 | O19: =SUM(H19:N19) -> 1267680
A20: 8 | B20: Huyện Nhơn Trạch | C20: Huyện | D20: 1 | E20: 1 | F20: 1390 | G20: 12 | H20: =D20*F20*4 -> 5560 | I20: =D20*F20*G20 -> 16680 | J20: =E20*F20*G20 -> 16680 | K20: =E20*F20*G20 -> 16680 | L20: =E20*F20*G20 -> 16680 | M20: =E20*F20*G20 -> 16680 | N20: =E20*F20*G20 -> 16680 | O20: =SUM(H20:N20) -> 105640
C21: xã | D21: 12 | E21: 12 | F21: 1390 | G21: 12 | H21: =D21*F21*4 -> 66720 | I21: =D21*F21*G21 -> 200160 | J21: =E21*F21*G21 -> 200160 | K21: =E21*F21*G21 -> 200160 | L21: =E21*F21*G21 -> 200160 | M21: =E21*F21*G21 -> 200160 | N21: =E21*F21*G21 -> 200160 | O21: =SUM(H21:N21) -> 1267680
A22: 9 | B22: Huyện Long Thành | C22: Huyện | D22: 1 | E22: 1 | F22: 1390 | G22: 12 | H22: =D22*F22*4 -> 5560 | I22: =D22*F22*G22 -> 16680 | J22: =E22*F22*G22 -> 16680 | K22: =E22*F22*G22 -> 16680 | L22: =E22*F22*G22 -> 16680 | M22: =E22*F22*G22 -> 16680 | N22: =E22*F22*G22 -> 16680 | O22: =SUM(H22:N22) -> 105640
C23: xã | D23: 19 | E23: 19 | F23: 1390 | G23: 12 | H23: =D23*F23*4 -> 105640 | I23: =D23*F23*G23 -> 316920 | J23: =E23*F23*G23 -> 316920 | K23: =E23*F23*G23 -> 316920 | L23: =E23*F23*G23 -> 316920 | M23: =E23*F23*G23 -> 316920 | N23: =E23*F23*G23 -> 316920 | O23: =SUM(H23:N23) -> 2007160
A24: 10 | B24: Huyện Xuân Lộc | C24: Huyện | D24: 1 | E24: 1 | F24: 1390 | G24: 12 | H24: =D24*F24*4 -> 5560 | I24: =D24*F24*G24 -> 16680 | J24: =E24*F24*G24 -> 16680 | K24: =E24*F24*G24 -> 16680 | L24: =E24*F24*G24 -> 16680 | M24: =E24*F24*G24 -> 16680 | N24: =E24*F24*G24 -> 16680 | O24: =SUM(H24:N24) -> 105640
C25: xã | D25: 15 | E25: 15 | F25: 1390 | G25: 12 | H25: =D25*F25*4 -> 83400 | I25: =D25*F25*G25 -> 250200 | J25: =E25*F25*G25 -> 250200 | K25: =E25*F25*G25 -> 250200 | L25: =E25*F25*G25 -> 250200 | M25: =E25*F25*G25 -> 250200 | N25: =E25*F25*G25 -> 250200 | O25: =SUM(H25:N25) -> 1584600
A26: 11 | B26: Huyện Cẩm Mỹ | C26: Huyện | D26: 1 | E26: 1 | F26: 1390 | G26: 12 | H26: =D26*F26*4 -> 5560 | I26: =D26*F26*G26 -> 16680 | J26: =E26*F26*G26 -> 16680 | K26: =E26*F26*G26 -> 16680 | L26: =E26*F26*G26 -> 16680 | M26: =E26*F26*G26 -> 16680 | N26: =E26*F26*G26 -> 16680 | O26: =SUM(H26:N26) -> 105640
C27: xã | D27: 13 | E27: 13 | F27: 1390 | G27: 12 | H27: =D27*F27*4 -> 72280 | I27: =D27*F27*G27 -> 216840 | J27: =E27*F27*G27 -> 216840 | K27: =E27*F27*G27 -> 216840 | L27: =E27*F27*G27 -> 216840 | M27: =E27*F27*G27 -> 216840 | N27: =E27*F27*G27 -> 216840 | O27: =SUM(H27:N27) -> 1373320
B28: CỘNG | C28: Huyện | D28: =D6+D8+D10+D12+D14+D16+D18+D20+D22+D24+D26 -> 11 | E28: =E6+E8+E10+E12+E14+E16+E18+E20+E22+E24+E26 -> 11 | H28: =H6+H8+H10+H12+H14+H16+H18+H20+H22+H24+H26 -> 61160 | I28: =I6+I8+I10+I12+I14+I16+I18+I20+I22+I24+I26 -> 183480 | J28: =J6+J8+J10+J12+J14+J16+J18+J20+J22+J24+J26 -> 183480 | K28: =K6+K8+K10+K12+K14+K16+K18+K20+K22+K24+K26 -> 183480 | L28: =L6+L8+L10+L12+L14+L16+L18+L20+L22+L24+L26 -> 183480 | M28: =M6+M8+M10+M12+M14+M16+M18+M20+M22+M24+M26 -> 183480 | N28: =N6+N8+N10+N12+N14+N16+N18+N20+N22+N24+N26 -> 183480 | O28: =SUM(H28:N28) -> 1162040
C29: xã | D29: =D7+D9+D11+D13+D15+D17+D19+D21+D23+D25+D27 -> 151 | E29: =E7+E9+E11+E13+E15+E17+E19+E21+E23+E25+E27 -> 151 | H29: =H7+H9+H11+H13+H15+H17+H19+H21+H23+H25+H27 -> 839560 | I29: =I7+I9+I11+I13+I15+I17+I19+I21+I23+I25+I27 -> 2518680 | J29: =J7+J9+J11+J13+J15+J17+J19+J21+J23+J25+J27 -> 2518680 | K29: =K7+K9+K11+K13+K15+K17+K19+K21+K23+K25+K27 -> 2518680 | L29: =L7+L9+L11+L13+L15+L17+L19+L21+L23+L25+L27 -> 2518680 | M29: =M7+M9+M11+M13+M15+M17+M19+M21+M23+M25+M27 -> 2518680 | N29: =N7+N9+N11+N13+N15+N17+N19+N21+N23+N25+N27 -> 2518680 | O29: =O7+O9+O11+O13+O15+O17+O19+O21+O23+O25+O27 -> 15951640
A30: TỔNG CỘNG | D30: =D29+D28 -> 162 | E30: =E29+E28 -> 162 | F30: =F29+F28 -> 0 | G30: =G29+G28 -> 0 | H30: =H29+H28 -> 900720 | I30: =I29+I28 -> 2702160 | J30: =J29+J28 -> 2702160 | K30: =K29+K28 -> 2702160 | ... O30: =O29+O28 -> 17113680
A31: Bằng chữ: Mười bảy tỷ một trăm mười ba triệu sáu trăm tám mươi ngàn đồng./.

Sheet DU TOAN DE AN
A1: Phụ lục 2: DỰ TOÁN KINH PHÍ ĐỀ ÁN THÀNH LẬP VÀ DUY TRÌ MẠNG LƯỚI CỘNG TÁC VIÊN KHUYẾN CÔNG GIAI ĐOẠN 2019 - 2025 (PA2)
N3: Đơn vị tính: 1000 đồng
A4: Số TT | B4: Nội dung | C4: Số lượng | E4: Hệ số | F4: Mức lương tối thiểu | G4: Tháng | H4: Năm
H5: 2019 | I5: 2020 | J5: 2021 | K5: 2022 | L5: 2023 | M5: 2024 | N5: 2025 | O5: Tổng cộng
C6: 2019 - 2020 | D6: 2021-2025
A7: 1 | B7: Phụ cấp cộng tác viên | C7: ='Dtao va ra mat PA3'!D9 -> 162 | D7: ='dua toan ctv'!E29+'dua toan ctv'!E28 -> 162 | E7: 1 | F7: 1390 | G7: 12 | H7: =C7*4*F7 -> 900720 | I7: =C7*G7*F7 -> 2702160 | J7: =D7*F7*G7 -> 2702160 | K7: =D7*F7*G7 -> 2702160 | L7: =D7*G7*F7 -> 2702160 | M7: =D7*F7*G7 -> 2702160 | N7: =D7*F7*G7 -> 2702160 | O7: =SUM(H7:N7) -> 17113680
A8: 2 | B8: Kinh phí đào tạo | C8: =C7 -> 162 | D8: =D7 -> 162 | E8: - | F8: - | G8: - | H8: ='Dtao va ra mat PA3'!F6 -> 128651.6 | K8: ='Dtao va ra mat PA3'!F39 -> 128651.6 | L8: - | M8: - | N8: - | O8: =SUM(H8:N8) -> 257303.2
A9: 3 | B9: Hội nghị ra măt | C9: ='Dtao va ra mat PA3'!D30 -> 190 | D9: ='Dtao va ra mat PA3'!D63 -> 0 | E9: - | F9: - | G9: - | H9: ='Dtao va ra mat PA3'!F24 -> 45900 | K9: ='Dtao va ra mat PA3'!F57 -> 0 | L9: - | M9: - | N9: - | O9: =SUM(H9:N9) -> 45900
A10: CỘNG | O10: =SUM(O7:O9) -> 17416883
A11: Bằng chữ: Mười bảy tỷ bốn trăm mười sáu triệu tám trăm tám mươi ba ngàn đồng./.

Sheet Sheet1
